BEGIN:VCALENDAR
VERSION:2.0
PRODID:-//Ocean City NJ - ECPv6.15.14//NONSGML v1.0//EN
CALSCALE:GREGORIAN
METHOD:PUBLISH
X-ORIGINAL-URL:https://oceancityvacation.com
X-WR-CALDESC:Events for Ocean City NJ
REFRESH-INTERVAL;VALUE=DURATION:PT1H
X-Robots-Tag:noindex
X-PUBLISHED-TTL:PT1H
BEGIN:VTIMEZONE
TZID:America/New_York
BEGIN:DAYLIGHT
TZOFFSETFROM:-0500
TZOFFSETTO:-0400
TZNAME:EDT
DTSTART:20250309T070000
END:DAYLIGHT
BEGIN:STANDARD
TZOFFSETFROM:-0400
TZOFFSETTO:-0500
TZNAME:EST
DTSTART:20251102T060000
END:STANDARD
BEGIN:DAYLIGHT
TZOFFSETFROM:-0500
TZOFFSETTO:-0400
TZNAME:EDT
DTSTART:20260308T070000
END:DAYLIGHT
BEGIN:STANDARD
TZOFFSETFROM:-0400
TZOFFSETTO:-0500
TZNAME:EST
DTSTART:20261101T060000
END:STANDARD
BEGIN:DAYLIGHT
TZOFFSETFROM:-0500
TZOFFSETTO:-0400
TZNAME:EDT
DTSTART:20270314T070000
END:DAYLIGHT
BEGIN:STANDARD
TZOFFSETFROM:-0400
TZOFFSETTO:-0500
TZNAME:EST
DTSTART:20271107T060000
END:STANDARD
END:VTIMEZONE
BEGIN:VEVENT
DTSTART;TZID=America/New_York:20260525T110000
DTEND;TZID=America/New_York:20260525T120000
DTSTAMP:20260422T024855
CREATED:20251030T183306Z
LAST-MODIFIED:20251030T183306Z
UID:10001603-1779706800-1779710400@oceancityvacation.com
SUMMARY:Memorial Day Service
DESCRIPTION:Memorial Day Service 11:00 a.m. at Veteran’s Memorial Park\, between 5th Street and 6th Street on Wesley Avenue.
URL:https://oceancityvacation.com/events-calendar/memorial-day-service-4/
LOCATION:Veteran’s Memorial Park\, 5th and Wesley Avenue\, Ocean City\, NJ\, 08226\, United States
CATEGORIES:Events Calendar
ATTACH;FMTTYPE=image/jpeg:https://oceancityvacation.com/wp-content/uploads/2025/10/day-of-service.jpg
GEO:39.2605279;-74.5982651
X-APPLE-STRUCTURED-LOCATION;VALUE=URI;X-ADDRESS=Veteran’s Memorial Park 5th and Wesley Avenue Ocean City NJ 08226 United States;X-APPLE-RADIUS=500;X-TITLE=5th and Wesley Avenue:geo:-74.5982651,39.2605279
END:VEVENT
END:VCALENDAR