BEGIN:VCALENDAR
VERSION:2.0
PRODID:-//Ocean City NJ - ECPv6.15.14//NONSGML v1.0//EN
CALSCALE:GREGORIAN
METHOD:PUBLISH
X-WR-CALNAME:Ocean City NJ
X-ORIGINAL-URL:https://oceancityvacation.com
X-WR-CALDESC:Events for Ocean City NJ
REFRESH-INTERVAL;VALUE=DURATION:PT1H
X-Robots-Tag:noindex
X-PUBLISHED-TTL:PT1H
BEGIN:VTIMEZONE
TZID:America/New_York
BEGIN:DAYLIGHT
TZOFFSETFROM:-0500
TZOFFSETTO:-0400
TZNAME:EDT
DTSTART:20220313T070000
END:DAYLIGHT
BEGIN:STANDARD
TZOFFSETFROM:-0400
TZOFFSETTO:-0500
TZNAME:EST
DTSTART:20221106T060000
END:STANDARD
BEGIN:DAYLIGHT
TZOFFSETFROM:-0500
TZOFFSETTO:-0400
TZNAME:EDT
DTSTART:20230312T070000
END:DAYLIGHT
BEGIN:STANDARD
TZOFFSETFROM:-0400
TZOFFSETTO:-0500
TZNAME:EST
DTSTART:20231105T060000
END:STANDARD
BEGIN:DAYLIGHT
TZOFFSETFROM:-0500
TZOFFSETTO:-0400
TZNAME:EDT
DTSTART:20240310T070000
END:DAYLIGHT
BEGIN:STANDARD
TZOFFSETFROM:-0400
TZOFFSETTO:-0500
TZNAME:EST
DTSTART:20241103T060000
END:STANDARD
BEGIN:DAYLIGHT
TZOFFSETFROM:-0500
TZOFFSETTO:-0400
TZNAME:EDT
DTSTART:20250309T070000
END:DAYLIGHT
BEGIN:STANDARD
TZOFFSETFROM:-0400
TZOFFSETTO:-0500
TZNAME:EST
DTSTART:20251102T060000
END:STANDARD
BEGIN:DAYLIGHT
TZOFFSETFROM:-0500
TZOFFSETTO:-0400
TZNAME:EDT
DTSTART:20260308T070000
END:DAYLIGHT
BEGIN:STANDARD
TZOFFSETFROM:-0400
TZOFFSETTO:-0500
TZNAME:EST
DTSTART:20261101T060000
END:STANDARD
END:VTIMEZONE
BEGIN:VEVENT
DTSTART;TZID=America/New_York:20250526T110000
DTEND;TZID=America/New_York:20250526T120000
DTSTAMP:20260422T041908
CREATED:20241031T141945Z
LAST-MODIFIED:20241031T141945Z
UID:10001000-1748257200-1748260800@oceancityvacation.com
SUMMARY:Memorial Day Service
DESCRIPTION:Memorial Day Service 11:00 a.m. at Veteran’s Memorial Park\, between 5th Street and 6th Street on Wesley Avenue. 
URL:https://oceancityvacation.com/events-calendar/memorial-day-service-3/
LOCATION:Veteran’s Memorial Park\, 5th and Wesley Avenue\, Ocean City\, NJ\, 08226\, United States
CATEGORIES:Events Calendar
ATTACH;FMTTYPE=image/jpeg:https://oceancityvacation.com/wp-content/uploads/2023/01/1.4-memorial-day-ceremony-wreath-laying-scaled.jpg
GEO:39.2605279;-74.5982651
X-APPLE-STRUCTURED-LOCATION;VALUE=URI;X-ADDRESS=Veteran’s Memorial Park 5th and Wesley Avenue Ocean City NJ 08226 United States;X-APPLE-RADIUS=500;X-TITLE=5th and Wesley Avenue:geo:-74.5982651,39.2605279
END:VEVENT
BEGIN:VEVENT
DTSTART;TZID=America/New_York:20240527T110000
DTEND;TZID=America/New_York:20240527T120000
DTSTAMP:20260422T041908
CREATED:20231027T174945Z
LAST-MODIFIED:20240509T173705Z
UID:10000394-1716807600-1716811200@oceancityvacation.com
SUMMARY:Memorial Day Service
DESCRIPTION:Memorial Day Service 11:00 a.m. at Veteran’s Memorial Park\, between 5th Street and 6th Street on Wesley Avenue. 
URL:https://oceancityvacation.com/events-calendar/memorial-day-service-2/
LOCATION:Veteran’s Memorial Park\, 5th and Wesley Avenue\, Ocean City\, NJ\, 08226\, United States
CATEGORIES:Events Calendar
ATTACH;FMTTYPE=image/jpeg:https://oceancityvacation.com/wp-content/uploads/2023/01/1.4-memorial-day-ceremony-wreath-laying-scaled.jpg
GEO:39.2605279;-74.5982651
X-APPLE-STRUCTURED-LOCATION;VALUE=URI;X-ADDRESS=Veteran’s Memorial Park 5th and Wesley Avenue Ocean City NJ 08226 United States;X-APPLE-RADIUS=500;X-TITLE=5th and Wesley Avenue:geo:-74.5982651,39.2605279
END:VEVENT
BEGIN:VEVENT
DTSTART;TZID=America/New_York:20230529T110000
DTEND;TZID=America/New_York:20230529T120000
DTSTAMP:20260422T041908
CREATED:20230129T155251Z
LAST-MODIFIED:20231213T142517Z
UID:10000070-1685358000-1685361600@oceancityvacation.com
SUMMARY:Memorial Day Service
DESCRIPTION:Memorial Day Service 11 a.m. at Veteran’s Memorial Park.
URL:https://oceancityvacation.com/events-calendar/memorial-day-service/
LOCATION:Veteran’s Memorial Park\, 5th and Wesley Avenue\, Ocean City\, NJ\, 08226\, United States
CATEGORIES:Events Calendar
ATTACH;FMTTYPE=image/jpeg:https://oceancityvacation.com/wp-content/uploads/2023/01/1.4-memorial-day-ceremony-wreath-laying-scaled.jpg
GEO:39.2605279;-74.5982651
X-APPLE-STRUCTURED-LOCATION;VALUE=URI;X-ADDRESS=Veteran’s Memorial Park 5th and Wesley Avenue Ocean City NJ 08226 United States;X-APPLE-RADIUS=500;X-TITLE=5th and Wesley Avenue:geo:-74.5982651,39.2605279
END:VEVENT
END:VCALENDAR