BEGIN:VCALENDAR
VERSION:2.0
PRODID:-//Ocean City NJ - ECPv6.15.14//NONSGML v1.0//EN
CALSCALE:GREGORIAN
METHOD:PUBLISH
X-ORIGINAL-URL:https://oceancityvacation.com
X-WR-CALDESC:Events for Ocean City NJ
REFRESH-INTERVAL;VALUE=DURATION:PT1H
X-Robots-Tag:noindex
X-PUBLISHED-TTL:PT1H
BEGIN:VTIMEZONE
TZID:America/New_York
BEGIN:DAYLIGHT
TZOFFSETFROM:-0500
TZOFFSETTO:-0400
TZNAME:EDT
DTSTART:20220313T070000
END:DAYLIGHT
BEGIN:STANDARD
TZOFFSETFROM:-0400
TZOFFSETTO:-0500
TZNAME:EST
DTSTART:20221106T060000
END:STANDARD
BEGIN:DAYLIGHT
TZOFFSETFROM:-0500
TZOFFSETTO:-0400
TZNAME:EDT
DTSTART:20230312T070000
END:DAYLIGHT
BEGIN:STANDARD
TZOFFSETFROM:-0400
TZOFFSETTO:-0500
TZNAME:EST
DTSTART:20231105T060000
END:STANDARD
BEGIN:DAYLIGHT
TZOFFSETFROM:-0500
TZOFFSETTO:-0400
TZNAME:EDT
DTSTART:20240310T070000
END:DAYLIGHT
BEGIN:STANDARD
TZOFFSETFROM:-0400
TZOFFSETTO:-0500
TZNAME:EST
DTSTART:20241103T060000
END:STANDARD
END:VTIMEZONE
BEGIN:VEVENT
DTSTART;TZID=America/New_York:20231125T090000
DTEND;TZID=America/New_York:20231125T110000
DTSTAMP:20260421T044637
CREATED:20231002T184430Z
LAST-MODIFIED:20231213T142339Z
UID:10000485-1700902800-1700910000@oceancityvacation.com
SUMMARY:Santa in the Downtown
DESCRIPTION:Santa in the Downtown 9 a.m. to 11 a.m. at Soifer Park.
URL:https://oceancityvacation.com/events-calendar/santa-in-the-downtown/2023-11-25/
LOCATION:Soifer Park\, 901 Asbury Avenue\, Ocean City\, NJ\, 08226\, United States
CATEGORIES:Events Calendar
ATTACH;FMTTYPE=image/jpeg:https://oceancityvacation.com/wp-content/uploads/2023/01/phoca_thumb_l_large_r202_santa-boat-city-hall-500.jpg
GEO:39.27853;-74.57623
X-APPLE-STRUCTURED-LOCATION;VALUE=URI;X-ADDRESS=Soifer Park 901 Asbury Avenue Ocean City NJ 08226 United States;X-APPLE-RADIUS=500;X-TITLE=901 Asbury Avenue:geo:-74.57623,39.27853
END:VEVENT
BEGIN:VEVENT
DTSTART;TZID=America/New_York:20231126T090000
DTEND;TZID=America/New_York:20231126T110000
DTSTAMP:20260421T044637
CREATED:20231002T184430Z
LAST-MODIFIED:20231213T142339Z
UID:10000486-1700989200-1700996400@oceancityvacation.com
SUMMARY:Santa in the Downtown
DESCRIPTION:Santa in the Downtown 9 a.m. to 11 a.m. at Soifer Park.
URL:https://oceancityvacation.com/events-calendar/santa-in-the-downtown/2023-11-26/
LOCATION:Soifer Park\, 901 Asbury Avenue\, Ocean City\, NJ\, 08226\, United States
CATEGORIES:Events Calendar
ATTACH;FMTTYPE=image/jpeg:https://oceancityvacation.com/wp-content/uploads/2023/01/phoca_thumb_l_large_r202_santa-boat-city-hall-500.jpg
GEO:39.27853;-74.57623
X-APPLE-STRUCTURED-LOCATION;VALUE=URI;X-ADDRESS=Soifer Park 901 Asbury Avenue Ocean City NJ 08226 United States;X-APPLE-RADIUS=500;X-TITLE=901 Asbury Avenue:geo:-74.57623,39.27853
END:VEVENT
BEGIN:VEVENT
DTSTART;TZID=America/New_York:20231202T090000
DTEND;TZID=America/New_York:20231202T110000
DTSTAMP:20260421T044637
CREATED:20231002T184430Z
LAST-MODIFIED:20231213T142339Z
UID:10000355-1701507600-1701514800@oceancityvacation.com
SUMMARY:Santa in the Downtown
DESCRIPTION:Santa in the Downtown 9 a.m. to 11 a.m. at Soifer Park.
URL:https://oceancityvacation.com/events-calendar/santa-in-the-downtown/2023-12-02/
LOCATION:Soifer Park\, 901 Asbury Avenue\, Ocean City\, NJ\, 08226\, United States
CATEGORIES:Events Calendar
ATTACH;FMTTYPE=image/jpeg:https://oceancityvacation.com/wp-content/uploads/2023/01/phoca_thumb_l_large_r202_santa-boat-city-hall-500.jpg
GEO:39.27853;-74.57623
X-APPLE-STRUCTURED-LOCATION;VALUE=URI;X-ADDRESS=Soifer Park 901 Asbury Avenue Ocean City NJ 08226 United States;X-APPLE-RADIUS=500;X-TITLE=901 Asbury Avenue:geo:-74.57623,39.27853
END:VEVENT
BEGIN:VEVENT
DTSTART;TZID=America/New_York:20231203T090000
DTEND;TZID=America/New_York:20231203T110000
DTSTAMP:20260421T044637
CREATED:20231002T184430Z
LAST-MODIFIED:20231213T142339Z
UID:10000356-1701594000-1701601200@oceancityvacation.com
SUMMARY:Santa in the Downtown
DESCRIPTION:Santa in the Downtown 9 a.m. to 11 a.m. at Soifer Park.
URL:https://oceancityvacation.com/events-calendar/santa-in-the-downtown/2023-12-03/
LOCATION:Soifer Park\, 901 Asbury Avenue\, Ocean City\, NJ\, 08226\, United States
CATEGORIES:Events Calendar
ATTACH;FMTTYPE=image/jpeg:https://oceancityvacation.com/wp-content/uploads/2023/01/phoca_thumb_l_large_r202_santa-boat-city-hall-500.jpg
GEO:39.27853;-74.57623
X-APPLE-STRUCTURED-LOCATION;VALUE=URI;X-ADDRESS=Soifer Park 901 Asbury Avenue Ocean City NJ 08226 United States;X-APPLE-RADIUS=500;X-TITLE=901 Asbury Avenue:geo:-74.57623,39.27853
END:VEVENT
BEGIN:VEVENT
DTSTART;TZID=America/New_York:20231209T090000
DTEND;TZID=America/New_York:20231209T110000
DTSTAMP:20260421T044637
CREATED:20231002T184430Z
LAST-MODIFIED:20231213T142339Z
UID:10000357-1702112400-1702119600@oceancityvacation.com
SUMMARY:Santa in the Downtown
DESCRIPTION:Santa in the Downtown 9 a.m. to 11 a.m. at Soifer Park.
URL:https://oceancityvacation.com/events-calendar/santa-in-the-downtown/2023-12-09/
LOCATION:Soifer Park\, 901 Asbury Avenue\, Ocean City\, NJ\, 08226\, United States
CATEGORIES:Events Calendar
ATTACH;FMTTYPE=image/jpeg:https://oceancityvacation.com/wp-content/uploads/2023/01/phoca_thumb_l_large_r202_santa-boat-city-hall-500.jpg
GEO:39.27853;-74.57623
X-APPLE-STRUCTURED-LOCATION;VALUE=URI;X-ADDRESS=Soifer Park 901 Asbury Avenue Ocean City NJ 08226 United States;X-APPLE-RADIUS=500;X-TITLE=901 Asbury Avenue:geo:-74.57623,39.27853
END:VEVENT
BEGIN:VEVENT
DTSTART;TZID=America/New_York:20231210T090000
DTEND;TZID=America/New_York:20231210T110000
DTSTAMP:20260421T044637
CREATED:20231002T184430Z
LAST-MODIFIED:20231213T142339Z
UID:10000358-1702198800-1702206000@oceancityvacation.com
SUMMARY:Santa in the Downtown
DESCRIPTION:Santa in the Downtown 9 a.m. to 11 a.m. at Soifer Park.
URL:https://oceancityvacation.com/events-calendar/santa-in-the-downtown/2023-12-10/
LOCATION:Soifer Park\, 901 Asbury Avenue\, Ocean City\, NJ\, 08226\, United States
CATEGORIES:Events Calendar
ATTACH;FMTTYPE=image/jpeg:https://oceancityvacation.com/wp-content/uploads/2023/01/phoca_thumb_l_large_r202_santa-boat-city-hall-500.jpg
GEO:39.27853;-74.57623
X-APPLE-STRUCTURED-LOCATION;VALUE=URI;X-ADDRESS=Soifer Park 901 Asbury Avenue Ocean City NJ 08226 United States;X-APPLE-RADIUS=500;X-TITLE=901 Asbury Avenue:geo:-74.57623,39.27853
END:VEVENT
BEGIN:VEVENT
DTSTART;TZID=America/New_York:20231216T090000
DTEND;TZID=America/New_York:20231216T110000
DTSTAMP:20260421T044637
CREATED:20231002T184430Z
LAST-MODIFIED:20231213T142339Z
UID:10000359-1702717200-1702724400@oceancityvacation.com
SUMMARY:Santa in the Downtown
DESCRIPTION:Santa in the Downtown 9 a.m. to 11 a.m. at Soifer Park.
URL:https://oceancityvacation.com/events-calendar/santa-in-the-downtown/2023-12-16/
LOCATION:Soifer Park\, 901 Asbury Avenue\, Ocean City\, NJ\, 08226\, United States
CATEGORIES:Events Calendar
ATTACH;FMTTYPE=image/jpeg:https://oceancityvacation.com/wp-content/uploads/2023/01/phoca_thumb_l_large_r202_santa-boat-city-hall-500.jpg
GEO:39.27853;-74.57623
X-APPLE-STRUCTURED-LOCATION;VALUE=URI;X-ADDRESS=Soifer Park 901 Asbury Avenue Ocean City NJ 08226 United States;X-APPLE-RADIUS=500;X-TITLE=901 Asbury Avenue:geo:-74.57623,39.27853
END:VEVENT
BEGIN:VEVENT
DTSTART;TZID=America/New_York:20231217T090000
DTEND;TZID=America/New_York:20231217T110000
DTSTAMP:20260421T044637
CREATED:20231002T184430Z
LAST-MODIFIED:20231213T142339Z
UID:10000360-1702803600-1702810800@oceancityvacation.com
SUMMARY:Santa in the Downtown
DESCRIPTION:Santa in the Downtown 9 a.m. to 11 a.m. at Soifer Park.
URL:https://oceancityvacation.com/events-calendar/santa-in-the-downtown/2023-12-17/
LOCATION:Soifer Park\, 901 Asbury Avenue\, Ocean City\, NJ\, 08226\, United States
CATEGORIES:Events Calendar
ATTACH;FMTTYPE=image/jpeg:https://oceancityvacation.com/wp-content/uploads/2023/01/phoca_thumb_l_large_r202_santa-boat-city-hall-500.jpg
GEO:39.27853;-74.57623
X-APPLE-STRUCTURED-LOCATION;VALUE=URI;X-ADDRESS=Soifer Park 901 Asbury Avenue Ocean City NJ 08226 United States;X-APPLE-RADIUS=500;X-TITLE=901 Asbury Avenue:geo:-74.57623,39.27853
END:VEVENT
BEGIN:VEVENT
DTSTART;TZID=America/New_York:20231223T090000
DTEND;TZID=America/New_York:20231223T110000
DTSTAMP:20260421T044637
CREATED:20231002T184430Z
LAST-MODIFIED:20231213T142339Z
UID:10000361-1703322000-1703329200@oceancityvacation.com
SUMMARY:Santa in the Downtown
DESCRIPTION:Santa in the Downtown 9 a.m. to 11 a.m. at Soifer Park.
URL:https://oceancityvacation.com/events-calendar/santa-in-the-downtown/2023-12-23/
LOCATION:Soifer Park\, 901 Asbury Avenue\, Ocean City\, NJ\, 08226\, United States
CATEGORIES:Events Calendar
ATTACH;FMTTYPE=image/jpeg:https://oceancityvacation.com/wp-content/uploads/2023/01/phoca_thumb_l_large_r202_santa-boat-city-hall-500.jpg
GEO:39.27853;-74.57623
X-APPLE-STRUCTURED-LOCATION;VALUE=URI;X-ADDRESS=Soifer Park 901 Asbury Avenue Ocean City NJ 08226 United States;X-APPLE-RADIUS=500;X-TITLE=901 Asbury Avenue:geo:-74.57623,39.27853
END:VEVENT
END:VCALENDAR