BEGIN:VCALENDAR
VERSION:2.0
PRODID:-//Ocean City NJ - ECPv6.15.14//NONSGML v1.0//EN
CALSCALE:GREGORIAN
METHOD:PUBLISH
X-WR-CALNAME:Ocean City NJ
X-ORIGINAL-URL:https://oceancityvacation.com
X-WR-CALDESC:Events for Ocean City NJ
REFRESH-INTERVAL;VALUE=DURATION:PT1H
X-Robots-Tag:noindex
X-PUBLISHED-TTL:PT1H
BEGIN:VTIMEZONE
TZID:America/New_York
BEGIN:DAYLIGHT
TZOFFSETFROM:-0500
TZOFFSETTO:-0400
TZNAME:EDT
DTSTART:20220313T070000
END:DAYLIGHT
BEGIN:STANDARD
TZOFFSETFROM:-0400
TZOFFSETTO:-0500
TZNAME:EST
DTSTART:20221106T060000
END:STANDARD
BEGIN:DAYLIGHT
TZOFFSETFROM:-0500
TZOFFSETTO:-0400
TZNAME:EDT
DTSTART:20230312T070000
END:DAYLIGHT
BEGIN:STANDARD
TZOFFSETFROM:-0400
TZOFFSETTO:-0500
TZNAME:EST
DTSTART:20231105T060000
END:STANDARD
BEGIN:DAYLIGHT
TZOFFSETFROM:-0500
TZOFFSETTO:-0400
TZNAME:EDT
DTSTART:20240310T070000
END:DAYLIGHT
BEGIN:STANDARD
TZOFFSETFROM:-0400
TZOFFSETTO:-0500
TZNAME:EST
DTSTART:20241103T060000
END:STANDARD
BEGIN:DAYLIGHT
TZOFFSETFROM:-0500
TZOFFSETTO:-0400
TZNAME:EDT
DTSTART:20250309T070000
END:DAYLIGHT
BEGIN:STANDARD
TZOFFSETFROM:-0400
TZOFFSETTO:-0500
TZNAME:EST
DTSTART:20251102T060000
END:STANDARD
END:VTIMEZONE
BEGIN:VEVENT
DTSTART;TZID=America/New_York:20240724T080000
DTEND;TZID=America/New_York:20240724T120000
DTSTAMP:20260421T193855
CREATED:20240105T191221Z
LAST-MODIFIED:20240911T160733Z
UID:10000833-1721808000-1721822400@oceancityvacation.com
SUMMARY:Farmers Market
DESCRIPTION: Tabernacle Grounds 8 a.m. to 12 p.m. Crafters in the street at 6th & Asbury Ave.
URL:https://oceancityvacation.com/events-calendar/farmers-market-3/2024-07-24/
LOCATION:Ocean City Tabernacle\, 6th & Asbury Ave.\, Ocean City\, NJ
ATTACH;FMTTYPE=image/jpeg:https://oceancityvacation.com/wp-content/uploads/2023/01/1.4-farmers-market-daily-scaled.jpg
GEO:39.256744;-74.605108
X-APPLE-STRUCTURED-LOCATION;VALUE=URI;X-ADDRESS=Ocean City Tabernacle 6th & Asbury Ave. Ocean City NJ;X-APPLE-RADIUS=500;X-TITLE=6th & Asbury Ave.:geo:-74.605108,39.256744
END:VEVENT
BEGIN:VEVENT
DTSTART;TZID=America/New_York:20240731T080000
DTEND;TZID=America/New_York:20240731T120000
DTSTAMP:20260421T193855
CREATED:20240105T191221Z
LAST-MODIFIED:20240911T160733Z
UID:10000834-1722412800-1722427200@oceancityvacation.com
SUMMARY:Farmers Market
DESCRIPTION: Tabernacle Grounds 8 a.m. to 12 p.m. Crafters in the street at 6th & Asbury Ave.
URL:https://oceancityvacation.com/events-calendar/farmers-market-3/2024-07-31/
LOCATION:Ocean City Tabernacle\, 6th & Asbury Ave.\, Ocean City\, NJ
ATTACH;FMTTYPE=image/jpeg:https://oceancityvacation.com/wp-content/uploads/2023/01/1.4-farmers-market-daily-scaled.jpg
GEO:39.256744;-74.605108
X-APPLE-STRUCTURED-LOCATION;VALUE=URI;X-ADDRESS=Ocean City Tabernacle 6th & Asbury Ave. Ocean City NJ;X-APPLE-RADIUS=500;X-TITLE=6th & Asbury Ave.:geo:-74.605108,39.256744
END:VEVENT
BEGIN:VEVENT
DTSTART;TZID=America/New_York:20240807T080000
DTEND;TZID=America/New_York:20240807T120000
DTSTAMP:20260421T193855
CREATED:20240105T191221Z
LAST-MODIFIED:20240911T160733Z
UID:10000835-1723017600-1723032000@oceancityvacation.com
SUMMARY:Farmers Market
DESCRIPTION: Tabernacle Grounds 8 a.m. to 12 p.m. Crafters in the street at 6th & Asbury Ave.
URL:https://oceancityvacation.com/events-calendar/farmers-market-3/2024-08-07/
LOCATION:Ocean City Tabernacle\, 6th & Asbury Ave.\, Ocean City\, NJ
ATTACH;FMTTYPE=image/jpeg:https://oceancityvacation.com/wp-content/uploads/2023/01/1.4-farmers-market-daily-scaled.jpg
GEO:39.256744;-74.605108
X-APPLE-STRUCTURED-LOCATION;VALUE=URI;X-ADDRESS=Ocean City Tabernacle 6th & Asbury Ave. Ocean City NJ;X-APPLE-RADIUS=500;X-TITLE=6th & Asbury Ave.:geo:-74.605108,39.256744
END:VEVENT
BEGIN:VEVENT
DTSTART;TZID=America/New_York:20240814T080000
DTEND;TZID=America/New_York:20240814T120000
DTSTAMP:20260421T193855
CREATED:20240105T191221Z
LAST-MODIFIED:20240911T160733Z
UID:10000836-1723622400-1723636800@oceancityvacation.com
SUMMARY:Farmers Market
DESCRIPTION: Tabernacle Grounds 8 a.m. to 12 p.m. Crafters in the street at 6th & Asbury Ave.
URL:https://oceancityvacation.com/events-calendar/farmers-market-3/2024-08-14/
LOCATION:Ocean City Tabernacle\, 6th & Asbury Ave.\, Ocean City\, NJ
ATTACH;FMTTYPE=image/jpeg:https://oceancityvacation.com/wp-content/uploads/2023/01/1.4-farmers-market-daily-scaled.jpg
GEO:39.256744;-74.605108
X-APPLE-STRUCTURED-LOCATION;VALUE=URI;X-ADDRESS=Ocean City Tabernacle 6th & Asbury Ave. Ocean City NJ;X-APPLE-RADIUS=500;X-TITLE=6th & Asbury Ave.:geo:-74.605108,39.256744
END:VEVENT
BEGIN:VEVENT
DTSTART;TZID=America/New_York:20240605T080000
DTEND;TZID=America/New_York:20240605T120000
DTSTAMP:20260421T193855
CREATED:20240105T191221Z
LAST-MODIFIED:20240911T160733Z
UID:10000799-1717574400-1717588800@oceancityvacation.com
SUMMARY:Farmers Market
DESCRIPTION: Tabernacle Grounds 8 a.m. to 12 p.m. Crafters in the street at 6th & Asbury Ave.
URL:https://oceancityvacation.com/events-calendar/farmers-market-3/2024-06-05/
LOCATION:Ocean City Tabernacle\, 6th & Asbury Ave.\, Ocean City\, NJ
ATTACH;FMTTYPE=image/jpeg:https://oceancityvacation.com/wp-content/uploads/2023/01/1.4-farmers-market-daily-scaled.jpg
GEO:39.256744;-74.605108
X-APPLE-STRUCTURED-LOCATION;VALUE=URI;X-ADDRESS=Ocean City Tabernacle 6th & Asbury Ave. Ocean City NJ;X-APPLE-RADIUS=500;X-TITLE=6th & Asbury Ave.:geo:-74.605108,39.256744
END:VEVENT
BEGIN:VEVENT
DTSTART;TZID=America/New_York:20240821T080000
DTEND;TZID=America/New_York:20240821T120000
DTSTAMP:20260421T193855
CREATED:20240105T191221Z
LAST-MODIFIED:20240911T160733Z
UID:10000837-1724227200-1724241600@oceancityvacation.com
SUMMARY:Farmers Market
DESCRIPTION: Tabernacle Grounds 8 a.m. to 12 p.m. Crafters in the street at 6th & Asbury Ave.
URL:https://oceancityvacation.com/events-calendar/farmers-market-3/2024-08-21/
LOCATION:Ocean City Tabernacle\, 6th & Asbury Ave.\, Ocean City\, NJ
ATTACH;FMTTYPE=image/jpeg:https://oceancityvacation.com/wp-content/uploads/2023/01/1.4-farmers-market-daily-scaled.jpg
GEO:39.256744;-74.605108
X-APPLE-STRUCTURED-LOCATION;VALUE=URI;X-ADDRESS=Ocean City Tabernacle 6th & Asbury Ave. Ocean City NJ;X-APPLE-RADIUS=500;X-TITLE=6th & Asbury Ave.:geo:-74.605108,39.256744
END:VEVENT
BEGIN:VEVENT
DTSTART;TZID=America/New_York:20240612T080000
DTEND;TZID=America/New_York:20240612T120000
DTSTAMP:20260421T193855
CREATED:20240105T191221Z
LAST-MODIFIED:20240911T160733Z
UID:10000827-1718179200-1718193600@oceancityvacation.com
SUMMARY:Farmers Market
DESCRIPTION: Tabernacle Grounds 8 a.m. to 12 p.m. Crafters in the street at 6th & Asbury Ave.
URL:https://oceancityvacation.com/events-calendar/farmers-market-3/2024-06-12/
LOCATION:Ocean City Tabernacle\, 6th & Asbury Ave.\, Ocean City\, NJ
ATTACH;FMTTYPE=image/jpeg:https://oceancityvacation.com/wp-content/uploads/2023/01/1.4-farmers-market-daily-scaled.jpg
GEO:39.256744;-74.605108
X-APPLE-STRUCTURED-LOCATION;VALUE=URI;X-ADDRESS=Ocean City Tabernacle 6th & Asbury Ave. Ocean City NJ;X-APPLE-RADIUS=500;X-TITLE=6th & Asbury Ave.:geo:-74.605108,39.256744
END:VEVENT
BEGIN:VEVENT
DTSTART;TZID=America/New_York:20240828T080000
DTEND;TZID=America/New_York:20240828T120000
DTSTAMP:20260421T193855
CREATED:20240105T191221Z
LAST-MODIFIED:20240911T160733Z
UID:10000838-1724832000-1724846400@oceancityvacation.com
SUMMARY:Farmers Market
DESCRIPTION: Tabernacle Grounds 8 a.m. to 12 p.m. Crafters in the street at 6th & Asbury Ave.
URL:https://oceancityvacation.com/events-calendar/farmers-market-3/2024-08-28/
LOCATION:Ocean City Tabernacle\, 6th & Asbury Ave.\, Ocean City\, NJ
ATTACH;FMTTYPE=image/jpeg:https://oceancityvacation.com/wp-content/uploads/2023/01/1.4-farmers-market-daily-scaled.jpg
GEO:39.256744;-74.605108
X-APPLE-STRUCTURED-LOCATION;VALUE=URI;X-ADDRESS=Ocean City Tabernacle 6th & Asbury Ave. Ocean City NJ;X-APPLE-RADIUS=500;X-TITLE=6th & Asbury Ave.:geo:-74.605108,39.256744
END:VEVENT
BEGIN:VEVENT
DTSTART;TZID=America/New_York:20240619T080000
DTEND;TZID=America/New_York:20240619T120000
DTSTAMP:20260421T193855
CREATED:20240105T191221Z
LAST-MODIFIED:20240911T160733Z
UID:10000828-1718784000-1718798400@oceancityvacation.com
SUMMARY:Farmers Market
DESCRIPTION: Tabernacle Grounds 8 a.m. to 12 p.m. Crafters in the street at 6th & Asbury Ave.
URL:https://oceancityvacation.com/events-calendar/farmers-market-3/2024-06-19/
LOCATION:Ocean City Tabernacle\, 6th & Asbury Ave.\, Ocean City\, NJ
ATTACH;FMTTYPE=image/jpeg:https://oceancityvacation.com/wp-content/uploads/2023/01/1.4-farmers-market-daily-scaled.jpg
GEO:39.256744;-74.605108
X-APPLE-STRUCTURED-LOCATION;VALUE=URI;X-ADDRESS=Ocean City Tabernacle 6th & Asbury Ave. Ocean City NJ;X-APPLE-RADIUS=500;X-TITLE=6th & Asbury Ave.:geo:-74.605108,39.256744
END:VEVENT
BEGIN:VEVENT
DTSTART;TZID=America/New_York:20240904T080000
DTEND;TZID=America/New_York:20240904T120000
DTSTAMP:20260421T193855
CREATED:20240105T191221Z
LAST-MODIFIED:20240911T160733Z
UID:10000839-1725436800-1725451200@oceancityvacation.com
SUMMARY:Farmers Market
DESCRIPTION: Tabernacle Grounds 8 a.m. to 12 p.m. Crafters in the street at 6th & Asbury Ave.
URL:https://oceancityvacation.com/events-calendar/farmers-market-3/2024-09-04/
LOCATION:Ocean City Tabernacle\, 6th & Asbury Ave.\, Ocean City\, NJ
ATTACH;FMTTYPE=image/jpeg:https://oceancityvacation.com/wp-content/uploads/2023/01/1.4-farmers-market-daily-scaled.jpg
GEO:39.256744;-74.605108
X-APPLE-STRUCTURED-LOCATION;VALUE=URI;X-ADDRESS=Ocean City Tabernacle 6th & Asbury Ave. Ocean City NJ;X-APPLE-RADIUS=500;X-TITLE=6th & Asbury Ave.:geo:-74.605108,39.256744
END:VEVENT
BEGIN:VEVENT
DTSTART;TZID=America/New_York:20240724T080000
DTEND;TZID=America/New_York:20240724T120000
DTSTAMP:20260421T193855
CREATED:20231027T185126Z
LAST-MODIFIED:20240124T152003Z
UID:10000477-1721808000-1721822400@oceancityvacation.com
SUMMARY:Farmers Market
DESCRIPTION:Farmers Market – Tabernacle Grounds 8 a.m. to 12 p.m. Crafters in the street at 6th & Asbury Ave.
URL:https://oceancityvacation.com/events-calendar/farmers-market-2/2024-07-24/
LOCATION:Ocean City Tabernacle\, 6th & Asbury Ave.\, Ocean City\, NJ
CATEGORIES:Events Calendar
ATTACH;FMTTYPE=image/jpeg:https://oceancityvacation.com/wp-content/uploads/2023/01/1.4-farmers-market-daily-scaled.jpg
GEO:39.256744;-74.605108
X-APPLE-STRUCTURED-LOCATION;VALUE=URI;X-ADDRESS=Ocean City Tabernacle 6th & Asbury Ave. Ocean City NJ;X-APPLE-RADIUS=500;X-TITLE=6th & Asbury Ave.:geo:-74.605108,39.256744
END:VEVENT
BEGIN:VEVENT
DTSTART;TZID=America/New_York:20240731T080000
DTEND;TZID=America/New_York:20240731T120000
DTSTAMP:20260421T193855
CREATED:20231027T185126Z
LAST-MODIFIED:20240124T152003Z
UID:10000478-1722412800-1722427200@oceancityvacation.com
SUMMARY:Farmers Market
DESCRIPTION:Farmers Market – Tabernacle Grounds 8 a.m. to 12 p.m. Crafters in the street at 6th & Asbury Ave.
URL:https://oceancityvacation.com/events-calendar/farmers-market-2/2024-07-31/
LOCATION:Ocean City Tabernacle\, 6th & Asbury Ave.\, Ocean City\, NJ
CATEGORIES:Events Calendar
ATTACH;FMTTYPE=image/jpeg:https://oceancityvacation.com/wp-content/uploads/2023/01/1.4-farmers-market-daily-scaled.jpg
GEO:39.256744;-74.605108
X-APPLE-STRUCTURED-LOCATION;VALUE=URI;X-ADDRESS=Ocean City Tabernacle 6th & Asbury Ave. Ocean City NJ;X-APPLE-RADIUS=500;X-TITLE=6th & Asbury Ave.:geo:-74.605108,39.256744
END:VEVENT
BEGIN:VEVENT
DTSTART;TZID=America/New_York:20240807T080000
DTEND;TZID=America/New_York:20240807T120000
DTSTAMP:20260421T193855
CREATED:20231027T185126Z
LAST-MODIFIED:20240124T152003Z
UID:10000479-1723017600-1723032000@oceancityvacation.com
SUMMARY:Farmers Market
DESCRIPTION:Farmers Market – Tabernacle Grounds 8 a.m. to 12 p.m. Crafters in the street at 6th & Asbury Ave.
URL:https://oceancityvacation.com/events-calendar/farmers-market-2/2024-08-07/
LOCATION:Ocean City Tabernacle\, 6th & Asbury Ave.\, Ocean City\, NJ
CATEGORIES:Events Calendar
ATTACH;FMTTYPE=image/jpeg:https://oceancityvacation.com/wp-content/uploads/2023/01/1.4-farmers-market-daily-scaled.jpg
GEO:39.256744;-74.605108
X-APPLE-STRUCTURED-LOCATION;VALUE=URI;X-ADDRESS=Ocean City Tabernacle 6th & Asbury Ave. Ocean City NJ;X-APPLE-RADIUS=500;X-TITLE=6th & Asbury Ave.:geo:-74.605108,39.256744
END:VEVENT
BEGIN:VEVENT
DTSTART;TZID=America/New_York:20240814T080000
DTEND;TZID=America/New_York:20240814T120000
DTSTAMP:20260421T193855
CREATED:20231027T185126Z
LAST-MODIFIED:20240124T152003Z
UID:10000480-1723622400-1723636800@oceancityvacation.com
SUMMARY:Farmers Market
DESCRIPTION:Farmers Market – Tabernacle Grounds 8 a.m. to 12 p.m. Crafters in the street at 6th & Asbury Ave.
URL:https://oceancityvacation.com/events-calendar/farmers-market-2/2024-08-14/
LOCATION:Ocean City Tabernacle\, 6th & Asbury Ave.\, Ocean City\, NJ
CATEGORIES:Events Calendar
ATTACH;FMTTYPE=image/jpeg:https://oceancityvacation.com/wp-content/uploads/2023/01/1.4-farmers-market-daily-scaled.jpg
GEO:39.256744;-74.605108
X-APPLE-STRUCTURED-LOCATION;VALUE=URI;X-ADDRESS=Ocean City Tabernacle 6th & Asbury Ave. Ocean City NJ;X-APPLE-RADIUS=500;X-TITLE=6th & Asbury Ave.:geo:-74.605108,39.256744
END:VEVENT
BEGIN:VEVENT
DTSTART;TZID=America/New_York:20240605T080000
DTEND;TZID=America/New_York:20240605T120000
DTSTAMP:20260421T193855
CREATED:20231027T185126Z
LAST-MODIFIED:20240124T152003Z
UID:10000470-1717574400-1717588800@oceancityvacation.com
SUMMARY:Farmers Market
DESCRIPTION:Farmers Market – Tabernacle Grounds 8 a.m. to 12 p.m. Crafters in the street at 6th & Asbury Ave.
URL:https://oceancityvacation.com/events-calendar/farmers-market-2/2024-06-05/
LOCATION:Ocean City Tabernacle\, 6th & Asbury Ave.\, Ocean City\, NJ
CATEGORIES:Events Calendar
ATTACH;FMTTYPE=image/jpeg:https://oceancityvacation.com/wp-content/uploads/2023/01/1.4-farmers-market-daily-scaled.jpg
GEO:39.256744;-74.605108
X-APPLE-STRUCTURED-LOCATION;VALUE=URI;X-ADDRESS=Ocean City Tabernacle 6th & Asbury Ave. Ocean City NJ;X-APPLE-RADIUS=500;X-TITLE=6th & Asbury Ave.:geo:-74.605108,39.256744
END:VEVENT
BEGIN:VEVENT
DTSTART;TZID=America/New_York:20240821T080000
DTEND;TZID=America/New_York:20240821T120000
DTSTAMP:20260421T193855
CREATED:20231027T185126Z
LAST-MODIFIED:20240124T152003Z
UID:10000481-1724227200-1724241600@oceancityvacation.com
SUMMARY:Farmers Market
DESCRIPTION:Farmers Market – Tabernacle Grounds 8 a.m. to 12 p.m. Crafters in the street at 6th & Asbury Ave.
URL:https://oceancityvacation.com/events-calendar/farmers-market-2/2024-08-21/
LOCATION:Ocean City Tabernacle\, 6th & Asbury Ave.\, Ocean City\, NJ
CATEGORIES:Events Calendar
ATTACH;FMTTYPE=image/jpeg:https://oceancityvacation.com/wp-content/uploads/2023/01/1.4-farmers-market-daily-scaled.jpg
GEO:39.256744;-74.605108
X-APPLE-STRUCTURED-LOCATION;VALUE=URI;X-ADDRESS=Ocean City Tabernacle 6th & Asbury Ave. Ocean City NJ;X-APPLE-RADIUS=500;X-TITLE=6th & Asbury Ave.:geo:-74.605108,39.256744
END:VEVENT
BEGIN:VEVENT
DTSTART;TZID=America/New_York:20240612T080000
DTEND;TZID=America/New_York:20240612T120000
DTSTAMP:20260421T193855
CREATED:20231027T185126Z
LAST-MODIFIED:20240124T152003Z
UID:10000471-1718179200-1718193600@oceancityvacation.com
SUMMARY:Farmers Market
DESCRIPTION:Farmers Market – Tabernacle Grounds 8 a.m. to 12 p.m. Crafters in the street at 6th & Asbury Ave.
URL:https://oceancityvacation.com/events-calendar/farmers-market-2/2024-06-12/
LOCATION:Ocean City Tabernacle\, 6th & Asbury Ave.\, Ocean City\, NJ
CATEGORIES:Events Calendar
ATTACH;FMTTYPE=image/jpeg:https://oceancityvacation.com/wp-content/uploads/2023/01/1.4-farmers-market-daily-scaled.jpg
GEO:39.256744;-74.605108
X-APPLE-STRUCTURED-LOCATION;VALUE=URI;X-ADDRESS=Ocean City Tabernacle 6th & Asbury Ave. Ocean City NJ;X-APPLE-RADIUS=500;X-TITLE=6th & Asbury Ave.:geo:-74.605108,39.256744
END:VEVENT
BEGIN:VEVENT
DTSTART;TZID=America/New_York:20240828T080000
DTEND;TZID=America/New_York:20240828T120000
DTSTAMP:20260421T193855
CREATED:20231027T185126Z
LAST-MODIFIED:20240124T152003Z
UID:10000482-1724832000-1724846400@oceancityvacation.com
SUMMARY:Farmers Market
DESCRIPTION:Farmers Market – Tabernacle Grounds 8 a.m. to 12 p.m. Crafters in the street at 6th & Asbury Ave.
URL:https://oceancityvacation.com/events-calendar/farmers-market-2/2024-08-28/
LOCATION:Ocean City Tabernacle\, 6th & Asbury Ave.\, Ocean City\, NJ
CATEGORIES:Events Calendar
ATTACH;FMTTYPE=image/jpeg:https://oceancityvacation.com/wp-content/uploads/2023/01/1.4-farmers-market-daily-scaled.jpg
GEO:39.256744;-74.605108
X-APPLE-STRUCTURED-LOCATION;VALUE=URI;X-ADDRESS=Ocean City Tabernacle 6th & Asbury Ave. Ocean City NJ;X-APPLE-RADIUS=500;X-TITLE=6th & Asbury Ave.:geo:-74.605108,39.256744
END:VEVENT
BEGIN:VEVENT
DTSTART;TZID=America/New_York:20240619T080000
DTEND;TZID=America/New_York:20240619T120000
DTSTAMP:20260421T193855
CREATED:20231027T185126Z
LAST-MODIFIED:20240124T152003Z
UID:10000472-1718784000-1718798400@oceancityvacation.com
SUMMARY:Farmers Market
DESCRIPTION:Farmers Market – Tabernacle Grounds 8 a.m. to 12 p.m. Crafters in the street at 6th & Asbury Ave.
URL:https://oceancityvacation.com/events-calendar/farmers-market-2/2024-06-19/
LOCATION:Ocean City Tabernacle\, 6th & Asbury Ave.\, Ocean City\, NJ
CATEGORIES:Events Calendar
ATTACH;FMTTYPE=image/jpeg:https://oceancityvacation.com/wp-content/uploads/2023/01/1.4-farmers-market-daily-scaled.jpg
GEO:39.256744;-74.605108
X-APPLE-STRUCTURED-LOCATION;VALUE=URI;X-ADDRESS=Ocean City Tabernacle 6th & Asbury Ave. Ocean City NJ;X-APPLE-RADIUS=500;X-TITLE=6th & Asbury Ave.:geo:-74.605108,39.256744
END:VEVENT
BEGIN:VEVENT
DTSTART;TZID=America/New_York:20240904T080000
DTEND;TZID=America/New_York:20240904T120000
DTSTAMP:20260421T193855
CREATED:20231027T185126Z
LAST-MODIFIED:20240124T152003Z
UID:10000483-1725436800-1725451200@oceancityvacation.com
SUMMARY:Farmers Market
DESCRIPTION:Farmers Market – Tabernacle Grounds 8 a.m. to 12 p.m. Crafters in the street at 6th & Asbury Ave.
URL:https://oceancityvacation.com/events-calendar/farmers-market-2/2024-09-04/
LOCATION:Ocean City Tabernacle\, 6th & Asbury Ave.\, Ocean City\, NJ
CATEGORIES:Events Calendar
ATTACH;FMTTYPE=image/jpeg:https://oceancityvacation.com/wp-content/uploads/2023/01/1.4-farmers-market-daily-scaled.jpg
GEO:39.256744;-74.605108
X-APPLE-STRUCTURED-LOCATION;VALUE=URI;X-ADDRESS=Ocean City Tabernacle 6th & Asbury Ave. Ocean City NJ;X-APPLE-RADIUS=500;X-TITLE=6th & Asbury Ave.:geo:-74.605108,39.256744
END:VEVENT
BEGIN:VEVENT
DTSTART;TZID=America/New_York:20240626T080000
DTEND;TZID=America/New_York:20240626T120000
DTSTAMP:20260421T193855
CREATED:20231027T185126Z
LAST-MODIFIED:20240124T152003Z
UID:10000473-1719388800-1719403200@oceancityvacation.com
SUMMARY:Farmers Market
DESCRIPTION:Farmers Market – Tabernacle Grounds 8 a.m. to 12 p.m. Crafters in the street at 6th & Asbury Ave.
URL:https://oceancityvacation.com/events-calendar/farmers-market-2/2024-06-26/
LOCATION:Ocean City Tabernacle\, 6th & Asbury Ave.\, Ocean City\, NJ
CATEGORIES:Events Calendar
ATTACH;FMTTYPE=image/jpeg:https://oceancityvacation.com/wp-content/uploads/2023/01/1.4-farmers-market-daily-scaled.jpg
GEO:39.256744;-74.605108
X-APPLE-STRUCTURED-LOCATION;VALUE=URI;X-ADDRESS=Ocean City Tabernacle 6th & Asbury Ave. Ocean City NJ;X-APPLE-RADIUS=500;X-TITLE=6th & Asbury Ave.:geo:-74.605108,39.256744
END:VEVENT
BEGIN:VEVENT
DTSTART;TZID=America/New_York:20240703T080000
DTEND;TZID=America/New_York:20240703T120000
DTSTAMP:20260421T193855
CREATED:20231027T185126Z
LAST-MODIFIED:20240124T152003Z
UID:10000474-1719993600-1720008000@oceancityvacation.com
SUMMARY:Farmers Market
DESCRIPTION:Farmers Market – Tabernacle Grounds 8 a.m. to 12 p.m. Crafters in the street at 6th & Asbury Ave.
URL:https://oceancityvacation.com/events-calendar/farmers-market-2/2024-07-03/
LOCATION:Ocean City Tabernacle\, 6th & Asbury Ave.\, Ocean City\, NJ
CATEGORIES:Events Calendar
ATTACH;FMTTYPE=image/jpeg:https://oceancityvacation.com/wp-content/uploads/2023/01/1.4-farmers-market-daily-scaled.jpg
GEO:39.256744;-74.605108
X-APPLE-STRUCTURED-LOCATION;VALUE=URI;X-ADDRESS=Ocean City Tabernacle 6th & Asbury Ave. Ocean City NJ;X-APPLE-RADIUS=500;X-TITLE=6th & Asbury Ave.:geo:-74.605108,39.256744
END:VEVENT
BEGIN:VEVENT
DTSTART;TZID=America/New_York:20240710T080000
DTEND;TZID=America/New_York:20240710T120000
DTSTAMP:20260421T193855
CREATED:20231027T185126Z
LAST-MODIFIED:20240124T152003Z
UID:10000475-1720598400-1720612800@oceancityvacation.com
SUMMARY:Farmers Market
DESCRIPTION:Farmers Market – Tabernacle Grounds 8 a.m. to 12 p.m. Crafters in the street at 6th & Asbury Ave.
URL:https://oceancityvacation.com/events-calendar/farmers-market-2/2024-07-10/
LOCATION:Ocean City Tabernacle\, 6th & Asbury Ave.\, Ocean City\, NJ
CATEGORIES:Events Calendar
ATTACH;FMTTYPE=image/jpeg:https://oceancityvacation.com/wp-content/uploads/2023/01/1.4-farmers-market-daily-scaled.jpg
GEO:39.256744;-74.605108
X-APPLE-STRUCTURED-LOCATION;VALUE=URI;X-ADDRESS=Ocean City Tabernacle 6th & Asbury Ave. Ocean City NJ;X-APPLE-RADIUS=500;X-TITLE=6th & Asbury Ave.:geo:-74.605108,39.256744
END:VEVENT
BEGIN:VEVENT
DTSTART;TZID=America/New_York:20240717T080000
DTEND;TZID=America/New_York:20240717T120000
DTSTAMP:20260421T193855
CREATED:20231027T185126Z
LAST-MODIFIED:20240124T152003Z
UID:10000476-1721203200-1721217600@oceancityvacation.com
SUMMARY:Farmers Market
DESCRIPTION:Farmers Market – Tabernacle Grounds 8 a.m. to 12 p.m. Crafters in the street at 6th & Asbury Ave.
URL:https://oceancityvacation.com/events-calendar/farmers-market-2/2024-07-17/
LOCATION:Ocean City Tabernacle\, 6th & Asbury Ave.\, Ocean City\, NJ
CATEGORIES:Events Calendar
ATTACH;FMTTYPE=image/jpeg:https://oceancityvacation.com/wp-content/uploads/2023/01/1.4-farmers-market-daily-scaled.jpg
GEO:39.256744;-74.605108
X-APPLE-STRUCTURED-LOCATION;VALUE=URI;X-ADDRESS=Ocean City Tabernacle 6th & Asbury Ave. Ocean City NJ;X-APPLE-RADIUS=500;X-TITLE=6th & Asbury Ave.:geo:-74.605108,39.256744
END:VEVENT
BEGIN:VEVENT
DTSTART;TZID=America/New_York:20240622T090000
DTEND;TZID=America/New_York:20240622T140000
DTSTAMP:20260421T193855
CREATED:20231027T181706Z
LAST-MODIFIED:20240208T190937Z
UID:10000414-1719046800-1719064800@oceancityvacation.com
SUMMARY:Antique Auto Show
DESCRIPTION:Over 300 vintage vehicles. Tabernacle grounds\, 6th & Asbury Ave. 9 a.m. to 2 p.m. boardwalk parade after 2 p.m. For more information visit jerseycape.aaca.com
URL:https://oceancityvacation.com/events-calendar/antique-auto-show-4/
LOCATION:Ocean City Tabernacle\, 6th & Asbury Ave.\, Ocean City\, NJ
CATEGORIES:Events Calendar
ATTACH;FMTTYPE=image/webp:https://oceancityvacation.com/wp-content/uploads/2023/03/auto-show.webp
GEO:39.256744;-74.605108
X-APPLE-STRUCTURED-LOCATION;VALUE=URI;X-ADDRESS=Ocean City Tabernacle 6th & Asbury Ave. Ocean City NJ;X-APPLE-RADIUS=500;X-TITLE=6th & Asbury Ave.:geo:-74.605108,39.256744
END:VEVENT
BEGIN:VEVENT
DTSTART;TZID=America/New_York:20230830T080000
DTEND;TZID=America/New_York:20230830T080000
DTSTAMP:20260421T193855
CREATED:20231027T180305Z
LAST-MODIFIED:20231213T142253Z
UID:10000406-1693382400-1693382400@oceancityvacation.com
SUMMARY:Farmers Market
DESCRIPTION:Farmers Market – Tabernacle Grounds 8 a.m. to 1 p.m. Crafters in the street at 6th & Asbury Ave.
URL:https://oceancityvacation.com/events-calendar/farmers-market/2023-08-30/
LOCATION:Ocean City Tabernacle\, 6th & Asbury Ave.\, Ocean City\, NJ
CATEGORIES:Events Calendar
ATTACH;FMTTYPE=image/jpeg:https://oceancityvacation.com/wp-content/uploads/2023/01/1.4-farmers-market-daily-scaled.jpg
GEO:39.256744;-74.605108
X-APPLE-STRUCTURED-LOCATION;VALUE=URI;X-ADDRESS=Ocean City Tabernacle 6th & Asbury Ave. Ocean City NJ;X-APPLE-RADIUS=500;X-TITLE=6th & Asbury Ave.:geo:-74.605108,39.256744
END:VEVENT
BEGIN:VEVENT
DTSTART;TZID=America/New_York:20230906T080000
DTEND;TZID=America/New_York:20230906T080000
DTSTAMP:20260421T193855
CREATED:20231027T180305Z
LAST-MODIFIED:20231213T142253Z
UID:10000407-1693987200-1693987200@oceancityvacation.com
SUMMARY:Farmers Market
DESCRIPTION:Farmers Market – Tabernacle Grounds 8 a.m. to 1 p.m. Crafters in the street at 6th & Asbury Ave.
URL:https://oceancityvacation.com/events-calendar/farmers-market/2023-09-06/
LOCATION:Ocean City Tabernacle\, 6th & Asbury Ave.\, Ocean City\, NJ
CATEGORIES:Events Calendar
ATTACH;FMTTYPE=image/jpeg:https://oceancityvacation.com/wp-content/uploads/2023/01/1.4-farmers-market-daily-scaled.jpg
GEO:39.256744;-74.605108
X-APPLE-STRUCTURED-LOCATION;VALUE=URI;X-ADDRESS=Ocean City Tabernacle 6th & Asbury Ave. Ocean City NJ;X-APPLE-RADIUS=500;X-TITLE=6th & Asbury Ave.:geo:-74.605108,39.256744
END:VEVENT
BEGIN:VEVENT
DTSTART;TZID=America/New_York:20230628T080000
DTEND;TZID=America/New_York:20230628T080000
DTSTAMP:20260421T193855
CREATED:20231027T180305Z
LAST-MODIFIED:20231213T142253Z
UID:10000397-1687939200-1687939200@oceancityvacation.com
SUMMARY:Farmers Market
DESCRIPTION:Farmers Market – Tabernacle Grounds 8 a.m. to 1 p.m. Crafters in the street at 6th & Asbury Ave.
URL:https://oceancityvacation.com/events-calendar/farmers-market/2023-06-28/
LOCATION:Ocean City Tabernacle\, 6th & Asbury Ave.\, Ocean City\, NJ
CATEGORIES:Events Calendar
ATTACH;FMTTYPE=image/jpeg:https://oceancityvacation.com/wp-content/uploads/2023/01/1.4-farmers-market-daily-scaled.jpg
GEO:39.256744;-74.605108
X-APPLE-STRUCTURED-LOCATION;VALUE=URI;X-ADDRESS=Ocean City Tabernacle 6th & Asbury Ave. Ocean City NJ;X-APPLE-RADIUS=500;X-TITLE=6th & Asbury Ave.:geo:-74.605108,39.256744
END:VEVENT
BEGIN:VEVENT
DTSTART;TZID=America/New_York:20230705T080000
DTEND;TZID=America/New_York:20230705T080000
DTSTAMP:20260421T193855
CREATED:20231027T180305Z
LAST-MODIFIED:20231213T142253Z
UID:10000398-1688544000-1688544000@oceancityvacation.com
SUMMARY:Farmers Market
DESCRIPTION:Farmers Market – Tabernacle Grounds 8 a.m. to 1 p.m. Crafters in the street at 6th & Asbury Ave.
URL:https://oceancityvacation.com/events-calendar/farmers-market/2023-07-05/
LOCATION:Ocean City Tabernacle\, 6th & Asbury Ave.\, Ocean City\, NJ
CATEGORIES:Events Calendar
ATTACH;FMTTYPE=image/jpeg:https://oceancityvacation.com/wp-content/uploads/2023/01/1.4-farmers-market-daily-scaled.jpg
GEO:39.256744;-74.605108
X-APPLE-STRUCTURED-LOCATION;VALUE=URI;X-ADDRESS=Ocean City Tabernacle 6th & Asbury Ave. Ocean City NJ;X-APPLE-RADIUS=500;X-TITLE=6th & Asbury Ave.:geo:-74.605108,39.256744
END:VEVENT
BEGIN:VEVENT
DTSTART;TZID=America/New_York:20230712T080000
DTEND;TZID=America/New_York:20230712T080000
DTSTAMP:20260421T193855
CREATED:20231027T180305Z
LAST-MODIFIED:20231213T142253Z
UID:10000399-1689148800-1689148800@oceancityvacation.com
SUMMARY:Farmers Market
DESCRIPTION:Farmers Market – Tabernacle Grounds 8 a.m. to 1 p.m. Crafters in the street at 6th & Asbury Ave.
URL:https://oceancityvacation.com/events-calendar/farmers-market/2023-07-12/
LOCATION:Ocean City Tabernacle\, 6th & Asbury Ave.\, Ocean City\, NJ
CATEGORIES:Events Calendar
ATTACH;FMTTYPE=image/jpeg:https://oceancityvacation.com/wp-content/uploads/2023/01/1.4-farmers-market-daily-scaled.jpg
GEO:39.256744;-74.605108
X-APPLE-STRUCTURED-LOCATION;VALUE=URI;X-ADDRESS=Ocean City Tabernacle 6th & Asbury Ave. Ocean City NJ;X-APPLE-RADIUS=500;X-TITLE=6th & Asbury Ave.:geo:-74.605108,39.256744
END:VEVENT
END:VCALENDAR