BEGIN:VCALENDAR
VERSION:2.0
PRODID:-//Ocean City NJ - ECPv6.15.14//NONSGML v1.0//EN
CALSCALE:GREGORIAN
METHOD:PUBLISH
X-ORIGINAL-URL:https://oceancityvacation.com
X-WR-CALDESC:Events for Ocean City NJ
REFRESH-INTERVAL;VALUE=DURATION:PT1H
X-Robots-Tag:noindex
X-PUBLISHED-TTL:PT1H
BEGIN:VTIMEZONE
TZID:America/New_York
BEGIN:DAYLIGHT
TZOFFSETFROM:-0500
TZOFFSETTO:-0400
TZNAME:EDT
DTSTART:20250309T070000
END:DAYLIGHT
BEGIN:STANDARD
TZOFFSETFROM:-0400
TZOFFSETTO:-0500
TZNAME:EST
DTSTART:20251102T060000
END:STANDARD
BEGIN:DAYLIGHT
TZOFFSETFROM:-0500
TZOFFSETTO:-0400
TZNAME:EDT
DTSTART:20260308T070000
END:DAYLIGHT
BEGIN:STANDARD
TZOFFSETFROM:-0400
TZOFFSETTO:-0500
TZNAME:EST
DTSTART:20261101T060000
END:STANDARD
BEGIN:DAYLIGHT
TZOFFSETFROM:-0500
TZOFFSETTO:-0400
TZNAME:EDT
DTSTART:20270314T070000
END:DAYLIGHT
BEGIN:STANDARD
TZOFFSETFROM:-0400
TZOFFSETTO:-0500
TZNAME:EST
DTSTART:20271107T060000
END:STANDARD
BEGIN:DAYLIGHT
TZOFFSETFROM:-0500
TZOFFSETTO:-0400
TZNAME:EDT
DTSTART:20280312T070000
END:DAYLIGHT
BEGIN:STANDARD
TZOFFSETFROM:-0400
TZOFFSETTO:-0500
TZNAME:EST
DTSTART:20281105T060000
END:STANDARD
END:VTIMEZONE
BEGIN:VEVENT
DTSTART;TZID=America/New_York:20260913T113000
DTEND;TZID=America/New_York:20260913T160000
DTSTAMP:20260420T183734
CREATED:20251107T182055Z
LAST-MODIFIED:20251107T182055Z
UID:10001861-1789299000-1789315200@oceancityvacation.com
SUMMARY:Corvette Show
DESCRIPTION:Corvette Show Over 400 cars exhibited. One of the largest shows of its kind in the East. Models from almost every year Corvettes were manufactured comprise this colorful show. Displayed on the boardwalk from 6th Street – 14th Street\, 11:30 a.m. to 4:00 p.m. For more information call 609-457-0081. Register at boardwalkcorvettesac.com.
URL:https://oceancityvacation.com/events-calendar/corvette-show-5/
LOCATION:Ocean City Boardwalk\, 825 Boardwalk\, Ocean City\, NJ\, 08226\, United States
CATEGORIES:Events Calendar
ATTACH;FMTTYPE=image/jpeg:https://oceancityvacation.com/wp-content/uploads/2023/11/corvette-show.jpg
GEO:39.2751976;-74.5695462
X-APPLE-STRUCTURED-LOCATION;VALUE=URI;X-ADDRESS=Ocean City Boardwalk 825 Boardwalk Ocean City NJ 08226 United States;X-APPLE-RADIUS=500;X-TITLE=825 Boardwalk:geo:-74.5695462,39.2751976
END:VEVENT
BEGIN:VEVENT
DTSTART;TZID=America/New_York:20260919T200000
DTEND;TZID=America/New_York:20260919T210000
DTSTAMP:20260420T183734
CREATED:20251107T182443Z
LAST-MODIFIED:20260213T154841Z
UID:10001863-1789848000-1789851600@oceancityvacation.com
SUMMARY:Parachute Pyrotechnic Show
DESCRIPTION:Parachute Pyrotechnic Show consists of several highly trained and specially licensed Team Fastrax™ demonstrators exiting the aircraft 6\,000 feet above Ocean City’s Beach & Boardwalk. Brilliant white or multi-colored projectile pyrotechnics are then ignited and flown in formation\, creating a dazzling display for spectators on the ground. 8:00 p.m. jump with a landing on the 7th St Beach. Viewable along the entire Boardwalk.
URL:https://oceancityvacation.com/events-calendar/parachute-pyrotechnic-show-4/
LOCATION:Ocean City Boardwalk\, 825 Boardwalk\, Ocean City\, NJ\, 08226\, United States
CATEGORIES:Events Calendar
ATTACH;FMTTYPE=image/png:https://oceancityvacation.com/wp-content/uploads/2025/10/Untitled-design-24.png
GEO:39.2751976;-74.5695462
X-APPLE-STRUCTURED-LOCATION;VALUE=URI;X-ADDRESS=Ocean City Boardwalk 825 Boardwalk Ocean City NJ 08226 United States;X-APPLE-RADIUS=500;X-TITLE=825 Boardwalk:geo:-74.5695462,39.2751976
END:VEVENT
BEGIN:VEVENT
DTSTART;TZID=America/New_York:20260920T130000
DTEND;TZID=America/New_York:20260920T140000
DTSTAMP:20260420T183734
CREATED:20251107T182605Z
LAST-MODIFIED:20251107T182605Z
UID:10001864-1789909200-1789912800@oceancityvacation.com
SUMMARY:Boardwalk Aerobatic Airshow
DESCRIPTION:Boardwalk Aerobatic Airshow 1:00 p.m.\, 6th – 14th Streets over the ocean. Thrill to some of the best stunt pilots and aerobatic champions in the world plus military demonstrations.
URL:https://oceancityvacation.com/events-calendar/boardwalk-aerobatic-airshow-4/
LOCATION:Ocean City Boardwalk\, 825 Boardwalk\, Ocean City\, NJ\, 08226\, United States
CATEGORIES:Events Calendar
ATTACH;FMTTYPE=image/jpeg:https://oceancityvacation.com/wp-content/uploads/2023/01/airshow-1-scaled.jpg
GEO:39.2751976;-74.5695462
X-APPLE-STRUCTURED-LOCATION;VALUE=URI;X-ADDRESS=Ocean City Boardwalk 825 Boardwalk Ocean City NJ 08226 United States;X-APPLE-RADIUS=500;X-TITLE=825 Boardwalk:geo:-74.5695462,39.2751976
END:VEVENT
BEGIN:VEVENT
DTSTART;TZID=America/New_York:20261003T120000
DTEND;TZID=America/New_York:20261003T170000
DTSTAMP:20260420T183734
CREATED:20251107T182906Z
LAST-MODIFIED:20260213T155249Z
UID:10001867-1791028800-1791046800@oceancityvacation.com
SUMMARY:Ocean City\, NJ Jeep Invasion
DESCRIPTION:Ocean City\, NJ Jeep Invasion Jeeps will fill the boardwalk between 5th Street – 14th Street\, noon – 5:00 p.m. For more information visit NJJeepInvasion.com or email blinkerfluidproductions@gmail.com.
URL:https://oceancityvacation.com/events-calendar/ocean-city-nj-jeep-invasion-5/
LOCATION:Ocean City Boardwalk\, 825 Boardwalk\, Ocean City\, NJ\, 08226\, United States
CATEGORIES:Events Calendar
ATTACH;FMTTYPE=image/png:https://oceancityvacation.com/wp-content/uploads/2025/11/Untitled-design-38.png
GEO:39.2751976;-74.5695462
X-APPLE-STRUCTURED-LOCATION;VALUE=URI;X-ADDRESS=Ocean City Boardwalk 825 Boardwalk Ocean City NJ 08226 United States;X-APPLE-RADIUS=500;X-TITLE=825 Boardwalk:geo:-74.5695462,39.2751976
END:VEVENT
BEGIN:VEVENT
DTSTART;TZID=America/New_York:20261003T080000
DTEND;TZID=America/New_York:20261003T170000
DTSTAMP:20260420T183734
CREATED:20251107T183154Z
LAST-MODIFIED:20251107T183154Z
UID:10001871-1791014400-1791046800@oceancityvacation.com
SUMMARY:Boardwalk & Downtown Merchant “Discount Days”
DESCRIPTION:Boardwalk & Downtown Merchant “Discount Days” 6th Street – 14th Street on the boardwalk and Asbury Ave.   
URL:https://oceancityvacation.com/events-calendar/boardwalk-downtown-merchant-discount-days-4/2026-10-03/
LOCATION:Ocean City Boardwalk\, 825 Boardwalk\, Ocean City\, NJ\, 08226\, United States
CATEGORIES:Events Calendar
ATTACH;FMTTYPE=image/jpeg:https://oceancityvacation.com/wp-content/uploads/2024/09/1.4-downtown-boardwalk-merchants-sales-2-800x600-1.jpg
GEO:39.2751976;-74.5695462
X-APPLE-STRUCTURED-LOCATION;VALUE=URI;X-ADDRESS=Ocean City Boardwalk 825 Boardwalk Ocean City NJ 08226 United States;X-APPLE-RADIUS=500;X-TITLE=825 Boardwalk:geo:-74.5695462,39.2751976
END:VEVENT
BEGIN:VEVENT
DTSTART;TZID=America/New_York:20261004T080000
DTEND;TZID=America/New_York:20261004T170000
DTSTAMP:20260420T183734
CREATED:20251107T183154Z
LAST-MODIFIED:20251107T183154Z
UID:10001872-1791100800-1791133200@oceancityvacation.com
SUMMARY:Boardwalk & Downtown Merchant “Discount Days”
DESCRIPTION:Boardwalk & Downtown Merchant “Discount Days” 6th Street – 14th Street on the boardwalk and Asbury Ave.   
URL:https://oceancityvacation.com/events-calendar/boardwalk-downtown-merchant-discount-days-4/2026-10-04/
LOCATION:Ocean City Boardwalk\, 825 Boardwalk\, Ocean City\, NJ\, 08226\, United States
CATEGORIES:Events Calendar
ATTACH;FMTTYPE=image/jpeg:https://oceancityvacation.com/wp-content/uploads/2024/09/1.4-downtown-boardwalk-merchants-sales-2-800x600-1.jpg
GEO:39.2751976;-74.5695462
X-APPLE-STRUCTURED-LOCATION;VALUE=URI;X-ADDRESS=Ocean City Boardwalk 825 Boardwalk Ocean City NJ 08226 United States;X-APPLE-RADIUS=500;X-TITLE=825 Boardwalk:geo:-74.5695462,39.2751976
END:VEVENT
BEGIN:VEVENT
DTSTART;TZID=America/New_York:20261011T080000
DTEND;TZID=America/New_York:20261011T170000
DTSTAMP:20260420T183734
CREATED:20251107T183250Z
LAST-MODIFIED:20260116T201616Z
UID:10001877-1791705600-1791738000@oceancityvacation.com
SUMMARY:Boardwalk & Downtown Merchant “Discount Days”
DESCRIPTION:Boardwalk & Downtown Merchant “Discount Days” 6th Street – 14th Street on the boardwalk and Asbury Ave.   
URL:https://oceancityvacation.com/events-calendar/boardwalk-downtown-merchant-discount-days-5/2026-10-11/
LOCATION:Ocean City Boardwalk\, 825 Boardwalk\, Ocean City\, NJ\, 08226\, United States
CATEGORIES:Events Calendar
ATTACH;FMTTYPE=image/jpeg:https://oceancityvacation.com/wp-content/uploads/2024/10/DSC07227.jpg
GEO:39.2751976;-74.5695462
X-APPLE-STRUCTURED-LOCATION;VALUE=URI;X-ADDRESS=Ocean City Boardwalk 825 Boardwalk Ocean City NJ 08226 United States;X-APPLE-RADIUS=500;X-TITLE=825 Boardwalk:geo:-74.5695462,39.2751976
END:VEVENT
BEGIN:VEVENT
DTSTART;TZID=America/New_York:20261012T080000
DTEND;TZID=America/New_York:20261012T170000
DTSTAMP:20260420T183734
CREATED:20251107T183250Z
LAST-MODIFIED:20260116T201616Z
UID:10001939-1791792000-1791824400@oceancityvacation.com
SUMMARY:Boardwalk & Downtown Merchant “Discount Days”
DESCRIPTION:Boardwalk & Downtown Merchant “Discount Days” 6th Street – 14th Street on the boardwalk and Asbury Ave.   
URL:https://oceancityvacation.com/events-calendar/boardwalk-downtown-merchant-discount-days-5/2026-10-12/
LOCATION:Ocean City Boardwalk\, 825 Boardwalk\, Ocean City\, NJ\, 08226\, United States
CATEGORIES:Events Calendar
ATTACH;FMTTYPE=image/jpeg:https://oceancityvacation.com/wp-content/uploads/2024/10/DSC07227.jpg
GEO:39.2751976;-74.5695462
X-APPLE-STRUCTURED-LOCATION;VALUE=URI;X-ADDRESS=Ocean City Boardwalk 825 Boardwalk Ocean City NJ 08226 United States;X-APPLE-RADIUS=500;X-TITLE=825 Boardwalk:geo:-74.5695462,39.2751976
END:VEVENT
BEGIN:VEVENT
DTSTART;TZID=America/New_York:20271008T080000
DTEND;TZID=America/New_York:20271008T170000
DTSTAMP:20260420T183734
CREATED:20251107T183250Z
LAST-MODIFIED:20260116T201616Z
UID:10001940-1822982400-1823014800@oceancityvacation.com
SUMMARY:Boardwalk & Downtown Merchant “Discount Days”
DESCRIPTION:Boardwalk & Downtown Merchant “Discount Days” 6th Street – 14th Street on the boardwalk and Asbury Ave.   
URL:https://oceancityvacation.com/events-calendar/boardwalk-downtown-merchant-discount-days-5/2027-10-08/
LOCATION:Ocean City Boardwalk\, 825 Boardwalk\, Ocean City\, NJ\, 08226\, United States
CATEGORIES:Events Calendar
ATTACH;FMTTYPE=image/jpeg:https://oceancityvacation.com/wp-content/uploads/2024/10/DSC07227.jpg
GEO:39.2751976;-74.5695462
X-APPLE-STRUCTURED-LOCATION;VALUE=URI;X-ADDRESS=Ocean City Boardwalk 825 Boardwalk Ocean City NJ 08226 United States;X-APPLE-RADIUS=500;X-TITLE=825 Boardwalk:geo:-74.5695462,39.2751976
END:VEVENT
BEGIN:VEVENT
DTSTART;TZID=America/New_York:20261024T090000
DTEND;TZID=America/New_York:20261024T170000
DTSTAMP:20260420T183734
CREATED:20251107T183836Z
LAST-MODIFIED:20251107T183836Z
UID:10001880-1792832400-1792861200@oceancityvacation.com
SUMMARY:Dog Days
DESCRIPTION:Dog Days Leashed dogs will be permitted on the boardwalk from 9:00 a.m. to 5:00 p.m. Saturday and 9:00 a.m. – 3:00 p.m. Sunday.  All are welcome and encouraged to bring their favorite furry canine friend. Activities for Saturday include dog-specific vendors along the boardwalk\, photo-op stations on the boardwalk\, and the Humane Society of Ocean City’s “Pet of the Year” Announcement. 
URL:https://oceancityvacation.com/events-calendar/dog-days-3/2026-10-24/
LOCATION:Ocean City Boardwalk\, 825 Boardwalk\, Ocean City\, NJ\, 08226\, United States
CATEGORIES:Events Calendar
ATTACH;FMTTYPE=image/jpeg:https://oceancityvacation.com/wp-content/uploads/2023/01/Howloween-parade-from-doug-scaled.jpg
GEO:39.2751976;-74.5695462
X-APPLE-STRUCTURED-LOCATION;VALUE=URI;X-ADDRESS=Ocean City Boardwalk 825 Boardwalk Ocean City NJ 08226 United States;X-APPLE-RADIUS=500;X-TITLE=825 Boardwalk:geo:-74.5695462,39.2751976
END:VEVENT
BEGIN:VEVENT
DTSTART;TZID=America/New_York:20261025T090000
DTEND;TZID=America/New_York:20261025T150000
DTSTAMP:20260420T183734
CREATED:20251107T183836Z
LAST-MODIFIED:20251107T183836Z
UID:10001881-1792918800-1792940400@oceancityvacation.com
SUMMARY:Dog Days
DESCRIPTION:Dog Days Leashed dogs will be permitted on the boardwalk from 9:00 a.m. to 5:00 p.m. Saturday and 9:00 a.m. – 3:00 p.m. Sunday.  All are welcome and encouraged to bring their favorite furry canine friend. Activities for Saturday include dog-specific vendors along the boardwalk\, photo-op stations on the boardwalk\, and the Humane Society of Ocean City’s “Pet of the Year” Announcement. 
URL:https://oceancityvacation.com/events-calendar/dog-days-3/2026-10-25/
LOCATION:Ocean City Boardwalk\, 825 Boardwalk\, Ocean City\, NJ\, 08226\, United States
CATEGORIES:Events Calendar
ATTACH;FMTTYPE=image/jpeg:https://oceancityvacation.com/wp-content/uploads/2023/01/Howloween-parade-from-doug-scaled.jpg
GEO:39.2751976;-74.5695462
X-APPLE-STRUCTURED-LOCATION;VALUE=URI;X-ADDRESS=Ocean City Boardwalk 825 Boardwalk Ocean City NJ 08226 United States;X-APPLE-RADIUS=500;X-TITLE=825 Boardwalk:geo:-74.5695462,39.2751976
END:VEVENT
BEGIN:VEVENT
DTSTART;TZID=America/New_York:20261024T140000
DTEND;TZID=America/New_York:20261024T160000
DTSTAMP:20260420T183734
CREATED:20251107T184044Z
LAST-MODIFIED:20251107T184044Z
UID:10001882-1792850400-1792857600@oceancityvacation.com
SUMMARY:HSOC “Howl-O-Ween” Parade
DESCRIPTION:HSOC “Howl-O-Ween” Parade Hosted by the Humane Society of Ocean City. Contestants are encouraged to dress themselves and their pooch in zany\, fun Halloween costumes in the spirit of the season. Registration begins at 2:00 p.m. at the Sports & Civic Center. The parade begins at 3:00 p.m. and the procession is from 6th to 14th Street on the Boardwalk.
URL:https://oceancityvacation.com/events-calendar/hsoc-howl-o-ween-parade-4/
LOCATION:Ocean City Boardwalk\, 825 Boardwalk\, Ocean City\, NJ\, 08226\, United States
CATEGORIES:Events Calendar
ATTACH;FMTTYPE=image/jpeg:https://oceancityvacation.com/wp-content/uploads/2023/11/dog-parade-scaled.jpg
GEO:39.2751976;-74.5695462
X-APPLE-STRUCTURED-LOCATION;VALUE=URI;X-ADDRESS=Ocean City Boardwalk 825 Boardwalk Ocean City NJ 08226 United States;X-APPLE-RADIUS=500;X-TITLE=825 Boardwalk:geo:-74.5695462,39.2751976
END:VEVENT
BEGIN:VEVENT
DTSTART;TZID=America/New_York:20261017T110000
DTEND;TZID=America/New_York:20261017T163000
DTSTAMP:20260420T183734
CREATED:20260116T201447Z
LAST-MODIFIED:20260116T201447Z
UID:10001938-1792234800-1792254600@oceancityvacation.com
SUMMARY:Porsche Boardwalk Reunion
DESCRIPTION:Porsche Boardwalk Reunion More than 350 Porsches will be displayed on the Boardwalk between 6th Street and 14th Street from 11:00 a.m. to 4:30 p.m. as part of the Porsche Boardwalk Reunion.  Cars will drive onto the Boardwalk at 5th Street and proceed southbound to 14th Street.  For everyone’s safety\, bicyclists are not permitted on the Boardwalk during the event.  The Music Pier will be host to various tech sessions on Porsche-related topics. The entire event is free and open to the public. For more information\, visit www.boardwalkreunion.org.
URL:https://oceancityvacation.com/events-calendar/porsche-boardwalk-reunion-6/
LOCATION:Ocean City Boardwalk\, 825 Boardwalk\, Ocean City\, NJ\, 08226\, United States
CATEGORIES:Events Calendar
ATTACH;FMTTYPE=image/jpeg:https://oceancityvacation.com/wp-content/uploads/2023/01/1.4-Porshes-on-Boardwalk-Vintage-Porsche-scaled.jpg
GEO:39.2751976;-74.5695462
X-APPLE-STRUCTURED-LOCATION;VALUE=URI;X-ADDRESS=Ocean City Boardwalk 825 Boardwalk Ocean City NJ 08226 United States;X-APPLE-RADIUS=500;X-TITLE=825 Boardwalk:geo:-74.5695462,39.2751976
END:VEVENT
BEGIN:VEVENT
DTSTART;TZID=America/New_York:20260617T190000
DTEND;TZID=America/New_York:20260617T200000
DTSTAMP:20260420T183734
CREATED:20260213T143917Z
LAST-MODIFIED:20260213T155829Z
UID:10001944-1781722800-1781726400@oceancityvacation.com
SUMMARY:Miss New Jersey Parade
DESCRIPTION:Miss New Jersey Parade See the contestants in the 2026 Miss New Jersey Competition in a parade on the Ocean City Boardwalk. Parade starts at 7 p.m.
URL:https://oceancityvacation.com/events-calendar/miss-new-jersey-parade/
LOCATION:Ocean City Boardwalk\, 825 Boardwalk\, Ocean City\, NJ\, 08226\, United States
CATEGORIES:Events Calendar
ATTACH;FMTTYPE=image/png:https://oceancityvacation.com/wp-content/uploads/2025/10/Untitled-design-24.png
GEO:39.2751976;-74.5695462
X-APPLE-STRUCTURED-LOCATION;VALUE=URI;X-ADDRESS=Ocean City Boardwalk 825 Boardwalk Ocean City NJ 08226 United States;X-APPLE-RADIUS=500;X-TITLE=825 Boardwalk:geo:-74.5695462,39.2751976
END:VEVENT
BEGIN:VEVENT
DTSTART;TZID=America/New_York:20260824T200000
DTEND;TZID=America/New_York:20260824T203000
DTSTAMP:20260420T183734
CREATED:20260414T174653Z
LAST-MODIFIED:20260414T180833Z
UID:10001993-1787601600-1787603400@oceancityvacation.com
SUMMARY:America 250: Lights Over Ocean City Drone Show
DESCRIPTION:America 250: Lights Over Ocean City Drone Show Ocean City will celebrate the 250th anniversary of our nation this summer with a weekly patriotic drone show over the beach and boardwalk; south of Sixth Street.  The show will feature hundreds of drones lighting up the sky and creating animations that salute America. The 15-minute shows will be held after dusk on seven Monday from July 6 through August 17.  The weekly event is made possible through a $25\,000 grant from the Cape May County Board of Commissioners\, sponsorships from Boardwalk merchants and city funding.
URL:https://oceancityvacation.com/events-calendar/america-250-lights-over-ocean-city-drone-show/2026-08-24/
LOCATION:Ocean City Boardwalk\, 825 Boardwalk\, Ocean City\, NJ\, 08226\, United States
CATEGORIES:Events Calendar
ATTACH;FMTTYPE=image/jpeg:https://oceancityvacation.com/wp-content/uploads/2026/04/250.jpg
GEO:39.2751976;-74.5695462
X-APPLE-STRUCTURED-LOCATION;VALUE=URI;X-ADDRESS=Ocean City Boardwalk 825 Boardwalk Ocean City NJ 08226 United States;X-APPLE-RADIUS=500;X-TITLE=825 Boardwalk:geo:-74.5695462,39.2751976
END:VEVENT
BEGIN:VEVENT
DTSTART;TZID=America/New_York:20260831T200000
DTEND;TZID=America/New_York:20260831T203000
DTSTAMP:20260420T183734
CREATED:20260414T174653Z
LAST-MODIFIED:20260414T180833Z
UID:10001994-1788206400-1788208200@oceancityvacation.com
SUMMARY:America 250: Lights Over Ocean City Drone Show
DESCRIPTION:America 250: Lights Over Ocean City Drone Show Ocean City will celebrate the 250th anniversary of our nation this summer with a weekly patriotic drone show over the beach and boardwalk; south of Sixth Street.  The show will feature hundreds of drones lighting up the sky and creating animations that salute America. The 15-minute shows will be held after dusk on seven Monday from July 6 through August 17.  The weekly event is made possible through a $25\,000 grant from the Cape May County Board of Commissioners\, sponsorships from Boardwalk merchants and city funding.
URL:https://oceancityvacation.com/events-calendar/america-250-lights-over-ocean-city-drone-show/2026-08-31/
LOCATION:Ocean City Boardwalk\, 825 Boardwalk\, Ocean City\, NJ\, 08226\, United States
CATEGORIES:Events Calendar
ATTACH;FMTTYPE=image/jpeg:https://oceancityvacation.com/wp-content/uploads/2026/04/250.jpg
GEO:39.2751976;-74.5695462
X-APPLE-STRUCTURED-LOCATION;VALUE=URI;X-ADDRESS=Ocean City Boardwalk 825 Boardwalk Ocean City NJ 08226 United States;X-APPLE-RADIUS=500;X-TITLE=825 Boardwalk:geo:-74.5695462,39.2751976
END:VEVENT
BEGIN:VEVENT
DTSTART;TZID=America/New_York:20260706T200000
DTEND;TZID=America/New_York:20260706T203000
DTSTAMP:20260420T183734
CREATED:20260414T174653Z
LAST-MODIFIED:20260414T180833Z
UID:10001986-1783368000-1783369800@oceancityvacation.com
SUMMARY:America 250: Lights Over Ocean City Drone Show
DESCRIPTION:America 250: Lights Over Ocean City Drone Show Ocean City will celebrate the 250th anniversary of our nation this summer with a weekly patriotic drone show over the beach and boardwalk; south of Sixth Street.  The show will feature hundreds of drones lighting up the sky and creating animations that salute America. The 15-minute shows will be held after dusk on seven Monday from July 6 through August 17.  The weekly event is made possible through a $25\,000 grant from the Cape May County Board of Commissioners\, sponsorships from Boardwalk merchants and city funding.
URL:https://oceancityvacation.com/events-calendar/america-250-lights-over-ocean-city-drone-show/2026-07-06/
LOCATION:Ocean City Boardwalk\, 825 Boardwalk\, Ocean City\, NJ\, 08226\, United States
CATEGORIES:Events Calendar
ATTACH;FMTTYPE=image/jpeg:https://oceancityvacation.com/wp-content/uploads/2026/04/250.jpg
GEO:39.2751976;-74.5695462
X-APPLE-STRUCTURED-LOCATION;VALUE=URI;X-ADDRESS=Ocean City Boardwalk 825 Boardwalk Ocean City NJ 08226 United States;X-APPLE-RADIUS=500;X-TITLE=825 Boardwalk:geo:-74.5695462,39.2751976
END:VEVENT
BEGIN:VEVENT
DTSTART;TZID=America/New_York:20260713T200000
DTEND;TZID=America/New_York:20260713T203000
DTSTAMP:20260420T183734
CREATED:20260414T174653Z
LAST-MODIFIED:20260414T180833Z
UID:10001987-1783972800-1783974600@oceancityvacation.com
SUMMARY:America 250: Lights Over Ocean City Drone Show
DESCRIPTION:America 250: Lights Over Ocean City Drone Show Ocean City will celebrate the 250th anniversary of our nation this summer with a weekly patriotic drone show over the beach and boardwalk; south of Sixth Street.  The show will feature hundreds of drones lighting up the sky and creating animations that salute America. The 15-minute shows will be held after dusk on seven Monday from July 6 through August 17.  The weekly event is made possible through a $25\,000 grant from the Cape May County Board of Commissioners\, sponsorships from Boardwalk merchants and city funding.
URL:https://oceancityvacation.com/events-calendar/america-250-lights-over-ocean-city-drone-show/2026-07-13/
LOCATION:Ocean City Boardwalk\, 825 Boardwalk\, Ocean City\, NJ\, 08226\, United States
CATEGORIES:Events Calendar
ATTACH;FMTTYPE=image/jpeg:https://oceancityvacation.com/wp-content/uploads/2026/04/250.jpg
GEO:39.2751976;-74.5695462
X-APPLE-STRUCTURED-LOCATION;VALUE=URI;X-ADDRESS=Ocean City Boardwalk 825 Boardwalk Ocean City NJ 08226 United States;X-APPLE-RADIUS=500;X-TITLE=825 Boardwalk:geo:-74.5695462,39.2751976
END:VEVENT
BEGIN:VEVENT
DTSTART;TZID=America/New_York:20260720T200000
DTEND;TZID=America/New_York:20260720T203000
DTSTAMP:20260420T183734
CREATED:20260414T174653Z
LAST-MODIFIED:20260414T180833Z
UID:10001988-1784577600-1784579400@oceancityvacation.com
SUMMARY:America 250: Lights Over Ocean City Drone Show
DESCRIPTION:America 250: Lights Over Ocean City Drone Show Ocean City will celebrate the 250th anniversary of our nation this summer with a weekly patriotic drone show over the beach and boardwalk; south of Sixth Street.  The show will feature hundreds of drones lighting up the sky and creating animations that salute America. The 15-minute shows will be held after dusk on seven Monday from July 6 through August 17.  The weekly event is made possible through a $25\,000 grant from the Cape May County Board of Commissioners\, sponsorships from Boardwalk merchants and city funding.
URL:https://oceancityvacation.com/events-calendar/america-250-lights-over-ocean-city-drone-show/2026-07-20/
LOCATION:Ocean City Boardwalk\, 825 Boardwalk\, Ocean City\, NJ\, 08226\, United States
CATEGORIES:Events Calendar
ATTACH;FMTTYPE=image/jpeg:https://oceancityvacation.com/wp-content/uploads/2026/04/250.jpg
GEO:39.2751976;-74.5695462
X-APPLE-STRUCTURED-LOCATION;VALUE=URI;X-ADDRESS=Ocean City Boardwalk 825 Boardwalk Ocean City NJ 08226 United States;X-APPLE-RADIUS=500;X-TITLE=825 Boardwalk:geo:-74.5695462,39.2751976
END:VEVENT
BEGIN:VEVENT
DTSTART;TZID=America/New_York:20260727T200000
DTEND;TZID=America/New_York:20260727T203000
DTSTAMP:20260420T183734
CREATED:20260414T174653Z
LAST-MODIFIED:20260414T180833Z
UID:10001989-1785182400-1785184200@oceancityvacation.com
SUMMARY:America 250: Lights Over Ocean City Drone Show
DESCRIPTION:America 250: Lights Over Ocean City Drone Show Ocean City will celebrate the 250th anniversary of our nation this summer with a weekly patriotic drone show over the beach and boardwalk; south of Sixth Street.  The show will feature hundreds of drones lighting up the sky and creating animations that salute America. The 15-minute shows will be held after dusk on seven Monday from July 6 through August 17.  The weekly event is made possible through a $25\,000 grant from the Cape May County Board of Commissioners\, sponsorships from Boardwalk merchants and city funding.
URL:https://oceancityvacation.com/events-calendar/america-250-lights-over-ocean-city-drone-show/2026-07-27/
LOCATION:Ocean City Boardwalk\, 825 Boardwalk\, Ocean City\, NJ\, 08226\, United States
CATEGORIES:Events Calendar
ATTACH;FMTTYPE=image/jpeg:https://oceancityvacation.com/wp-content/uploads/2026/04/250.jpg
GEO:39.2751976;-74.5695462
X-APPLE-STRUCTURED-LOCATION;VALUE=URI;X-ADDRESS=Ocean City Boardwalk 825 Boardwalk Ocean City NJ 08226 United States;X-APPLE-RADIUS=500;X-TITLE=825 Boardwalk:geo:-74.5695462,39.2751976
END:VEVENT
BEGIN:VEVENT
DTSTART;TZID=America/New_York:20260803T200000
DTEND;TZID=America/New_York:20260803T203000
DTSTAMP:20260420T183734
CREATED:20260414T174653Z
LAST-MODIFIED:20260414T180833Z
UID:10001990-1785787200-1785789000@oceancityvacation.com
SUMMARY:America 250: Lights Over Ocean City Drone Show
DESCRIPTION:America 250: Lights Over Ocean City Drone Show Ocean City will celebrate the 250th anniversary of our nation this summer with a weekly patriotic drone show over the beach and boardwalk; south of Sixth Street.  The show will feature hundreds of drones lighting up the sky and creating animations that salute America. The 15-minute shows will be held after dusk on seven Monday from July 6 through August 17.  The weekly event is made possible through a $25\,000 grant from the Cape May County Board of Commissioners\, sponsorships from Boardwalk merchants and city funding.
URL:https://oceancityvacation.com/events-calendar/america-250-lights-over-ocean-city-drone-show/2026-08-03/
LOCATION:Ocean City Boardwalk\, 825 Boardwalk\, Ocean City\, NJ\, 08226\, United States
CATEGORIES:Events Calendar
ATTACH;FMTTYPE=image/jpeg:https://oceancityvacation.com/wp-content/uploads/2026/04/250.jpg
GEO:39.2751976;-74.5695462
X-APPLE-STRUCTURED-LOCATION;VALUE=URI;X-ADDRESS=Ocean City Boardwalk 825 Boardwalk Ocean City NJ 08226 United States;X-APPLE-RADIUS=500;X-TITLE=825 Boardwalk:geo:-74.5695462,39.2751976
END:VEVENT
BEGIN:VEVENT
DTSTART;TZID=America/New_York:20260810T200000
DTEND;TZID=America/New_York:20260810T203000
DTSTAMP:20260420T183734
CREATED:20260414T174653Z
LAST-MODIFIED:20260414T180833Z
UID:10001991-1786392000-1786393800@oceancityvacation.com
SUMMARY:America 250: Lights Over Ocean City Drone Show
DESCRIPTION:America 250: Lights Over Ocean City Drone Show Ocean City will celebrate the 250th anniversary of our nation this summer with a weekly patriotic drone show over the beach and boardwalk; south of Sixth Street.  The show will feature hundreds of drones lighting up the sky and creating animations that salute America. The 15-minute shows will be held after dusk on seven Monday from July 6 through August 17.  The weekly event is made possible through a $25\,000 grant from the Cape May County Board of Commissioners\, sponsorships from Boardwalk merchants and city funding.
URL:https://oceancityvacation.com/events-calendar/america-250-lights-over-ocean-city-drone-show/2026-08-10/
LOCATION:Ocean City Boardwalk\, 825 Boardwalk\, Ocean City\, NJ\, 08226\, United States
CATEGORIES:Events Calendar
ATTACH;FMTTYPE=image/jpeg:https://oceancityvacation.com/wp-content/uploads/2026/04/250.jpg
GEO:39.2751976;-74.5695462
X-APPLE-STRUCTURED-LOCATION;VALUE=URI;X-ADDRESS=Ocean City Boardwalk 825 Boardwalk Ocean City NJ 08226 United States;X-APPLE-RADIUS=500;X-TITLE=825 Boardwalk:geo:-74.5695462,39.2751976
END:VEVENT
BEGIN:VEVENT
DTSTART;TZID=America/New_York:20260817T200000
DTEND;TZID=America/New_York:20260817T203000
DTSTAMP:20260420T183734
CREATED:20260414T174653Z
LAST-MODIFIED:20260414T180833Z
UID:10001992-1786996800-1786998600@oceancityvacation.com
SUMMARY:America 250: Lights Over Ocean City Drone Show
DESCRIPTION:America 250: Lights Over Ocean City Drone Show Ocean City will celebrate the 250th anniversary of our nation this summer with a weekly patriotic drone show over the beach and boardwalk; south of Sixth Street.  The show will feature hundreds of drones lighting up the sky and creating animations that salute America. The 15-minute shows will be held after dusk on seven Monday from July 6 through August 17.  The weekly event is made possible through a $25\,000 grant from the Cape May County Board of Commissioners\, sponsorships from Boardwalk merchants and city funding.
URL:https://oceancityvacation.com/events-calendar/america-250-lights-over-ocean-city-drone-show/2026-08-17/
LOCATION:Ocean City Boardwalk\, 825 Boardwalk\, Ocean City\, NJ\, 08226\, United States
CATEGORIES:Events Calendar
ATTACH;FMTTYPE=image/jpeg:https://oceancityvacation.com/wp-content/uploads/2026/04/250.jpg
GEO:39.2751976;-74.5695462
X-APPLE-STRUCTURED-LOCATION;VALUE=URI;X-ADDRESS=Ocean City Boardwalk 825 Boardwalk Ocean City NJ 08226 United States;X-APPLE-RADIUS=500;X-TITLE=825 Boardwalk:geo:-74.5695462,39.2751976
END:VEVENT
END:VCALENDAR