BEGIN:VCALENDAR
VERSION:2.0
PRODID:-//Ocean City NJ - ECPv6.15.14//NONSGML v1.0//EN
CALSCALE:GREGORIAN
METHOD:PUBLISH
X-WR-CALNAME:Ocean City NJ
X-ORIGINAL-URL:https://oceancityvacation.com
X-WR-CALDESC:Events for Ocean City NJ
REFRESH-INTERVAL;VALUE=DURATION:PT1H
X-Robots-Tag:noindex
X-PUBLISHED-TTL:PT1H
BEGIN:VTIMEZONE
TZID:America/New_York
BEGIN:DAYLIGHT
TZOFFSETFROM:-0500
TZOFFSETTO:-0400
TZNAME:EDT
DTSTART:20250309T070000
END:DAYLIGHT
BEGIN:STANDARD
TZOFFSETFROM:-0400
TZOFFSETTO:-0500
TZNAME:EST
DTSTART:20251102T060000
END:STANDARD
BEGIN:DAYLIGHT
TZOFFSETFROM:-0500
TZOFFSETTO:-0400
TZNAME:EDT
DTSTART:20260308T070000
END:DAYLIGHT
BEGIN:STANDARD
TZOFFSETFROM:-0400
TZOFFSETTO:-0500
TZNAME:EST
DTSTART:20261101T060000
END:STANDARD
BEGIN:DAYLIGHT
TZOFFSETFROM:-0500
TZOFFSETTO:-0400
TZNAME:EDT
DTSTART:20270314T070000
END:DAYLIGHT
BEGIN:STANDARD
TZOFFSETFROM:-0400
TZOFFSETTO:-0500
TZNAME:EST
DTSTART:20271107T060000
END:STANDARD
END:VTIMEZONE
BEGIN:VEVENT
DTSTART;TZID=America/New_York:20260803T190000
DTEND;TZID=America/New_York:20260803T210000
DTSTAMP:20260420T131953
CREATED:20251030T191518Z
LAST-MODIFIED:20251030T194207Z
UID:10001780-1785783600-1785790800@oceancityvacation.com
SUMMARY:Family Nights
DESCRIPTION:Family Nights Entertainment including jugglers\, music\, characters and more on the boardwalk 7:00 p.m. to 9:00 p.m. between 6th Street – 14th Street.
URL:https://oceancityvacation.com/events-calendar/family-nights-8/2026-08-03/
LOCATION:Ocean City Boardwalk\, 825 Boardwalk\, Ocean City\, NJ\, 08226\, United States
CATEGORIES:Events Calendar
ATTACH;FMTTYPE=image/jpeg:https://oceancityvacation.com/wp-content/uploads/2025/10/family-night.jpg
GEO:39.2751976;-74.5695462
X-APPLE-STRUCTURED-LOCATION;VALUE=URI;X-ADDRESS=Ocean City Boardwalk 825 Boardwalk Ocean City NJ 08226 United States;X-APPLE-RADIUS=500;X-TITLE=825 Boardwalk:geo:-74.5695462,39.2751976
END:VEVENT
BEGIN:VEVENT
DTSTART;TZID=America/New_York:20260810T190000
DTEND;TZID=America/New_York:20260810T210000
DTSTAMP:20260420T131953
CREATED:20251030T191518Z
LAST-MODIFIED:20251030T194207Z
UID:10001781-1786388400-1786395600@oceancityvacation.com
SUMMARY:Family Nights
DESCRIPTION:Family Nights Entertainment including jugglers\, music\, characters and more on the boardwalk 7:00 p.m. to 9:00 p.m. between 6th Street – 14th Street.
URL:https://oceancityvacation.com/events-calendar/family-nights-8/2026-08-10/
LOCATION:Ocean City Boardwalk\, 825 Boardwalk\, Ocean City\, NJ\, 08226\, United States
CATEGORIES:Events Calendar
ATTACH;FMTTYPE=image/jpeg:https://oceancityvacation.com/wp-content/uploads/2025/10/family-night.jpg
GEO:39.2751976;-74.5695462
X-APPLE-STRUCTURED-LOCATION;VALUE=URI;X-ADDRESS=Ocean City Boardwalk 825 Boardwalk Ocean City NJ 08226 United States;X-APPLE-RADIUS=500;X-TITLE=825 Boardwalk:geo:-74.5695462,39.2751976
END:VEVENT
BEGIN:VEVENT
DTSTART;TZID=America/New_York:20260817T190000
DTEND;TZID=America/New_York:20260817T210000
DTSTAMP:20260420T131953
CREATED:20251030T191518Z
LAST-MODIFIED:20251030T194207Z
UID:10001782-1786993200-1787000400@oceancityvacation.com
SUMMARY:Family Nights
DESCRIPTION:Family Nights Entertainment including jugglers\, music\, characters and more on the boardwalk 7:00 p.m. to 9:00 p.m. between 6th Street – 14th Street.
URL:https://oceancityvacation.com/events-calendar/family-nights-8/2026-08-17/
LOCATION:Ocean City Boardwalk\, 825 Boardwalk\, Ocean City\, NJ\, 08226\, United States
CATEGORIES:Events Calendar
ATTACH;FMTTYPE=image/jpeg:https://oceancityvacation.com/wp-content/uploads/2025/10/family-night.jpg
GEO:39.2751976;-74.5695462
X-APPLE-STRUCTURED-LOCATION;VALUE=URI;X-ADDRESS=Ocean City Boardwalk 825 Boardwalk Ocean City NJ 08226 United States;X-APPLE-RADIUS=500;X-TITLE=825 Boardwalk:geo:-74.5695462,39.2751976
END:VEVENT
BEGIN:VEVENT
DTSTART;TZID=America/New_York:20260824T190000
DTEND;TZID=America/New_York:20260824T210000
DTSTAMP:20260420T131953
CREATED:20251030T191518Z
LAST-MODIFIED:20251030T194207Z
UID:10001783-1787598000-1787605200@oceancityvacation.com
SUMMARY:Family Nights
DESCRIPTION:Family Nights Entertainment including jugglers\, music\, characters and more on the boardwalk 7:00 p.m. to 9:00 p.m. between 6th Street – 14th Street.
URL:https://oceancityvacation.com/events-calendar/family-nights-8/2026-08-24/
LOCATION:Ocean City Boardwalk\, 825 Boardwalk\, Ocean City\, NJ\, 08226\, United States
CATEGORIES:Events Calendar
ATTACH;FMTTYPE=image/jpeg:https://oceancityvacation.com/wp-content/uploads/2025/10/family-night.jpg
GEO:39.2751976;-74.5695462
X-APPLE-STRUCTURED-LOCATION;VALUE=URI;X-ADDRESS=Ocean City Boardwalk 825 Boardwalk Ocean City NJ 08226 United States;X-APPLE-RADIUS=500;X-TITLE=825 Boardwalk:geo:-74.5695462,39.2751976
END:VEVENT
BEGIN:VEVENT
DTSTART;TZID=America/New_York:20260701T190000
DTEND;TZID=America/New_York:20260701T210000
DTSTAMP:20260420T131953
CREATED:20251030T194152Z
LAST-MODIFIED:20251030T194152Z
UID:10001767-1782932400-1782939600@oceancityvacation.com
SUMMARY:Family Nights
DESCRIPTION:Family Nights Entertainment including jugglers\, music\, characters and more on the boardwalk 7:00 p.m. to 9:00 p.m. between 6th Street – 14th Street.
URL:https://oceancityvacation.com/events-calendar/family-nights-9/2026-07-01/
LOCATION:Ocean City Boardwalk\, 825 Boardwalk\, Ocean City\, NJ\, 08226\, United States
CATEGORIES:Events Calendar
ATTACH;FMTTYPE=image/jpeg:https://oceancityvacation.com/wp-content/uploads/2025/10/family-night.jpg
GEO:39.2751976;-74.5695462
X-APPLE-STRUCTURED-LOCATION;VALUE=URI;X-ADDRESS=Ocean City Boardwalk 825 Boardwalk Ocean City NJ 08226 United States;X-APPLE-RADIUS=500;X-TITLE=825 Boardwalk:geo:-74.5695462,39.2751976
END:VEVENT
BEGIN:VEVENT
DTSTART;TZID=America/New_York:20260708T190000
DTEND;TZID=America/New_York:20260708T210000
DTSTAMP:20260420T131953
CREATED:20251030T194152Z
LAST-MODIFIED:20251030T194152Z
UID:10001768-1783537200-1783544400@oceancityvacation.com
SUMMARY:Family Nights
DESCRIPTION:Family Nights Entertainment including jugglers\, music\, characters and more on the boardwalk 7:00 p.m. to 9:00 p.m. between 6th Street – 14th Street.
URL:https://oceancityvacation.com/events-calendar/family-nights-9/2026-07-08/
LOCATION:Ocean City Boardwalk\, 825 Boardwalk\, Ocean City\, NJ\, 08226\, United States
CATEGORIES:Events Calendar
ATTACH;FMTTYPE=image/jpeg:https://oceancityvacation.com/wp-content/uploads/2025/10/family-night.jpg
GEO:39.2751976;-74.5695462
X-APPLE-STRUCTURED-LOCATION;VALUE=URI;X-ADDRESS=Ocean City Boardwalk 825 Boardwalk Ocean City NJ 08226 United States;X-APPLE-RADIUS=500;X-TITLE=825 Boardwalk:geo:-74.5695462,39.2751976
END:VEVENT
BEGIN:VEVENT
DTSTART;TZID=America/New_York:20260715T190000
DTEND;TZID=America/New_York:20260715T210000
DTSTAMP:20260420T131953
CREATED:20251030T194152Z
LAST-MODIFIED:20251030T194152Z
UID:10001769-1784142000-1784149200@oceancityvacation.com
SUMMARY:Family Nights
DESCRIPTION:Family Nights Entertainment including jugglers\, music\, characters and more on the boardwalk 7:00 p.m. to 9:00 p.m. between 6th Street – 14th Street.
URL:https://oceancityvacation.com/events-calendar/family-nights-9/2026-07-15/
LOCATION:Ocean City Boardwalk\, 825 Boardwalk\, Ocean City\, NJ\, 08226\, United States
CATEGORIES:Events Calendar
ATTACH;FMTTYPE=image/jpeg:https://oceancityvacation.com/wp-content/uploads/2025/10/family-night.jpg
GEO:39.2751976;-74.5695462
X-APPLE-STRUCTURED-LOCATION;VALUE=URI;X-ADDRESS=Ocean City Boardwalk 825 Boardwalk Ocean City NJ 08226 United States;X-APPLE-RADIUS=500;X-TITLE=825 Boardwalk:geo:-74.5695462,39.2751976
END:VEVENT
BEGIN:VEVENT
DTSTART;TZID=America/New_York:20260722T190000
DTEND;TZID=America/New_York:20260722T210000
DTSTAMP:20260420T131953
CREATED:20251030T194152Z
LAST-MODIFIED:20251030T194152Z
UID:10001770-1784746800-1784754000@oceancityvacation.com
SUMMARY:Family Nights
DESCRIPTION:Family Nights Entertainment including jugglers\, music\, characters and more on the boardwalk 7:00 p.m. to 9:00 p.m. between 6th Street – 14th Street.
URL:https://oceancityvacation.com/events-calendar/family-nights-9/2026-07-22/
LOCATION:Ocean City Boardwalk\, 825 Boardwalk\, Ocean City\, NJ\, 08226\, United States
CATEGORIES:Events Calendar
ATTACH;FMTTYPE=image/jpeg:https://oceancityvacation.com/wp-content/uploads/2025/10/family-night.jpg
GEO:39.2751976;-74.5695462
X-APPLE-STRUCTURED-LOCATION;VALUE=URI;X-ADDRESS=Ocean City Boardwalk 825 Boardwalk Ocean City NJ 08226 United States;X-APPLE-RADIUS=500;X-TITLE=825 Boardwalk:geo:-74.5695462,39.2751976
END:VEVENT
BEGIN:VEVENT
DTSTART;TZID=America/New_York:20260729T190000
DTEND;TZID=America/New_York:20260729T210000
DTSTAMP:20260420T131953
CREATED:20251030T194152Z
LAST-MODIFIED:20251030T194152Z
UID:10001771-1785351600-1785358800@oceancityvacation.com
SUMMARY:Family Nights
DESCRIPTION:Family Nights Entertainment including jugglers\, music\, characters and more on the boardwalk 7:00 p.m. to 9:00 p.m. between 6th Street – 14th Street.
URL:https://oceancityvacation.com/events-calendar/family-nights-9/2026-07-29/
LOCATION:Ocean City Boardwalk\, 825 Boardwalk\, Ocean City\, NJ\, 08226\, United States
CATEGORIES:Events Calendar
ATTACH;FMTTYPE=image/jpeg:https://oceancityvacation.com/wp-content/uploads/2025/10/family-night.jpg
GEO:39.2751976;-74.5695462
X-APPLE-STRUCTURED-LOCATION;VALUE=URI;X-ADDRESS=Ocean City Boardwalk 825 Boardwalk Ocean City NJ 08226 United States;X-APPLE-RADIUS=500;X-TITLE=825 Boardwalk:geo:-74.5695462,39.2751976
END:VEVENT
BEGIN:VEVENT
DTSTART;TZID=America/New_York:20260805T190000
DTEND;TZID=America/New_York:20260805T210000
DTSTAMP:20260420T131953
CREATED:20251030T194152Z
LAST-MODIFIED:20251030T194152Z
UID:10001772-1785956400-1785963600@oceancityvacation.com
SUMMARY:Family Nights
DESCRIPTION:Family Nights Entertainment including jugglers\, music\, characters and more on the boardwalk 7:00 p.m. to 9:00 p.m. between 6th Street – 14th Street.
URL:https://oceancityvacation.com/events-calendar/family-nights-9/2026-08-05/
LOCATION:Ocean City Boardwalk\, 825 Boardwalk\, Ocean City\, NJ\, 08226\, United States
CATEGORIES:Events Calendar
ATTACH;FMTTYPE=image/jpeg:https://oceancityvacation.com/wp-content/uploads/2025/10/family-night.jpg
GEO:39.2751976;-74.5695462
X-APPLE-STRUCTURED-LOCATION;VALUE=URI;X-ADDRESS=Ocean City Boardwalk 825 Boardwalk Ocean City NJ 08226 United States;X-APPLE-RADIUS=500;X-TITLE=825 Boardwalk:geo:-74.5695462,39.2751976
END:VEVENT
BEGIN:VEVENT
DTSTART;TZID=America/New_York:20260812T190000
DTEND;TZID=America/New_York:20260812T210000
DTSTAMP:20260420T131953
CREATED:20251030T194152Z
LAST-MODIFIED:20251030T194152Z
UID:10001773-1786561200-1786568400@oceancityvacation.com
SUMMARY:Family Nights
DESCRIPTION:Family Nights Entertainment including jugglers\, music\, characters and more on the boardwalk 7:00 p.m. to 9:00 p.m. between 6th Street – 14th Street.
URL:https://oceancityvacation.com/events-calendar/family-nights-9/2026-08-12/
LOCATION:Ocean City Boardwalk\, 825 Boardwalk\, Ocean City\, NJ\, 08226\, United States
CATEGORIES:Events Calendar
ATTACH;FMTTYPE=image/jpeg:https://oceancityvacation.com/wp-content/uploads/2025/10/family-night.jpg
GEO:39.2751976;-74.5695462
X-APPLE-STRUCTURED-LOCATION;VALUE=URI;X-ADDRESS=Ocean City Boardwalk 825 Boardwalk Ocean City NJ 08226 United States;X-APPLE-RADIUS=500;X-TITLE=825 Boardwalk:geo:-74.5695462,39.2751976
END:VEVENT
BEGIN:VEVENT
DTSTART;TZID=America/New_York:20260819T190000
DTEND;TZID=America/New_York:20260819T210000
DTSTAMP:20260420T131953
CREATED:20251030T194152Z
LAST-MODIFIED:20251030T194152Z
UID:10001774-1787166000-1787173200@oceancityvacation.com
SUMMARY:Family Nights
DESCRIPTION:Family Nights Entertainment including jugglers\, music\, characters and more on the boardwalk 7:00 p.m. to 9:00 p.m. between 6th Street – 14th Street.
URL:https://oceancityvacation.com/events-calendar/family-nights-9/2026-08-19/
LOCATION:Ocean City Boardwalk\, 825 Boardwalk\, Ocean City\, NJ\, 08226\, United States
CATEGORIES:Events Calendar
ATTACH;FMTTYPE=image/jpeg:https://oceancityvacation.com/wp-content/uploads/2025/10/family-night.jpg
GEO:39.2751976;-74.5695462
X-APPLE-STRUCTURED-LOCATION;VALUE=URI;X-ADDRESS=Ocean City Boardwalk 825 Boardwalk Ocean City NJ 08226 United States;X-APPLE-RADIUS=500;X-TITLE=825 Boardwalk:geo:-74.5695462,39.2751976
END:VEVENT
BEGIN:VEVENT
DTSTART;TZID=America/New_York:20260826T190000
DTEND;TZID=America/New_York:20260826T210000
DTSTAMP:20260420T131953
CREATED:20251030T194152Z
LAST-MODIFIED:20251030T194152Z
UID:10001775-1787770800-1787778000@oceancityvacation.com
SUMMARY:Family Nights
DESCRIPTION:Family Nights Entertainment including jugglers\, music\, characters and more on the boardwalk 7:00 p.m. to 9:00 p.m. between 6th Street – 14th Street.
URL:https://oceancityvacation.com/events-calendar/family-nights-9/2026-08-26/
LOCATION:Ocean City Boardwalk\, 825 Boardwalk\, Ocean City\, NJ\, 08226\, United States
CATEGORIES:Events Calendar
ATTACH;FMTTYPE=image/jpeg:https://oceancityvacation.com/wp-content/uploads/2025/10/family-night.jpg
GEO:39.2751976;-74.5695462
X-APPLE-STRUCTURED-LOCATION;VALUE=URI;X-ADDRESS=Ocean City Boardwalk 825 Boardwalk Ocean City NJ 08226 United States;X-APPLE-RADIUS=500;X-TITLE=825 Boardwalk:geo:-74.5695462,39.2751976
END:VEVENT
BEGIN:VEVENT
DTSTART;TZID=America/New_York:20260714T190000
DTEND;TZID=America/New_York:20260714T210000
DTSTAMP:20260420T131953
CREATED:20251030T194344Z
LAST-MODIFIED:20251125T204016Z
UID:10001786-1784055600-1784062800@oceancityvacation.com
SUMMARY:Mummers Night
DESCRIPTION:Mummers Night – Strutting 7:00 p.m. to 9:00 p.m. on the boardwalk\, 6th Street – 14th Street
URL:https://oceancityvacation.com/events-calendar/mummers-night-2/2026-07-14/
LOCATION:Ocean City Boardwalk\, 825 Boardwalk\, Ocean City\, NJ\, 08226\, United States
CATEGORIES:Events Calendar
ATTACH;FMTTYPE=image/jpeg:https://oceancityvacation.com/wp-content/uploads/2025/10/DSC03781.jpg
GEO:39.2751976;-74.5695462
X-APPLE-STRUCTURED-LOCATION;VALUE=URI;X-ADDRESS=Ocean City Boardwalk 825 Boardwalk Ocean City NJ 08226 United States;X-APPLE-RADIUS=500;X-TITLE=825 Boardwalk:geo:-74.5695462,39.2751976
END:VEVENT
BEGIN:VEVENT
DTSTART;TZID=America/New_York:20260721T190000
DTEND;TZID=America/New_York:20260721T210000
DTSTAMP:20260420T131953
CREATED:20251030T194344Z
LAST-MODIFIED:20251125T204016Z
UID:10001787-1784660400-1784667600@oceancityvacation.com
SUMMARY:Mummers Night
DESCRIPTION:Mummers Night – Strutting 7:00 p.m. to 9:00 p.m. on the boardwalk\, 6th Street – 14th Street
URL:https://oceancityvacation.com/events-calendar/mummers-night-2/2026-07-21/
LOCATION:Ocean City Boardwalk\, 825 Boardwalk\, Ocean City\, NJ\, 08226\, United States
CATEGORIES:Events Calendar
ATTACH;FMTTYPE=image/jpeg:https://oceancityvacation.com/wp-content/uploads/2025/10/DSC03781.jpg
GEO:39.2751976;-74.5695462
X-APPLE-STRUCTURED-LOCATION;VALUE=URI;X-ADDRESS=Ocean City Boardwalk 825 Boardwalk Ocean City NJ 08226 United States;X-APPLE-RADIUS=500;X-TITLE=825 Boardwalk:geo:-74.5695462,39.2751976
END:VEVENT
BEGIN:VEVENT
DTSTART;TZID=America/New_York:20260728T190000
DTEND;TZID=America/New_York:20260728T210000
DTSTAMP:20260420T131953
CREATED:20251030T194344Z
LAST-MODIFIED:20251125T204016Z
UID:10001788-1785265200-1785272400@oceancityvacation.com
SUMMARY:Mummers Night
DESCRIPTION:Mummers Night – Strutting 7:00 p.m. to 9:00 p.m. on the boardwalk\, 6th Street – 14th Street
URL:https://oceancityvacation.com/events-calendar/mummers-night-2/2026-07-28/
LOCATION:Ocean City Boardwalk\, 825 Boardwalk\, Ocean City\, NJ\, 08226\, United States
CATEGORIES:Events Calendar
ATTACH;FMTTYPE=image/jpeg:https://oceancityvacation.com/wp-content/uploads/2025/10/DSC03781.jpg
GEO:39.2751976;-74.5695462
X-APPLE-STRUCTURED-LOCATION;VALUE=URI;X-ADDRESS=Ocean City Boardwalk 825 Boardwalk Ocean City NJ 08226 United States;X-APPLE-RADIUS=500;X-TITLE=825 Boardwalk:geo:-74.5695462,39.2751976
END:VEVENT
BEGIN:VEVENT
DTSTART;TZID=America/New_York:20260804T190000
DTEND;TZID=America/New_York:20260804T210000
DTSTAMP:20260420T131953
CREATED:20251030T194344Z
LAST-MODIFIED:20251125T204016Z
UID:10001789-1785870000-1785877200@oceancityvacation.com
SUMMARY:Mummers Night
DESCRIPTION:Mummers Night – Strutting 7:00 p.m. to 9:00 p.m. on the boardwalk\, 6th Street – 14th Street
URL:https://oceancityvacation.com/events-calendar/mummers-night-2/2026-08-04/
LOCATION:Ocean City Boardwalk\, 825 Boardwalk\, Ocean City\, NJ\, 08226\, United States
CATEGORIES:Events Calendar
ATTACH;FMTTYPE=image/jpeg:https://oceancityvacation.com/wp-content/uploads/2025/10/DSC03781.jpg
GEO:39.2751976;-74.5695462
X-APPLE-STRUCTURED-LOCATION;VALUE=URI;X-ADDRESS=Ocean City Boardwalk 825 Boardwalk Ocean City NJ 08226 United States;X-APPLE-RADIUS=500;X-TITLE=825 Boardwalk:geo:-74.5695462,39.2751976
END:VEVENT
BEGIN:VEVENT
DTSTART;TZID=America/New_York:20260811T190000
DTEND;TZID=America/New_York:20260811T210000
DTSTAMP:20260420T131953
CREATED:20251030T194344Z
LAST-MODIFIED:20251125T204016Z
UID:10001790-1786474800-1786482000@oceancityvacation.com
SUMMARY:Mummers Night
DESCRIPTION:Mummers Night – Strutting 7:00 p.m. to 9:00 p.m. on the boardwalk\, 6th Street – 14th Street
URL:https://oceancityvacation.com/events-calendar/mummers-night-2/2026-08-11/
LOCATION:Ocean City Boardwalk\, 825 Boardwalk\, Ocean City\, NJ\, 08226\, United States
CATEGORIES:Events Calendar
ATTACH;FMTTYPE=image/jpeg:https://oceancityvacation.com/wp-content/uploads/2025/10/DSC03781.jpg
GEO:39.2751976;-74.5695462
X-APPLE-STRUCTURED-LOCATION;VALUE=URI;X-ADDRESS=Ocean City Boardwalk 825 Boardwalk Ocean City NJ 08226 United States;X-APPLE-RADIUS=500;X-TITLE=825 Boardwalk:geo:-74.5695462,39.2751976
END:VEVENT
BEGIN:VEVENT
DTSTART;TZID=America/New_York:20260818T190000
DTEND;TZID=America/New_York:20260818T210000
DTSTAMP:20260420T131953
CREATED:20251030T194344Z
LAST-MODIFIED:20251125T204016Z
UID:10001791-1787079600-1787086800@oceancityvacation.com
SUMMARY:Mummers Night
DESCRIPTION:Mummers Night – Strutting 7:00 p.m. to 9:00 p.m. on the boardwalk\, 6th Street – 14th Street
URL:https://oceancityvacation.com/events-calendar/mummers-night-2/2026-08-18/
LOCATION:Ocean City Boardwalk\, 825 Boardwalk\, Ocean City\, NJ\, 08226\, United States
CATEGORIES:Events Calendar
ATTACH;FMTTYPE=image/jpeg:https://oceancityvacation.com/wp-content/uploads/2025/10/DSC03781.jpg
GEO:39.2751976;-74.5695462
X-APPLE-STRUCTURED-LOCATION;VALUE=URI;X-ADDRESS=Ocean City Boardwalk 825 Boardwalk Ocean City NJ 08226 United States;X-APPLE-RADIUS=500;X-TITLE=825 Boardwalk:geo:-74.5695462,39.2751976
END:VEVENT
BEGIN:VEVENT
DTSTART;TZID=America/New_York:20260825T190000
DTEND;TZID=America/New_York:20260825T210000
DTSTAMP:20260420T131953
CREATED:20251030T194344Z
LAST-MODIFIED:20251125T204016Z
UID:10001792-1787684400-1787691600@oceancityvacation.com
SUMMARY:Mummers Night
DESCRIPTION:Mummers Night – Strutting 7:00 p.m. to 9:00 p.m. on the boardwalk\, 6th Street – 14th Street
URL:https://oceancityvacation.com/events-calendar/mummers-night-2/2026-08-25/
LOCATION:Ocean City Boardwalk\, 825 Boardwalk\, Ocean City\, NJ\, 08226\, United States
CATEGORIES:Events Calendar
ATTACH;FMTTYPE=image/jpeg:https://oceancityvacation.com/wp-content/uploads/2025/10/DSC03781.jpg
GEO:39.2751976;-74.5695462
X-APPLE-STRUCTURED-LOCATION;VALUE=URI;X-ADDRESS=Ocean City Boardwalk 825 Boardwalk Ocean City NJ 08226 United States;X-APPLE-RADIUS=500;X-TITLE=825 Boardwalk:geo:-74.5695462,39.2751976
END:VEVENT
BEGIN:VEVENT
DTSTART;TZID=America/New_York:20260707T190000
DTEND;TZID=America/New_York:20260707T210000
DTSTAMP:20260420T131953
CREATED:20251030T194344Z
LAST-MODIFIED:20251125T204016Z
UID:10001785-1783450800-1783458000@oceancityvacation.com
SUMMARY:Mummers Night
DESCRIPTION:Mummers Night – Strutting 7:00 p.m. to 9:00 p.m. on the boardwalk\, 6th Street – 14th Street
URL:https://oceancityvacation.com/events-calendar/mummers-night-2/2026-07-07/
LOCATION:Ocean City Boardwalk\, 825 Boardwalk\, Ocean City\, NJ\, 08226\, United States
CATEGORIES:Events Calendar
ATTACH;FMTTYPE=image/jpeg:https://oceancityvacation.com/wp-content/uploads/2025/10/DSC03781.jpg
GEO:39.2751976;-74.5695462
X-APPLE-STRUCTURED-LOCATION;VALUE=URI;X-ADDRESS=Ocean City Boardwalk 825 Boardwalk Ocean City NJ 08226 United States;X-APPLE-RADIUS=500;X-TITLE=825 Boardwalk:geo:-74.5695462,39.2751976
END:VEVENT
BEGIN:VEVENT
DTSTART;TZID=America/New_York:20260730T190000
DTEND;TZID=America/New_York:20260730T210000
DTSTAMP:20260420T131953
CREATED:20251030T194416Z
LAST-MODIFIED:20251125T203952Z
UID:10001805-1785438000-1785445200@oceancityvacation.com
SUMMARY:Mummers Night
DESCRIPTION:Mummers Night – Strutting 7:00 p.m. to 9:00 p.m. on the boardwalk\, 6th Street – 14th Street
URL:https://oceancityvacation.com/events-calendar/mummers-night-4/2026-07-30/
LOCATION:Ocean City Boardwalk\, 825 Boardwalk\, Ocean City\, NJ\, 08226\, United States
CATEGORIES:Events Calendar
ATTACH;FMTTYPE=image/jpeg:https://oceancityvacation.com/wp-content/uploads/2025/10/DSC03781.jpg
GEO:39.2751976;-74.5695462
X-APPLE-STRUCTURED-LOCATION;VALUE=URI;X-ADDRESS=Ocean City Boardwalk 825 Boardwalk Ocean City NJ 08226 United States;X-APPLE-RADIUS=500;X-TITLE=825 Boardwalk:geo:-74.5695462,39.2751976
END:VEVENT
BEGIN:VEVENT
DTSTART;TZID=America/New_York:20260806T190000
DTEND;TZID=America/New_York:20260806T210000
DTSTAMP:20260420T131953
CREATED:20251030T194416Z
LAST-MODIFIED:20251125T203952Z
UID:10001806-1786042800-1786050000@oceancityvacation.com
SUMMARY:Mummers Night
DESCRIPTION:Mummers Night – Strutting 7:00 p.m. to 9:00 p.m. on the boardwalk\, 6th Street – 14th Street
URL:https://oceancityvacation.com/events-calendar/mummers-night-4/2026-08-06/
LOCATION:Ocean City Boardwalk\, 825 Boardwalk\, Ocean City\, NJ\, 08226\, United States
CATEGORIES:Events Calendar
ATTACH;FMTTYPE=image/jpeg:https://oceancityvacation.com/wp-content/uploads/2025/10/DSC03781.jpg
GEO:39.2751976;-74.5695462
X-APPLE-STRUCTURED-LOCATION;VALUE=URI;X-ADDRESS=Ocean City Boardwalk 825 Boardwalk Ocean City NJ 08226 United States;X-APPLE-RADIUS=500;X-TITLE=825 Boardwalk:geo:-74.5695462,39.2751976
END:VEVENT
BEGIN:VEVENT
DTSTART;TZID=America/New_York:20260813T190000
DTEND;TZID=America/New_York:20260813T210000
DTSTAMP:20260420T131953
CREATED:20251030T194416Z
LAST-MODIFIED:20251125T203952Z
UID:10001807-1786647600-1786654800@oceancityvacation.com
SUMMARY:Mummers Night
DESCRIPTION:Mummers Night – Strutting 7:00 p.m. to 9:00 p.m. on the boardwalk\, 6th Street – 14th Street
URL:https://oceancityvacation.com/events-calendar/mummers-night-4/2026-08-13/
LOCATION:Ocean City Boardwalk\, 825 Boardwalk\, Ocean City\, NJ\, 08226\, United States
CATEGORIES:Events Calendar
ATTACH;FMTTYPE=image/jpeg:https://oceancityvacation.com/wp-content/uploads/2025/10/DSC03781.jpg
GEO:39.2751976;-74.5695462
X-APPLE-STRUCTURED-LOCATION;VALUE=URI;X-ADDRESS=Ocean City Boardwalk 825 Boardwalk Ocean City NJ 08226 United States;X-APPLE-RADIUS=500;X-TITLE=825 Boardwalk:geo:-74.5695462,39.2751976
END:VEVENT
BEGIN:VEVENT
DTSTART;TZID=America/New_York:20260820T190000
DTEND;TZID=America/New_York:20260820T210000
DTSTAMP:20260420T131953
CREATED:20251030T194416Z
LAST-MODIFIED:20251125T203952Z
UID:10001808-1787252400-1787259600@oceancityvacation.com
SUMMARY:Mummers Night
DESCRIPTION:Mummers Night – Strutting 7:00 p.m. to 9:00 p.m. on the boardwalk\, 6th Street – 14th Street
URL:https://oceancityvacation.com/events-calendar/mummers-night-4/2026-08-20/
LOCATION:Ocean City Boardwalk\, 825 Boardwalk\, Ocean City\, NJ\, 08226\, United States
CATEGORIES:Events Calendar
ATTACH;FMTTYPE=image/jpeg:https://oceancityvacation.com/wp-content/uploads/2025/10/DSC03781.jpg
GEO:39.2751976;-74.5695462
X-APPLE-STRUCTURED-LOCATION;VALUE=URI;X-ADDRESS=Ocean City Boardwalk 825 Boardwalk Ocean City NJ 08226 United States;X-APPLE-RADIUS=500;X-TITLE=825 Boardwalk:geo:-74.5695462,39.2751976
END:VEVENT
BEGIN:VEVENT
DTSTART;TZID=America/New_York:20260827T190000
DTEND;TZID=America/New_York:20260827T210000
DTSTAMP:20260420T131953
CREATED:20251030T194416Z
LAST-MODIFIED:20251125T203952Z
UID:10001809-1787857200-1787864400@oceancityvacation.com
SUMMARY:Mummers Night
DESCRIPTION:Mummers Night – Strutting 7:00 p.m. to 9:00 p.m. on the boardwalk\, 6th Street – 14th Street
URL:https://oceancityvacation.com/events-calendar/mummers-night-4/2026-08-27/
LOCATION:Ocean City Boardwalk\, 825 Boardwalk\, Ocean City\, NJ\, 08226\, United States
CATEGORIES:Events Calendar
ATTACH;FMTTYPE=image/jpeg:https://oceancityvacation.com/wp-content/uploads/2025/10/DSC03781.jpg
GEO:39.2751976;-74.5695462
X-APPLE-STRUCTURED-LOCATION;VALUE=URI;X-ADDRESS=Ocean City Boardwalk 825 Boardwalk Ocean City NJ 08226 United States;X-APPLE-RADIUS=500;X-TITLE=825 Boardwalk:geo:-74.5695462,39.2751976
END:VEVENT
BEGIN:VEVENT
DTSTART;TZID=America/New_York:20260702T190000
DTEND;TZID=America/New_York:20260702T210000
DTSTAMP:20260420T131953
CREATED:20251030T194416Z
LAST-MODIFIED:20251125T203952Z
UID:10001801-1783018800-1783026000@oceancityvacation.com
SUMMARY:Mummers Night
DESCRIPTION:Mummers Night – Strutting 7:00 p.m. to 9:00 p.m. on the boardwalk\, 6th Street – 14th Street
URL:https://oceancityvacation.com/events-calendar/mummers-night-4/2026-07-02/
LOCATION:Ocean City Boardwalk\, 825 Boardwalk\, Ocean City\, NJ\, 08226\, United States
CATEGORIES:Events Calendar
ATTACH;FMTTYPE=image/jpeg:https://oceancityvacation.com/wp-content/uploads/2025/10/DSC03781.jpg
GEO:39.2751976;-74.5695462
X-APPLE-STRUCTURED-LOCATION;VALUE=URI;X-ADDRESS=Ocean City Boardwalk 825 Boardwalk Ocean City NJ 08226 United States;X-APPLE-RADIUS=500;X-TITLE=825 Boardwalk:geo:-74.5695462,39.2751976
END:VEVENT
BEGIN:VEVENT
DTSTART;TZID=America/New_York:20260709T190000
DTEND;TZID=America/New_York:20260709T210000
DTSTAMP:20260420T131953
CREATED:20251030T194416Z
LAST-MODIFIED:20251125T203952Z
UID:10001802-1783623600-1783630800@oceancityvacation.com
SUMMARY:Mummers Night
DESCRIPTION:Mummers Night – Strutting 7:00 p.m. to 9:00 p.m. on the boardwalk\, 6th Street – 14th Street
URL:https://oceancityvacation.com/events-calendar/mummers-night-4/2026-07-09/
LOCATION:Ocean City Boardwalk\, 825 Boardwalk\, Ocean City\, NJ\, 08226\, United States
CATEGORIES:Events Calendar
ATTACH;FMTTYPE=image/jpeg:https://oceancityvacation.com/wp-content/uploads/2025/10/DSC03781.jpg
GEO:39.2751976;-74.5695462
X-APPLE-STRUCTURED-LOCATION;VALUE=URI;X-ADDRESS=Ocean City Boardwalk 825 Boardwalk Ocean City NJ 08226 United States;X-APPLE-RADIUS=500;X-TITLE=825 Boardwalk:geo:-74.5695462,39.2751976
END:VEVENT
BEGIN:VEVENT
DTSTART;TZID=America/New_York:20260716T190000
DTEND;TZID=America/New_York:20260716T210000
DTSTAMP:20260420T131953
CREATED:20251030T194416Z
LAST-MODIFIED:20251125T203952Z
UID:10001803-1784228400-1784235600@oceancityvacation.com
SUMMARY:Mummers Night
DESCRIPTION:Mummers Night – Strutting 7:00 p.m. to 9:00 p.m. on the boardwalk\, 6th Street – 14th Street
URL:https://oceancityvacation.com/events-calendar/mummers-night-4/2026-07-16/
LOCATION:Ocean City Boardwalk\, 825 Boardwalk\, Ocean City\, NJ\, 08226\, United States
CATEGORIES:Events Calendar
ATTACH;FMTTYPE=image/jpeg:https://oceancityvacation.com/wp-content/uploads/2025/10/DSC03781.jpg
GEO:39.2751976;-74.5695462
X-APPLE-STRUCTURED-LOCATION;VALUE=URI;X-ADDRESS=Ocean City Boardwalk 825 Boardwalk Ocean City NJ 08226 United States;X-APPLE-RADIUS=500;X-TITLE=825 Boardwalk:geo:-74.5695462,39.2751976
END:VEVENT
BEGIN:VEVENT
DTSTART;TZID=America/New_York:20260723T190000
DTEND;TZID=America/New_York:20260723T210000
DTSTAMP:20260420T131953
CREATED:20251030T194416Z
LAST-MODIFIED:20251125T203952Z
UID:10001804-1784833200-1784840400@oceancityvacation.com
SUMMARY:Mummers Night
DESCRIPTION:Mummers Night – Strutting 7:00 p.m. to 9:00 p.m. on the boardwalk\, 6th Street – 14th Street
URL:https://oceancityvacation.com/events-calendar/mummers-night-4/2026-07-23/
LOCATION:Ocean City Boardwalk\, 825 Boardwalk\, Ocean City\, NJ\, 08226\, United States
CATEGORIES:Events Calendar
ATTACH;FMTTYPE=image/jpeg:https://oceancityvacation.com/wp-content/uploads/2025/10/DSC03781.jpg
GEO:39.2751976;-74.5695462
X-APPLE-STRUCTURED-LOCATION;VALUE=URI;X-ADDRESS=Ocean City Boardwalk 825 Boardwalk Ocean City NJ 08226 United States;X-APPLE-RADIUS=500;X-TITLE=825 Boardwalk:geo:-74.5695462,39.2751976
END:VEVENT
END:VCALENDAR