BEGIN:VCALENDAR
VERSION:2.0
PRODID:-//Ocean City NJ - ECPv6.15.14//NONSGML v1.0//EN
CALSCALE:GREGORIAN
METHOD:PUBLISH
X-ORIGINAL-URL:https://oceancityvacation.com
X-WR-CALDESC:Events for Ocean City NJ
REFRESH-INTERVAL;VALUE=DURATION:PT1H
X-Robots-Tag:noindex
X-PUBLISHED-TTL:PT1H
BEGIN:VTIMEZONE
TZID:America/New_York
BEGIN:DAYLIGHT
TZOFFSETFROM:-0500
TZOFFSETTO:-0400
TZNAME:EDT
DTSTART:20220313T070000
END:DAYLIGHT
BEGIN:STANDARD
TZOFFSETFROM:-0400
TZOFFSETTO:-0500
TZNAME:EST
DTSTART:20221106T060000
END:STANDARD
BEGIN:DAYLIGHT
TZOFFSETFROM:-0500
TZOFFSETTO:-0400
TZNAME:EDT
DTSTART:20230312T070000
END:DAYLIGHT
BEGIN:STANDARD
TZOFFSETFROM:-0400
TZOFFSETTO:-0500
TZNAME:EST
DTSTART:20231105T060000
END:STANDARD
BEGIN:DAYLIGHT
TZOFFSETFROM:-0500
TZOFFSETTO:-0400
TZNAME:EDT
DTSTART:20240310T070000
END:DAYLIGHT
BEGIN:STANDARD
TZOFFSETFROM:-0400
TZOFFSETTO:-0500
TZNAME:EST
DTSTART:20241103T060000
END:STANDARD
BEGIN:DAYLIGHT
TZOFFSETFROM:-0500
TZOFFSETTO:-0400
TZNAME:EDT
DTSTART:20250309T070000
END:DAYLIGHT
BEGIN:STANDARD
TZOFFSETFROM:-0400
TZOFFSETTO:-0500
TZNAME:EST
DTSTART:20251102T060000
END:STANDARD
BEGIN:DAYLIGHT
TZOFFSETFROM:-0500
TZOFFSETTO:-0400
TZNAME:EDT
DTSTART:20260308T070000
END:DAYLIGHT
BEGIN:STANDARD
TZOFFSETFROM:-0400
TZOFFSETTO:-0500
TZNAME:EST
DTSTART:20261101T060000
END:STANDARD
END:VTIMEZONE
BEGIN:VEVENT
DTSTART;TZID=America/New_York:20250412T090000
DTEND;TZID=America/New_York:20250412T123000
DTSTAMP:20260422T080325
CREATED:20250314T164223Z
LAST-MODIFIED:20250314T164223Z
UID:10001448-1744448400-1744461000@oceancityvacation.com
SUMMARY:Clean Ocean Action Beach Sweep 
DESCRIPTION:Volunteers are encouraged to join in Clean Ocean Action’s semi-annual beach cleanup from 9 a.m. to 12:30 p.m. Register at cleanoceanaction.org and pick up supplies at the Ocean City Music Pier (Boardwalk at Moorlyn Terrace) before heading out.
URL:https://oceancityvacation.com/events-calendar/clean-ocean-action-beach-sweep/
LOCATION:Moorlyn Terrace St. Beach\, 825 Boardwalk\, Ocean City\, NJ\, 08226\, United States
CATEGORIES:Events Calendar
GEO:39.2751976;-74.5695462
X-APPLE-STRUCTURED-LOCATION;VALUE=URI;X-ADDRESS=Moorlyn Terrace St. Beach 825 Boardwalk Ocean City NJ 08226 United States;X-APPLE-RADIUS=500;X-TITLE=825 Boardwalk:geo:-74.5695462,39.2751976
END:VEVENT
BEGIN:VEVENT
DTSTART;TZID=America/New_York:20250523T120000
DTEND;TZID=America/New_York:20250523T130000
DTSTAMP:20260422T080325
CREATED:20241031T141548Z
LAST-MODIFIED:20241031T141548Z
UID:10000998-1748001600-1748005200@oceancityvacation.com
SUMMARY:Unlocking of the Ocean and Business Persons Plunge
DESCRIPTION:Unlocking of the Ocean and Business Persons Plunge Participants dress in business suits\, carry brief cases and march into the ocean to the strains of Pomp and Circumstance to welcome the new season. Noon\, Moorlyn Terrace St. Beach.
URL:https://oceancityvacation.com/events-calendar/unlocking-of-the-ocean-and-business-persons-plunge-3/
LOCATION:Moorlyn Terrace St. Beach\, 825 Boardwalk\, Ocean City\, NJ\, 08226\, United States
CATEGORIES:Events Calendar
ATTACH;FMTTYPE=image/jpeg:https://oceancityvacation.com/wp-content/uploads/2023/01/plunge-scaled.jpg
GEO:39.2751976;-74.5695462
X-APPLE-STRUCTURED-LOCATION;VALUE=URI;X-ADDRESS=Moorlyn Terrace St. Beach 825 Boardwalk Ocean City NJ 08226 United States;X-APPLE-RADIUS=500;X-TITLE=825 Boardwalk:geo:-74.5695462,39.2751976
END:VEVENT
BEGIN:VEVENT
DTSTART;TZID=America/New_York:20240524T120000
DTEND;TZID=America/New_York:20240524T130000
DTSTAMP:20260422T080325
CREATED:20231027T174711Z
LAST-MODIFIED:20240509T172821Z
UID:10000392-1716552000-1716555600@oceancityvacation.com
SUMMARY:Unlocking of the Ocean and Business Persons Plunge
DESCRIPTION:Unlocking of the Ocean and Business Persons Plunge Participants dress in business suits\, carry brief cases and march into the ocean to the strains of Pomp and Circumstance to welcome the new season. Noon\, Moorlyn Terrace St. Beach.
URL:https://oceancityvacation.com/events-calendar/unlocking-of-the-ocean-and-business-persons-plunge-2/
LOCATION:Moorlyn Terrace St. Beach\, 825 Boardwalk\, Ocean City\, NJ\, 08226\, United States
CATEGORIES:Events Calendar
ATTACH;FMTTYPE=image/jpeg:https://oceancityvacation.com/wp-content/uploads/2023/01/plunge-scaled.jpg
GEO:39.2751976;-74.5695462
X-APPLE-STRUCTURED-LOCATION;VALUE=URI;X-ADDRESS=Moorlyn Terrace St. Beach 825 Boardwalk Ocean City NJ 08226 United States;X-APPLE-RADIUS=500;X-TITLE=825 Boardwalk:geo:-74.5695462,39.2751976
END:VEVENT
BEGIN:VEVENT
DTSTART;TZID=America/New_York:20230526T120000
DTEND;TZID=America/New_York:20230526T130000
DTSTAMP:20260422T080325
CREATED:20230129T155251Z
LAST-MODIFIED:20231213T142519Z
UID:10000068-1685102400-1685106000@oceancityvacation.com
SUMMARY:Unlocking of the Ocean and Business Persons Plunge
DESCRIPTION:Unlocking of the Ocean and Business Persons Plunge Participants dress in business suits\, carry brief cases and march into the ocean to the strains of Pomp and Circumstance to welcome the new season. Noon\, Moorlyn Terrace St. Beach.
URL:https://oceancityvacation.com/events-calendar/unlocking-of-the-ocean-and-business-persons-plunge/
LOCATION:Moorlyn Terrace St. Beach\, 825 Boardwalk\, Ocean City\, NJ\, 08226\, United States
CATEGORIES:Events Calendar
ATTACH;FMTTYPE=image/jpeg:https://oceancityvacation.com/wp-content/uploads/2023/01/plunge-scaled.jpg
GEO:39.2751976;-74.5695462
X-APPLE-STRUCTURED-LOCATION;VALUE=URI;X-ADDRESS=Moorlyn Terrace St. Beach 825 Boardwalk Ocean City NJ 08226 United States;X-APPLE-RADIUS=500;X-TITLE=825 Boardwalk:geo:-74.5695462,39.2751976
END:VEVENT
END:VCALENDAR