BEGIN:VCALENDAR
VERSION:2.0
PRODID:-//Ocean City NJ - ECPv6.15.14//NONSGML v1.0//EN
CALSCALE:GREGORIAN
METHOD:PUBLISH
X-ORIGINAL-URL:https://oceancityvacation.com
X-WR-CALDESC:Events for Ocean City NJ
REFRESH-INTERVAL;VALUE=DURATION:PT1H
X-Robots-Tag:noindex
X-PUBLISHED-TTL:PT1H
BEGIN:VTIMEZONE
TZID:America/New_York
BEGIN:DAYLIGHT
TZOFFSETFROM:-0500
TZOFFSETTO:-0400
TZNAME:EDT
DTSTART:20230312T070000
END:DAYLIGHT
BEGIN:STANDARD
TZOFFSETFROM:-0400
TZOFFSETTO:-0500
TZNAME:EST
DTSTART:20231105T060000
END:STANDARD
BEGIN:DAYLIGHT
TZOFFSETFROM:-0500
TZOFFSETTO:-0400
TZNAME:EDT
DTSTART:20240310T070000
END:DAYLIGHT
BEGIN:STANDARD
TZOFFSETFROM:-0400
TZOFFSETTO:-0500
TZNAME:EST
DTSTART:20241103T060000
END:STANDARD
BEGIN:DAYLIGHT
TZOFFSETFROM:-0500
TZOFFSETTO:-0400
TZNAME:EDT
DTSTART:20250309T070000
END:DAYLIGHT
BEGIN:STANDARD
TZOFFSETFROM:-0400
TZOFFSETTO:-0500
TZNAME:EST
DTSTART:20251102T060000
END:STANDARD
BEGIN:DAYLIGHT
TZOFFSETFROM:-0500
TZOFFSETTO:-0400
TZNAME:EDT
DTSTART:20260308T070000
END:DAYLIGHT
BEGIN:STANDARD
TZOFFSETFROM:-0400
TZOFFSETTO:-0500
TZNAME:EST
DTSTART:20261101T060000
END:STANDARD
BEGIN:DAYLIGHT
TZOFFSETFROM:-0500
TZOFFSETTO:-0400
TZNAME:EDT
DTSTART:20270314T070000
END:DAYLIGHT
BEGIN:STANDARD
TZOFFSETFROM:-0400
TZOFFSETTO:-0500
TZNAME:EST
DTSTART:20271107T060000
END:STANDARD
END:VTIMEZONE
BEGIN:VEVENT
DTSTART;TZID=America/New_York:20251011T090000
DTEND;TZID=America/New_York:20251011T170000
DTSTAMP:20260420T035527
CREATED:20251107T183412Z
LAST-MODIFIED:20251107T183412Z
UID:10001878-1760173200-1760202000@oceancityvacation.com
SUMMARY:Fall Block Party
DESCRIPTION:Fall Block Party 9:00 a.m. to 5:00 p.m. from 5th – 14th Streets on Asbury Ave. Over 400 crafters\, food vendors\, music and more.
URL:https://oceancityvacation.com/events-calendar/fall-block-party-3/
LOCATION:Downtown Asbury Avenue\, 901 Asbury Avenue\, Ocean City\, NJ\, 08226\, United States
CATEGORIES:Chamber Event,Events Calendar
ATTACH;FMTTYPE=image/jpeg:https://oceancityvacation.com/wp-content/uploads/2025/09/FallBlockParty.jpg
ORGANIZER;CN="Ocean City Regional Chamber of Commerce":MAILTO:info@oceancityvacation.com
GEO:39.27853;-74.57623
X-APPLE-STRUCTURED-LOCATION;VALUE=URI;X-ADDRESS=Downtown Asbury Avenue 901 Asbury Avenue Ocean City NJ 08226 United States;X-APPLE-RADIUS=500;X-TITLE=901 Asbury Avenue:geo:-74.57623,39.27853
END:VEVENT
BEGIN:VEVENT
DTSTART;TZID=America/New_York:20260418T120000
DTEND;TZID=America/New_York:20260418T140000
DTSTAMP:20260420T035527
CREATED:20251030T153416Z
LAST-MODIFIED:20260414T173448Z
UID:10001589-1776513600-1776520800@oceancityvacation.com
SUMMARY:Doo Dah Parade
DESCRIPTION:Doo Dah Parade Welcome in the Spring season with this comedy parade complete with over 300 basset hounds. Noon on Asbury Ave. from 6th Street to 12th Street and then up to the Boardwalk ending at 6th & Boardwalk. Philadelphia Flyers great Mark Howe will be the grand marshal of the parade.  Howe will be available for free autographs and pictures at the Ocean City Music Pier for an hour after the parade.  Highlights will include the Hobo Band\, the Jersey String Band\, the Woodland String Band\, the Kensington String Band\, and the Galena Brass Band.  Dietz and Watson returns as the event sponsor.
URL:https://oceancityvacation.com/events-calendar/doo-dah-parade-4/
LOCATION:Ocean City Boardwalk\, 825 Boardwalk\, Ocean City\, NJ\, 08226\, United States
CATEGORIES:Events Calendar
ATTACH;FMTTYPE=image/jpeg:https://oceancityvacation.com/wp-content/uploads/2025/10/Y1A4318-2.jpg
GEO:39.2751976;-74.5695462
X-APPLE-STRUCTURED-LOCATION;VALUE=URI;X-ADDRESS=Ocean City Boardwalk 825 Boardwalk Ocean City NJ 08226 United States;X-APPLE-RADIUS=500;X-TITLE=825 Boardwalk:geo:-74.5695462,39.2751976
END:VEVENT
BEGIN:VEVENT
DTSTART;TZID=America/New_York:20260410T080000
DTEND;TZID=America/New_York:20260410T170000
DTSTAMP:20260420T035527
CREATED:20251030T152629Z
LAST-MODIFIED:20260213T151948Z
UID:10001583-1775808000-1775840400@oceancityvacation.com
SUMMARY:Girls Weekend
DESCRIPTION:Girls Weekend It’s time to put yourself first! Girls Weekend Downtown on Asbury Avenue between 6th and 14th Street. Fashion show Kick-Off Event on Friday evening\, shopping and dining specials all weekend\, accommodation packages\, wellness classes\, and so much more! Call 609-399-1412 for more information! 
URL:https://oceancityvacation.com/events-calendar/girls-weekend-4/2026-04-10/
LOCATION:Downtown Asbury Avenue\, 901 Asbury Avenue\, Ocean City\, NJ\, 08226\, United States
CATEGORIES:Events Calendar
ATTACH;FMTTYPE=image/jpeg:https://oceancityvacation.com/wp-content/uploads/2025/10/Untitled-design-26.jpg
GEO:39.27853;-74.57623
X-APPLE-STRUCTURED-LOCATION;VALUE=URI;X-ADDRESS=Downtown Asbury Avenue 901 Asbury Avenue Ocean City NJ 08226 United States;X-APPLE-RADIUS=500;X-TITLE=901 Asbury Avenue:geo:-74.57623,39.27853
END:VEVENT
BEGIN:VEVENT
DTSTART;TZID=America/New_York:20260411T080000
DTEND;TZID=America/New_York:20260411T170000
DTSTAMP:20260420T035527
CREATED:20251030T152629Z
LAST-MODIFIED:20260213T151948Z
UID:10001584-1775894400-1775926800@oceancityvacation.com
SUMMARY:Girls Weekend
DESCRIPTION:Girls Weekend It’s time to put yourself first! Girls Weekend Downtown on Asbury Avenue between 6th and 14th Street. Fashion show Kick-Off Event on Friday evening\, shopping and dining specials all weekend\, accommodation packages\, wellness classes\, and so much more! Call 609-399-1412 for more information! 
URL:https://oceancityvacation.com/events-calendar/girls-weekend-4/2026-04-11/
LOCATION:Downtown Asbury Avenue\, 901 Asbury Avenue\, Ocean City\, NJ\, 08226\, United States
CATEGORIES:Events Calendar
ATTACH;FMTTYPE=image/jpeg:https://oceancityvacation.com/wp-content/uploads/2025/10/Untitled-design-26.jpg
GEO:39.27853;-74.57623
X-APPLE-STRUCTURED-LOCATION;VALUE=URI;X-ADDRESS=Downtown Asbury Avenue 901 Asbury Avenue Ocean City NJ 08226 United States;X-APPLE-RADIUS=500;X-TITLE=901 Asbury Avenue:geo:-74.57623,39.27853
END:VEVENT
BEGIN:VEVENT
DTSTART;TZID=America/New_York:20260412T080000
DTEND;TZID=America/New_York:20260412T170000
DTSTAMP:20260420T035527
CREATED:20251030T152629Z
LAST-MODIFIED:20260213T151948Z
UID:10001585-1775980800-1776013200@oceancityvacation.com
SUMMARY:Girls Weekend
DESCRIPTION:Girls Weekend It’s time to put yourself first! Girls Weekend Downtown on Asbury Avenue between 6th and 14th Street. Fashion show Kick-Off Event on Friday evening\, shopping and dining specials all weekend\, accommodation packages\, wellness classes\, and so much more! Call 609-399-1412 for more information! 
URL:https://oceancityvacation.com/events-calendar/girls-weekend-4/2026-04-12/
LOCATION:Downtown Asbury Avenue\, 901 Asbury Avenue\, Ocean City\, NJ\, 08226\, United States
CATEGORIES:Events Calendar
ATTACH;FMTTYPE=image/jpeg:https://oceancityvacation.com/wp-content/uploads/2025/10/Untitled-design-26.jpg
GEO:39.27853;-74.57623
X-APPLE-STRUCTURED-LOCATION;VALUE=URI;X-ADDRESS=Downtown Asbury Avenue 901 Asbury Avenue Ocean City NJ 08226 United States;X-APPLE-RADIUS=500;X-TITLE=901 Asbury Avenue:geo:-74.57623,39.27853
END:VEVENT
BEGIN:VEVENT
DTSTART;TZID=America/New_York:20251012T080000
DTEND;TZID=America/New_York:20251012T170000
DTSTAMP:20260420T035527
CREATED:20241031T190419Z
LAST-MODIFIED:20241106T155053Z
UID:10001367-1760256000-1760288400@oceancityvacation.com
SUMMARY:Boardwalk & Downtown Merchant “Discount Days”
DESCRIPTION:Boardwalk & Downtown Merchant “Discount Days” 6th Street – 14th Street on the boardwalk and Asbury Ave. 
URL:https://oceancityvacation.com/events-calendar/boardwalk-downtown-merchant-discount-days-2/2025-10-12/
LOCATION:Downtown Asbury Avenue\, 901 Asbury Avenue\, Ocean City\, NJ\, 08226\, United States
CATEGORIES:Events Calendar
ATTACH;FMTTYPE=image/jpeg:https://oceancityvacation.com/wp-content/uploads/2024/09/1.4-downtown-boardwalk-merchants-sales-2-800x600-1.jpg
GEO:39.27853;-74.57623
X-APPLE-STRUCTURED-LOCATION;VALUE=URI;X-ADDRESS=Downtown Asbury Avenue 901 Asbury Avenue Ocean City NJ 08226 United States;X-APPLE-RADIUS=500;X-TITLE=901 Asbury Avenue:geo:-74.57623,39.27853
END:VEVENT
BEGIN:VEVENT
DTSTART;TZID=America/New_York:20251013T080000
DTEND;TZID=America/New_York:20251013T170000
DTSTAMP:20260420T035527
CREATED:20241031T190419Z
LAST-MODIFIED:20241106T155053Z
UID:10001368-1760342400-1760374800@oceancityvacation.com
SUMMARY:Boardwalk & Downtown Merchant “Discount Days”
DESCRIPTION:Boardwalk & Downtown Merchant “Discount Days” 6th Street – 14th Street on the boardwalk and Asbury Ave. 
URL:https://oceancityvacation.com/events-calendar/boardwalk-downtown-merchant-discount-days-2/2025-10-13/
LOCATION:Downtown Asbury Avenue\, 901 Asbury Avenue\, Ocean City\, NJ\, 08226\, United States
CATEGORIES:Events Calendar
ATTACH;FMTTYPE=image/jpeg:https://oceancityvacation.com/wp-content/uploads/2024/09/1.4-downtown-boardwalk-merchants-sales-2-800x600-1.jpg
GEO:39.27853;-74.57623
X-APPLE-STRUCTURED-LOCATION;VALUE=URI;X-ADDRESS=Downtown Asbury Avenue 901 Asbury Avenue Ocean City NJ 08226 United States;X-APPLE-RADIUS=500;X-TITLE=901 Asbury Avenue:geo:-74.57623,39.27853
END:VEVENT
BEGIN:VEVENT
DTSTART;TZID=America/New_York:20250426T080000
DTEND;TZID=America/New_York:20250426T170000
DTSTAMP:20260420T035527
CREATED:20241031T190419Z
LAST-MODIFIED:20241106T155053Z
UID:10000984-1745654400-1745686800@oceancityvacation.com
SUMMARY:Boardwalk & Downtown Merchant “Discount Days”
DESCRIPTION:Boardwalk & Downtown Merchant “Discount Days” 6th Street – 14th Street on the boardwalk and Asbury Ave. 
URL:https://oceancityvacation.com/events-calendar/boardwalk-downtown-merchant-discount-days-2/2025-04-26/
LOCATION:Downtown Asbury Avenue\, 901 Asbury Avenue\, Ocean City\, NJ\, 08226\, United States
CATEGORIES:Events Calendar
ATTACH;FMTTYPE=image/jpeg:https://oceancityvacation.com/wp-content/uploads/2024/09/1.4-downtown-boardwalk-merchants-sales-2-800x600-1.jpg
GEO:39.27853;-74.57623
X-APPLE-STRUCTURED-LOCATION;VALUE=URI;X-ADDRESS=Downtown Asbury Avenue 901 Asbury Avenue Ocean City NJ 08226 United States;X-APPLE-RADIUS=500;X-TITLE=901 Asbury Avenue:geo:-74.57623,39.27853
END:VEVENT
BEGIN:VEVENT
DTSTART;TZID=America/New_York:20250427T080000
DTEND;TZID=America/New_York:20250427T170000
DTSTAMP:20260420T035527
CREATED:20241031T190419Z
LAST-MODIFIED:20241106T155053Z
UID:10001361-1745740800-1745773200@oceancityvacation.com
SUMMARY:Boardwalk & Downtown Merchant “Discount Days”
DESCRIPTION:Boardwalk & Downtown Merchant “Discount Days” 6th Street – 14th Street on the boardwalk and Asbury Ave. 
URL:https://oceancityvacation.com/events-calendar/boardwalk-downtown-merchant-discount-days-2/2025-04-27/
LOCATION:Downtown Asbury Avenue\, 901 Asbury Avenue\, Ocean City\, NJ\, 08226\, United States
CATEGORIES:Events Calendar
ATTACH;FMTTYPE=image/jpeg:https://oceancityvacation.com/wp-content/uploads/2024/09/1.4-downtown-boardwalk-merchants-sales-2-800x600-1.jpg
GEO:39.27853;-74.57623
X-APPLE-STRUCTURED-LOCATION;VALUE=URI;X-ADDRESS=Downtown Asbury Avenue 901 Asbury Avenue Ocean City NJ 08226 United States;X-APPLE-RADIUS=500;X-TITLE=901 Asbury Avenue:geo:-74.57623,39.27853
END:VEVENT
BEGIN:VEVENT
DTSTART;TZID=America/New_York:20250503T080000
DTEND;TZID=America/New_York:20250503T170000
DTSTAMP:20260420T035527
CREATED:20241031T190419Z
LAST-MODIFIED:20241106T155053Z
UID:10001362-1746259200-1746291600@oceancityvacation.com
SUMMARY:Boardwalk & Downtown Merchant “Discount Days”
DESCRIPTION:Boardwalk & Downtown Merchant “Discount Days” 6th Street – 14th Street on the boardwalk and Asbury Ave. 
URL:https://oceancityvacation.com/events-calendar/boardwalk-downtown-merchant-discount-days-2/2025-05-03/
LOCATION:Downtown Asbury Avenue\, 901 Asbury Avenue\, Ocean City\, NJ\, 08226\, United States
CATEGORIES:Events Calendar
ATTACH;FMTTYPE=image/jpeg:https://oceancityvacation.com/wp-content/uploads/2024/09/1.4-downtown-boardwalk-merchants-sales-2-800x600-1.jpg
GEO:39.27853;-74.57623
X-APPLE-STRUCTURED-LOCATION;VALUE=URI;X-ADDRESS=Downtown Asbury Avenue 901 Asbury Avenue Ocean City NJ 08226 United States;X-APPLE-RADIUS=500;X-TITLE=901 Asbury Avenue:geo:-74.57623,39.27853
END:VEVENT
BEGIN:VEVENT
DTSTART;TZID=America/New_York:20250504T080000
DTEND;TZID=America/New_York:20250504T170000
DTSTAMP:20260420T035527
CREATED:20241031T190419Z
LAST-MODIFIED:20241106T155053Z
UID:10001363-1746345600-1746378000@oceancityvacation.com
SUMMARY:Boardwalk & Downtown Merchant “Discount Days”
DESCRIPTION:Boardwalk & Downtown Merchant “Discount Days” 6th Street – 14th Street on the boardwalk and Asbury Ave. 
URL:https://oceancityvacation.com/events-calendar/boardwalk-downtown-merchant-discount-days-2/2025-05-04/
LOCATION:Downtown Asbury Avenue\, 901 Asbury Avenue\, Ocean City\, NJ\, 08226\, United States
CATEGORIES:Events Calendar
ATTACH;FMTTYPE=image/jpeg:https://oceancityvacation.com/wp-content/uploads/2024/09/1.4-downtown-boardwalk-merchants-sales-2-800x600-1.jpg
GEO:39.27853;-74.57623
X-APPLE-STRUCTURED-LOCATION;VALUE=URI;X-ADDRESS=Downtown Asbury Avenue 901 Asbury Avenue Ocean City NJ 08226 United States;X-APPLE-RADIUS=500;X-TITLE=901 Asbury Avenue:geo:-74.57623,39.27853
END:VEVENT
BEGIN:VEVENT
DTSTART;TZID=America/New_York:20251004T080000
DTEND;TZID=America/New_York:20251004T170000
DTSTAMP:20260420T035527
CREATED:20241031T190419Z
LAST-MODIFIED:20241106T155053Z
UID:10001364-1759564800-1759597200@oceancityvacation.com
SUMMARY:Boardwalk & Downtown Merchant “Discount Days”
DESCRIPTION:Boardwalk & Downtown Merchant “Discount Days” 6th Street – 14th Street on the boardwalk and Asbury Ave. 
URL:https://oceancityvacation.com/events-calendar/boardwalk-downtown-merchant-discount-days-2/2025-10-04/
LOCATION:Downtown Asbury Avenue\, 901 Asbury Avenue\, Ocean City\, NJ\, 08226\, United States
CATEGORIES:Events Calendar
ATTACH;FMTTYPE=image/jpeg:https://oceancityvacation.com/wp-content/uploads/2024/09/1.4-downtown-boardwalk-merchants-sales-2-800x600-1.jpg
GEO:39.27853;-74.57623
X-APPLE-STRUCTURED-LOCATION;VALUE=URI;X-ADDRESS=Downtown Asbury Avenue 901 Asbury Avenue Ocean City NJ 08226 United States;X-APPLE-RADIUS=500;X-TITLE=901 Asbury Avenue:geo:-74.57623,39.27853
END:VEVENT
BEGIN:VEVENT
DTSTART;TZID=America/New_York:20251005T080000
DTEND;TZID=America/New_York:20251005T170000
DTSTAMP:20260420T035527
CREATED:20241031T190419Z
LAST-MODIFIED:20241106T155053Z
UID:10001365-1759651200-1759683600@oceancityvacation.com
SUMMARY:Boardwalk & Downtown Merchant “Discount Days”
DESCRIPTION:Boardwalk & Downtown Merchant “Discount Days” 6th Street – 14th Street on the boardwalk and Asbury Ave. 
URL:https://oceancityvacation.com/events-calendar/boardwalk-downtown-merchant-discount-days-2/2025-10-05/
LOCATION:Downtown Asbury Avenue\, 901 Asbury Avenue\, Ocean City\, NJ\, 08226\, United States
CATEGORIES:Events Calendar
ATTACH;FMTTYPE=image/jpeg:https://oceancityvacation.com/wp-content/uploads/2024/09/1.4-downtown-boardwalk-merchants-sales-2-800x600-1.jpg
GEO:39.27853;-74.57623
X-APPLE-STRUCTURED-LOCATION;VALUE=URI;X-ADDRESS=Downtown Asbury Avenue 901 Asbury Avenue Ocean City NJ 08226 United States;X-APPLE-RADIUS=500;X-TITLE=901 Asbury Avenue:geo:-74.57623,39.27853
END:VEVENT
BEGIN:VEVENT
DTSTART;TZID=America/New_York:20251011T080000
DTEND;TZID=America/New_York:20251011T170000
DTSTAMP:20260420T035527
CREATED:20241031T190419Z
LAST-MODIFIED:20241106T155053Z
UID:10001366-1760169600-1760202000@oceancityvacation.com
SUMMARY:Boardwalk & Downtown Merchant “Discount Days”
DESCRIPTION:Boardwalk & Downtown Merchant “Discount Days” 6th Street – 14th Street on the boardwalk and Asbury Ave. 
URL:https://oceancityvacation.com/events-calendar/boardwalk-downtown-merchant-discount-days-2/2025-10-11/
LOCATION:Downtown Asbury Avenue\, 901 Asbury Avenue\, Ocean City\, NJ\, 08226\, United States
CATEGORIES:Events Calendar
ATTACH;FMTTYPE=image/jpeg:https://oceancityvacation.com/wp-content/uploads/2024/09/1.4-downtown-boardwalk-merchants-sales-2-800x600-1.jpg
GEO:39.27853;-74.57623
X-APPLE-STRUCTURED-LOCATION;VALUE=URI;X-ADDRESS=Downtown Asbury Avenue 901 Asbury Avenue Ocean City NJ 08226 United States;X-APPLE-RADIUS=500;X-TITLE=901 Asbury Avenue:geo:-74.57623,39.27853
END:VEVENT
BEGIN:VEVENT
DTSTART;TZID=America/New_York:20250404T170000
DTEND;TZID=America/New_York:20250404T220000
DTSTAMP:20260420T035527
CREATED:20241031T133920Z
LAST-MODIFIED:20241104T200245Z
UID:10001357-1743786000-1743804000@oceancityvacation.com
SUMMARY:Girls Weekend
DESCRIPTION:Girls Weekend It’s time to put yourself first! Girls Weekend Downtown on Asbury Avenue between 6th and 14th Street. Fashion show Kick-Off Event on Friday evening\, shopping and dining specials all weekend\, accommodation packages\, wellness classes\, and so much more! Call 609-399-1412 for more information!  \n  \n 
URL:https://oceancityvacation.com/events-calendar/girls-weekend-3/2025-04-04/
LOCATION:Downtown Asbury Avenue\, 901 Asbury Avenue\, Ocean City\, NJ\, 08226\, United States
CATEGORIES:Events Calendar
ATTACH;FMTTYPE=image/jpeg:https://oceancityvacation.com/wp-content/uploads/2023/10/Girls-Weekend-scaled.jpg
GEO:39.27853;-74.57623
X-APPLE-STRUCTURED-LOCATION;VALUE=URI;X-ADDRESS=Downtown Asbury Avenue 901 Asbury Avenue Ocean City NJ 08226 United States;X-APPLE-RADIUS=500;X-TITLE=901 Asbury Avenue:geo:-74.57623,39.27853
END:VEVENT
BEGIN:VEVENT
DTSTART;TZID=America/New_York:20250405T080000
DTEND;TZID=America/New_York:20250405T170000
DTSTAMP:20260420T035527
CREATED:20241031T133920Z
LAST-MODIFIED:20241104T200245Z
UID:10001358-1743840000-1743872400@oceancityvacation.com
SUMMARY:Girls Weekend
DESCRIPTION:Girls Weekend It’s time to put yourself first! Girls Weekend Downtown on Asbury Avenue between 6th and 14th Street. Fashion show Kick-Off Event on Friday evening\, shopping and dining specials all weekend\, accommodation packages\, wellness classes\, and so much more! Call 609-399-1412 for more information!  \n  \n 
URL:https://oceancityvacation.com/events-calendar/girls-weekend-3/2025-04-05/
LOCATION:Downtown Asbury Avenue\, 901 Asbury Avenue\, Ocean City\, NJ\, 08226\, United States
CATEGORIES:Events Calendar
ATTACH;FMTTYPE=image/jpeg:https://oceancityvacation.com/wp-content/uploads/2023/10/Girls-Weekend-scaled.jpg
GEO:39.27853;-74.57623
X-APPLE-STRUCTURED-LOCATION;VALUE=URI;X-ADDRESS=Downtown Asbury Avenue 901 Asbury Avenue Ocean City NJ 08226 United States;X-APPLE-RADIUS=500;X-TITLE=901 Asbury Avenue:geo:-74.57623,39.27853
END:VEVENT
BEGIN:VEVENT
DTSTART;TZID=America/New_York:20250406T080000
DTEND;TZID=America/New_York:20250406T170000
DTSTAMP:20260420T035527
CREATED:20241031T133920Z
LAST-MODIFIED:20241104T200245Z
UID:10001359-1743926400-1743958800@oceancityvacation.com
SUMMARY:Girls Weekend
DESCRIPTION:Girls Weekend It’s time to put yourself first! Girls Weekend Downtown on Asbury Avenue between 6th and 14th Street. Fashion show Kick-Off Event on Friday evening\, shopping and dining specials all weekend\, accommodation packages\, wellness classes\, and so much more! Call 609-399-1412 for more information!  \n  \n 
URL:https://oceancityvacation.com/events-calendar/girls-weekend-3/2025-04-06/
LOCATION:Downtown Asbury Avenue\, 901 Asbury Avenue\, Ocean City\, NJ\, 08226\, United States
CATEGORIES:Events Calendar
ATTACH;FMTTYPE=image/jpeg:https://oceancityvacation.com/wp-content/uploads/2023/10/Girls-Weekend-scaled.jpg
GEO:39.27853;-74.57623
X-APPLE-STRUCTURED-LOCATION;VALUE=URI;X-ADDRESS=Downtown Asbury Avenue 901 Asbury Avenue Ocean City NJ 08226 United States;X-APPLE-RADIUS=500;X-TITLE=901 Asbury Avenue:geo:-74.57623,39.27853
END:VEVENT
BEGIN:VEVENT
DTSTART;TZID=America/New_York:20250101T090000
DTEND;TZID=America/New_York:20250101T170000
DTSTAMP:20260420T035527
CREATED:20231128T194409Z
LAST-MODIFIED:20241104T201203Z
UID:10000727-1735722000-1735750800@oceancityvacation.com
SUMMARY:First Day Shopping Extravaganza
DESCRIPTION:First Day Shopping Extravaganza Welcome the New Year by shopping for tremendous bargains in Downtown Ocean City\, Asbury Avenue from 6th Street to 14th Street.
URL:https://oceancityvacation.com/events-calendar/first-day-shopping-extravaganza-3/
LOCATION:901 Asbury Avenue\, Ocean City\, NJ\, 08226\, United States
CATEGORIES:Events Calendar
ATTACH;FMTTYPE=image/png:https://oceancityvacation.com/wp-content/uploads/2023/01/downtown_logo_website_1476299096.png
END:VEVENT
BEGIN:VEVENT
DTSTART;VALUE=DATE:20240405
DTEND;VALUE=DATE:20240408
DTSTAMP:20260420T035527
CREATED:20231027T172443Z
LAST-MODIFIED:20240319T143530Z
UID:10000375-1712275200-1712534399@oceancityvacation.com
SUMMARY:Girls Weekend
DESCRIPTION:Girls Weekend It’s time to put yourself first! Girls Weekend Downtown on Asbury Avenue between 6th and 14th Street. Fashion show Kick-Off Event on Friday evening\, shopping and dining specials all weekend\, accommodation packages\, wellness classes\, and so much more! Call 609-399-1412 for more information! Girls Weekend Fashion Show – Ocean City Yacht Club – Ocean City – Apr 5\, 2024 · Showpass \n 
URL:https://oceancityvacation.com/events-calendar/girls-weekend-2/
LOCATION:Downtown Asbury Avenue\, 901 Asbury Avenue\, Ocean City\, NJ\, 08226\, United States
CATEGORIES:Events Calendar
ATTACH;FMTTYPE=image/jpeg:https://oceancityvacation.com/wp-content/uploads/2023/10/Girls-Weekend-scaled.jpg
GEO:39.27853;-74.57623
X-APPLE-STRUCTURED-LOCATION;VALUE=URI;X-ADDRESS=Downtown Asbury Avenue 901 Asbury Avenue Ocean City NJ 08226 United States;X-APPLE-RADIUS=500;X-TITLE=901 Asbury Avenue:geo:-74.57623,39.27853
END:VEVENT
END:VCALENDAR