BEGIN:VCALENDAR
VERSION:2.0
PRODID:-//Ocean City NJ - ECPv6.15.14//NONSGML v1.0//EN
CALSCALE:GREGORIAN
METHOD:PUBLISH
X-ORIGINAL-URL:https://oceancityvacation.com
X-WR-CALDESC:Events for Ocean City NJ
REFRESH-INTERVAL;VALUE=DURATION:PT1H
X-Robots-Tag:noindex
X-PUBLISHED-TTL:PT1H
BEGIN:VTIMEZONE
TZID:America/New_York
BEGIN:DAYLIGHT
TZOFFSETFROM:-0500
TZOFFSETTO:-0400
TZNAME:EDT
DTSTART:20220313T070000
END:DAYLIGHT
BEGIN:STANDARD
TZOFFSETFROM:-0400
TZOFFSETTO:-0500
TZNAME:EST
DTSTART:20221106T060000
END:STANDARD
BEGIN:DAYLIGHT
TZOFFSETFROM:-0500
TZOFFSETTO:-0400
TZNAME:EDT
DTSTART:20230312T070000
END:DAYLIGHT
BEGIN:STANDARD
TZOFFSETFROM:-0400
TZOFFSETTO:-0500
TZNAME:EST
DTSTART:20231105T060000
END:STANDARD
BEGIN:DAYLIGHT
TZOFFSETFROM:-0500
TZOFFSETTO:-0400
TZNAME:EDT
DTSTART:20240310T070000
END:DAYLIGHT
BEGIN:STANDARD
TZOFFSETFROM:-0400
TZOFFSETTO:-0500
TZNAME:EST
DTSTART:20241103T060000
END:STANDARD
BEGIN:DAYLIGHT
TZOFFSETFROM:-0500
TZOFFSETTO:-0400
TZNAME:EDT
DTSTART:20250309T070000
END:DAYLIGHT
BEGIN:STANDARD
TZOFFSETFROM:-0400
TZOFFSETTO:-0500
TZNAME:EST
DTSTART:20251102T060000
END:STANDARD
BEGIN:DAYLIGHT
TZOFFSETFROM:-0500
TZOFFSETTO:-0400
TZNAME:EDT
DTSTART:20260308T070000
END:DAYLIGHT
BEGIN:STANDARD
TZOFFSETFROM:-0400
TZOFFSETTO:-0500
TZNAME:EST
DTSTART:20261101T060000
END:STANDARD
END:VTIMEZONE
BEGIN:VEVENT
DTSTART;TZID=America/New_York:20250702T193000
DTEND;TZID=America/New_York:20250702T213000
DTSTAMP:20260421T103128
CREATED:20250502T172706Z
LAST-MODIFIED:20250701T152121Z
UID:10001534-1751484600-1751491800@oceancityvacation.com
SUMMARY:Star Wars: The Completed Symphonic Saga I-IX Performed By The Ocean City Pops
DESCRIPTION:Star Wars: The Completed Symphonic Saga I-IX Performed By The Ocean City Pops The force is strong with this outdoor concert! The Ocean City Pops and Maestro Vince Lee will take you on an extraordinary journey through the entire Star Wars saga\, featuring the music of legendary film composer\, John Williams. Come dressed up as your favorite Star Wars character\, and kids age 12 and under can enter our costume contest! We have family-friendly pricing for this special event\, so spread the word and bring the whole family to Carey Stadium\, just off of the boardwalk between 5th and 6th streets.  This show is outdoors with seating on the field and bleachers.  Please bring a beach chair or towel to sit on field. 7:00 p.m. at Carey Stadium.  Tickets available at oceancityvacation.com/what-to-do/box-office/.
URL:https://oceancityvacation.com/events-calendar/star-wars-the-completed-symphonic-saga-i-ix-performed-by-the-ocean-city-pops/
LOCATION:Carey Stadium\, 500 Boardwalk\, Ocean City\, NJ\, 08226\, United States
CATEGORIES:Events Calendar
ATTACH;FMTTYPE=image/jpeg:https://oceancityvacation.com/wp-content/uploads/2025/05/7-2STARWARS.jpg
GEO:39.2785411;-74.5652712
X-APPLE-STRUCTURED-LOCATION;VALUE=URI;X-ADDRESS=Carey Stadium 500 Boardwalk Ocean City NJ 08226 United States;X-APPLE-RADIUS=500;X-TITLE=500 Boardwalk:geo:-74.5652712,39.2785411
END:VEVENT
BEGIN:VEVENT
DTSTART;TZID=America/New_York:20250703T200000
DTEND;TZID=America/New_York:20250703T213000
DTSTAMP:20260421T103128
CREATED:20241031T154529Z
LAST-MODIFIED:20241104T195429Z
UID:10001232-1751572800-1751578200@oceancityvacation.com
SUMMARY:Ocean City Pops FREE Outdoor Concert
DESCRIPTION:Ocean City Pops FREE Outdoor Concert The Ocean City Pops will perform a free outdoor concert at 8:00 p.m. July 3 and July 4 at Carey Stadium\, 6th & Boardwalk. Our legendary local orchestra will perform patriotic classics and audience favorites in honor of our nation’s birthday. Bring a beach chair or blanket to sit on the field\, and there will be seating available in the bleachers. 
URL:https://oceancityvacation.com/events-calendar/ocean-city-pops-free-outdoor-concert-4/2025-07-03/
LOCATION:Carey Stadium\, 500 Boardwalk\, Ocean City\, NJ\, 08226\, United States
CATEGORIES:Events Calendar
ATTACH;FMTTYPE=image/jpeg:https://oceancityvacation.com/wp-content/uploads/2023/01/1.4-Ocean-City-Pops-Holiday-Concert-scaled.jpg
GEO:39.2785411;-74.5652712
X-APPLE-STRUCTURED-LOCATION;VALUE=URI;X-ADDRESS=Carey Stadium 500 Boardwalk Ocean City NJ 08226 United States;X-APPLE-RADIUS=500;X-TITLE=500 Boardwalk:geo:-74.5652712,39.2785411
END:VEVENT
BEGIN:VEVENT
DTSTART;TZID=America/New_York:20250704T200000
DTEND;TZID=America/New_York:20250704T213000
DTSTAMP:20260421T103128
CREATED:20241031T154529Z
LAST-MODIFIED:20241104T195429Z
UID:10001237-1751659200-1751664600@oceancityvacation.com
SUMMARY:Ocean City Pops FREE Outdoor Concert
DESCRIPTION:Ocean City Pops FREE Outdoor Concert The Ocean City Pops will perform a free outdoor concert at 8:00 p.m. July 3 and July 4 at Carey Stadium\, 6th & Boardwalk. Our legendary local orchestra will perform patriotic classics and audience favorites in honor of our nation’s birthday. Bring a beach chair or blanket to sit on the field\, and there will be seating available in the bleachers. 
URL:https://oceancityvacation.com/events-calendar/ocean-city-pops-free-outdoor-concert-4/2025-07-04/
LOCATION:Carey Stadium\, 500 Boardwalk\, Ocean City\, NJ\, 08226\, United States
CATEGORIES:Events Calendar
ATTACH;FMTTYPE=image/jpeg:https://oceancityvacation.com/wp-content/uploads/2023/01/1.4-Ocean-City-Pops-Holiday-Concert-scaled.jpg
GEO:39.2785411;-74.5652712
X-APPLE-STRUCTURED-LOCATION;VALUE=URI;X-ADDRESS=Carey Stadium 500 Boardwalk Ocean City NJ 08226 United States;X-APPLE-RADIUS=500;X-TITLE=500 Boardwalk:geo:-74.5652712,39.2785411
END:VEVENT
BEGIN:VEVENT
DTSTART;TZID=America/New_York:20240704T200000
DTEND;TZID=America/New_York:20240704T213000
DTSTAMP:20260421T103128
CREATED:20240307T144316Z
LAST-MODIFIED:20240307T145724Z
UID:10000856-1720123200-1720128600@oceancityvacation.com
SUMMARY:Ocean City Pops FREE Outdoor Concert
DESCRIPTION:The Ocean City Pops will perform a free outdoor concert at 8:00 p.m. July 4 at Carey Stadium\, 6th & Boardwalk. Our legendary local orchestra will perform patriotic classics and audience favorites in honor of our nation’s birthday. Bring a beach chair or blanket to sit on the field\, and there will be seating available in the bleachers.   
URL:https://oceancityvacation.com/events-calendar/ocean-city-pops-free-outdoor-concert-3/
LOCATION:Carey Stadium\, 500 Boardwalk\, Ocean City\, NJ\, 08226\, United States
CATEGORIES:Events Calendar
ATTACH;FMTTYPE=image/jpeg:https://oceancityvacation.com/wp-content/uploads/2023/01/1.4-Ocean-City-Pops-Holiday-Concert-scaled.jpg
GEO:39.2785411;-74.5652712
X-APPLE-STRUCTURED-LOCATION;VALUE=URI;X-ADDRESS=Carey Stadium 500 Boardwalk Ocean City NJ 08226 United States;X-APPLE-RADIUS=500;X-TITLE=500 Boardwalk:geo:-74.5652712,39.2785411
END:VEVENT
BEGIN:VEVENT
DTSTART;TZID=America/New_York:20240703T200000
DTEND;TZID=America/New_York:20240703T213000
DTSTAMP:20260421T103128
CREATED:20231127T195013Z
LAST-MODIFIED:20240307T145742Z
UID:10000559-1720036800-1720042200@oceancityvacation.com
SUMMARY:Ocean City Pops FREE Outdoor Concert
DESCRIPTION:The Ocean City Pops will perform a free outdoor concert at 8:00 p.m. July 3 at Carey Stadium\, 6th & Boardwalk. Our legendary local orchestra will perform patriotic classics and audience favorites in honor of our nation’s birthday. Bring a beach chair or blanket to sit on the field\, and there will be seating available in the bleachers.  
URL:https://oceancityvacation.com/events-calendar/ocean-city-pops-free-outdoor-concert-2/
LOCATION:Carey Stadium\, 500 Boardwalk\, Ocean City\, NJ\, 08226\, United States
CATEGORIES:Events Calendar
ATTACH;FMTTYPE=image/jpeg:https://oceancityvacation.com/wp-content/uploads/2023/01/1.4-Ocean-City-Pops-Holiday-Concert-scaled.jpg
GEO:39.2785411;-74.5652712
X-APPLE-STRUCTURED-LOCATION;VALUE=URI;X-ADDRESS=Carey Stadium 500 Boardwalk Ocean City NJ 08226 United States;X-APPLE-RADIUS=500;X-TITLE=500 Boardwalk:geo:-74.5652712,39.2785411
END:VEVENT
BEGIN:VEVENT
DTSTART;TZID=America/New_York:20240406T090000
DTEND;TZID=America/New_York:20240406T110000
DTSTAMP:20260421T103128
CREATED:20231027T172832Z
LAST-MODIFIED:20240419T181449Z
UID:10000377-1712394000-1712401200@oceancityvacation.com
SUMMARY:OC CON Super Hero Run- 1 Mile & Kids Super Hero Obstacle Dash
DESCRIPTION:OC CON Super Hero Run- 1 Mile & Kids Super Hero Obstacle Dash – Pre-registration & Race Day Registration. 9:00 a.m. Start on the boardwalk in front of the Music Pier. For more information & registration ocnj.us/race-events contact: lrumer@ocnj.us
URL:https://oceancityvacation.com/events-calendar/oc-con-super-hero-run-1-mile-kids-super-hero-obstacle-dash-2/
LOCATION:Carey Stadium\, 500 Boardwalk\, Ocean City\, NJ\, 08226\, United States
CATEGORIES:Events Calendar
GEO:39.2785411;-74.5652712
X-APPLE-STRUCTURED-LOCATION;VALUE=URI;X-ADDRESS=Carey Stadium 500 Boardwalk Ocean City NJ 08226 United States;X-APPLE-RADIUS=500;X-TITLE=500 Boardwalk:geo:-74.5652712,39.2785411
END:VEVENT
BEGIN:VEVENT
DTSTART;TZID=America/New_York:20230703T193000
DTEND;TZID=America/New_York:20230703T210000
DTSTAMP:20260421T103128
CREATED:20230129T155349Z
LAST-MODIFIED:20231213T142506Z
UID:10000174-1688412600-1688418000@oceancityvacation.com
SUMMARY:Ocean City Pops FREE Outdoor Concert
DESCRIPTION:Ocean City Pops FREE Outdoor Concert The Ocean City Pops will perform a free outdoor concert at 7:30 p.m. July 3 at Carey Stadium. Our legendary local orchestra will perform patriotic classics and audience favorites in honor of our nation’s birthday. Bring a beach chair or blanket to sit on the field\, and there will be seating available in the bleachers.   
URL:https://oceancityvacation.com/events-calendar/ocean-city-pops-free-outdoor-concert/2023-07-03/
LOCATION:Carey Stadium\, 500 Boardwalk\, Ocean City\, NJ\, 08226\, United States
CATEGORIES:Events Calendar
ATTACH;FMTTYPE=image/jpeg:https://oceancityvacation.com/wp-content/uploads/2023/01/1.4-Ocean-City-Pops-Holiday-Concert-scaled.jpg
GEO:39.2785411;-74.5652712
X-APPLE-STRUCTURED-LOCATION;VALUE=URI;X-ADDRESS=Carey Stadium 500 Boardwalk Ocean City NJ 08226 United States;X-APPLE-RADIUS=500;X-TITLE=500 Boardwalk:geo:-74.5652712,39.2785411
END:VEVENT
BEGIN:VEVENT
DTSTART;TZID=America/New_York:20230704T193000
DTEND;TZID=America/New_York:20230704T210000
DTSTAMP:20260421T103128
CREATED:20230129T155349Z
LAST-MODIFIED:20231213T142506Z
UID:10000175-1688499000-1688504400@oceancityvacation.com
SUMMARY:Ocean City Pops FREE Outdoor Concert
DESCRIPTION:Ocean City Pops FREE Outdoor Concert The Ocean City Pops will perform a free outdoor concert at 7:30 p.m. July 3 at Carey Stadium. Our legendary local orchestra will perform patriotic classics and audience favorites in honor of our nation’s birthday. Bring a beach chair or blanket to sit on the field\, and there will be seating available in the bleachers.   
URL:https://oceancityvacation.com/events-calendar/ocean-city-pops-free-outdoor-concert/2023-07-04/
LOCATION:Carey Stadium\, 500 Boardwalk\, Ocean City\, NJ\, 08226\, United States
CATEGORIES:Events Calendar
ATTACH;FMTTYPE=image/jpeg:https://oceancityvacation.com/wp-content/uploads/2023/01/1.4-Ocean-City-Pops-Holiday-Concert-scaled.jpg
GEO:39.2785411;-74.5652712
X-APPLE-STRUCTURED-LOCATION;VALUE=URI;X-ADDRESS=Carey Stadium 500 Boardwalk Ocean City NJ 08226 United States;X-APPLE-RADIUS=500;X-TITLE=500 Boardwalk:geo:-74.5652712,39.2785411
END:VEVENT
BEGIN:VEVENT
DTSTART;TZID=America/New_York:20230325T090000
DTEND;TZID=America/New_York:20230325T110000
DTSTAMP:20260421T103128
CREATED:20230129T155340Z
LAST-MODIFIED:20231213T142528Z
UID:10000054-1679734800-1679742000@oceancityvacation.com
SUMMARY:OC CON Super Hero Run- 1 Mile & Kids Super Hero Obstacle Dash
DESCRIPTION:OC CON Super Hero Run- 1 Mile & Kids Super Hero Obstacle Dash – Pre-registration & Race Day Registration. 9 a.m. Start at Carey Stadium. For more information & registration ocnj.us/race-events contact: lrumer@ocnj.us
URL:https://oceancityvacation.com/events-calendar/oc-con-super-hero-run-1-mile-kids-super-hero-obstacle-dash/
LOCATION:Carey Stadium\, 500 Boardwalk\, Ocean City\, NJ\, 08226\, United States
CATEGORIES:Events Calendar
GEO:39.2785411;-74.5652712
X-APPLE-STRUCTURED-LOCATION;VALUE=URI;X-ADDRESS=Carey Stadium 500 Boardwalk Ocean City NJ 08226 United States;X-APPLE-RADIUS=500;X-TITLE=500 Boardwalk:geo:-74.5652712,39.2785411
END:VEVENT
END:VCALENDAR