BEGIN:VCALENDAR
VERSION:2.0
PRODID:-//Ocean City NJ - ECPv6.15.14//NONSGML v1.0//EN
CALSCALE:GREGORIAN
METHOD:PUBLISH
X-ORIGINAL-URL:https://oceancityvacation.com
X-WR-CALDESC:Events for Ocean City NJ
REFRESH-INTERVAL;VALUE=DURATION:PT1H
X-Robots-Tag:noindex
X-PUBLISHED-TTL:PT1H
BEGIN:VTIMEZONE
TZID:America/New_York
BEGIN:DAYLIGHT
TZOFFSETFROM:-0500
TZOFFSETTO:-0400
TZNAME:EDT
DTSTART:20220313T070000
END:DAYLIGHT
BEGIN:STANDARD
TZOFFSETFROM:-0400
TZOFFSETTO:-0500
TZNAME:EST
DTSTART:20221106T060000
END:STANDARD
BEGIN:DAYLIGHT
TZOFFSETFROM:-0500
TZOFFSETTO:-0400
TZNAME:EDT
DTSTART:20230312T070000
END:DAYLIGHT
BEGIN:STANDARD
TZOFFSETFROM:-0400
TZOFFSETTO:-0500
TZNAME:EST
DTSTART:20231105T060000
END:STANDARD
BEGIN:DAYLIGHT
TZOFFSETFROM:-0500
TZOFFSETTO:-0400
TZNAME:EDT
DTSTART:20240310T070000
END:DAYLIGHT
BEGIN:STANDARD
TZOFFSETFROM:-0400
TZOFFSETTO:-0500
TZNAME:EST
DTSTART:20241103T060000
END:STANDARD
END:VTIMEZONE
BEGIN:VEVENT
DTSTART;TZID=America/New_York:20230803T100000
DTEND;TZID=America/New_York:20230803T130000
DTSTAMP:20260420T105230
CREATED:20230129T155346Z
LAST-MODIFIED:20231213T142458Z
UID:10000151-1691056800-1691067600@oceancityvacation.com
SUMMARY:Market Days
DESCRIPTION:Market Days 10 a.m. to 1 p.m. – Asbury Avenue. Entertainment\, face painters\, balloon sculptors.
URL:https://oceancityvacation.com/events-calendar/market-days/2023-08-03/
LOCATION:Asbury Ave\, 901 Asbury Avenue\, Ocean City\, NJ\, 08226\, United States
CATEGORIES:Events Calendar
ATTACH;FMTTYPE=image/jpeg:https://oceancityvacation.com/wp-content/uploads/2023/01/market-day.jpg
GEO:39.27853;-74.57623
X-APPLE-STRUCTURED-LOCATION;VALUE=URI;X-ADDRESS=Asbury Ave 901 Asbury Avenue Ocean City NJ 08226 United States;X-APPLE-RADIUS=500;X-TITLE=901 Asbury Avenue:geo:-74.57623,39.27853
END:VEVENT
BEGIN:VEVENT
DTSTART;TZID=America/New_York:20230725T100000
DTEND;TZID=America/New_York:20230725T130000
DTSTAMP:20260420T105230
CREATED:20230129T155346Z
LAST-MODIFIED:20231213T142444Z
UID:10000105-1690279200-1690290000@oceancityvacation.com
SUMMARY:Funtastic Tuesdays
DESCRIPTION:Funtastic Tuesdays– 10 a.m. to 1 p.m. on Asbury Ave. Entertainment\, Face Painters\, Balloon Sculptors.
URL:https://oceancityvacation.com/events-calendar/funtastic-tuesdays-2023-07-25/
LOCATION:Asbury Ave\, 901 Asbury Avenue\, Ocean City\, NJ\, 08226\, United States
CATEGORIES:Events Calendar
GEO:39.27853;-74.57623
X-APPLE-STRUCTURED-LOCATION;VALUE=URI;X-ADDRESS=Asbury Ave 901 Asbury Avenue Ocean City NJ 08226 United States;X-APPLE-RADIUS=500;X-TITLE=901 Asbury Avenue:geo:-74.57623,39.27853
END:VEVENT
BEGIN:VEVENT
DTSTART;TZID=America/New_York:20230810T100000
DTEND;TZID=America/New_York:20230810T130000
DTSTAMP:20260420T105230
CREATED:20230129T155346Z
LAST-MODIFIED:20231213T142458Z
UID:10000152-1691661600-1691672400@oceancityvacation.com
SUMMARY:Market Days
DESCRIPTION:Market Days 10 a.m. to 1 p.m. – Asbury Avenue. Entertainment\, face painters\, balloon sculptors.
URL:https://oceancityvacation.com/events-calendar/market-days/2023-08-10/
LOCATION:Asbury Ave\, 901 Asbury Avenue\, Ocean City\, NJ\, 08226\, United States
CATEGORIES:Events Calendar
ATTACH;FMTTYPE=image/jpeg:https://oceancityvacation.com/wp-content/uploads/2023/01/market-day.jpg
GEO:39.27853;-74.57623
X-APPLE-STRUCTURED-LOCATION;VALUE=URI;X-ADDRESS=Asbury Ave 901 Asbury Avenue Ocean City NJ 08226 United States;X-APPLE-RADIUS=500;X-TITLE=901 Asbury Avenue:geo:-74.57623,39.27853
END:VEVENT
BEGIN:VEVENT
DTSTART;TZID=America/New_York:20230817T100000
DTEND;TZID=America/New_York:20230817T130000
DTSTAMP:20260420T105230
CREATED:20230129T155346Z
LAST-MODIFIED:20231213T142458Z
UID:10000153-1692266400-1692277200@oceancityvacation.com
SUMMARY:Market Days
DESCRIPTION:Market Days 10 a.m. to 1 p.m. – Asbury Avenue. Entertainment\, face painters\, balloon sculptors.
URL:https://oceancityvacation.com/events-calendar/market-days/2023-08-17/
LOCATION:Asbury Ave\, 901 Asbury Avenue\, Ocean City\, NJ\, 08226\, United States
CATEGORIES:Events Calendar
ATTACH;FMTTYPE=image/jpeg:https://oceancityvacation.com/wp-content/uploads/2023/01/market-day.jpg
GEO:39.27853;-74.57623
X-APPLE-STRUCTURED-LOCATION;VALUE=URI;X-ADDRESS=Asbury Ave 901 Asbury Avenue Ocean City NJ 08226 United States;X-APPLE-RADIUS=500;X-TITLE=901 Asbury Avenue:geo:-74.57623,39.27853
END:VEVENT
BEGIN:VEVENT
DTSTART;TZID=America/New_York:20230824T100000
DTEND;TZID=America/New_York:20230824T130000
DTSTAMP:20260420T105230
CREATED:20230129T155346Z
LAST-MODIFIED:20231213T142458Z
UID:10000154-1692871200-1692882000@oceancityvacation.com
SUMMARY:Market Days
DESCRIPTION:Market Days 10 a.m. to 1 p.m. – Asbury Avenue. Entertainment\, face painters\, balloon sculptors.
URL:https://oceancityvacation.com/events-calendar/market-days/2023-08-24/
LOCATION:Asbury Ave\, 901 Asbury Avenue\, Ocean City\, NJ\, 08226\, United States
CATEGORIES:Events Calendar
ATTACH;FMTTYPE=image/jpeg:https://oceancityvacation.com/wp-content/uploads/2023/01/market-day.jpg
GEO:39.27853;-74.57623
X-APPLE-STRUCTURED-LOCATION;VALUE=URI;X-ADDRESS=Asbury Ave 901 Asbury Avenue Ocean City NJ 08226 United States;X-APPLE-RADIUS=500;X-TITLE=901 Asbury Avenue:geo:-74.57623,39.27853
END:VEVENT
BEGIN:VEVENT
DTSTART;TZID=America/New_York:20230831T100000
DTEND;TZID=America/New_York:20230831T130000
DTSTAMP:20260420T105230
CREATED:20230129T155346Z
LAST-MODIFIED:20231213T142458Z
UID:10000155-1693476000-1693486800@oceancityvacation.com
SUMMARY:Market Days
DESCRIPTION:Market Days 10 a.m. to 1 p.m. – Asbury Avenue. Entertainment\, face painters\, balloon sculptors.
URL:https://oceancityvacation.com/events-calendar/market-days/2023-08-31/
LOCATION:Asbury Ave\, 901 Asbury Avenue\, Ocean City\, NJ\, 08226\, United States
CATEGORIES:Events Calendar
ATTACH;FMTTYPE=image/jpeg:https://oceancityvacation.com/wp-content/uploads/2023/01/market-day.jpg
GEO:39.27853;-74.57623
X-APPLE-STRUCTURED-LOCATION;VALUE=URI;X-ADDRESS=Asbury Ave 901 Asbury Avenue Ocean City NJ 08226 United States;X-APPLE-RADIUS=500;X-TITLE=901 Asbury Avenue:geo:-74.57623,39.27853
END:VEVENT
BEGIN:VEVENT
DTSTART;TZID=America/New_York:20230706T100000
DTEND;TZID=America/New_York:20230706T130000
DTSTAMP:20260420T105230
CREATED:20230129T155346Z
LAST-MODIFIED:20231213T142458Z
UID:10000147-1688637600-1688648400@oceancityvacation.com
SUMMARY:Market Days
DESCRIPTION:Market Days 10 a.m. to 1 p.m. – Asbury Avenue. Entertainment\, face painters\, balloon sculptors.
URL:https://oceancityvacation.com/events-calendar/market-days/2023-07-06/
LOCATION:Asbury Ave\, 901 Asbury Avenue\, Ocean City\, NJ\, 08226\, United States
CATEGORIES:Events Calendar
ATTACH;FMTTYPE=image/jpeg:https://oceancityvacation.com/wp-content/uploads/2023/01/market-day.jpg
GEO:39.27853;-74.57623
X-APPLE-STRUCTURED-LOCATION;VALUE=URI;X-ADDRESS=Asbury Ave 901 Asbury Avenue Ocean City NJ 08226 United States;X-APPLE-RADIUS=500;X-TITLE=901 Asbury Avenue:geo:-74.57623,39.27853
END:VEVENT
BEGIN:VEVENT
DTSTART;TZID=America/New_York:20230713T100000
DTEND;TZID=America/New_York:20230713T130000
DTSTAMP:20260420T105230
CREATED:20230129T155346Z
LAST-MODIFIED:20231213T142458Z
UID:10000148-1689242400-1689253200@oceancityvacation.com
SUMMARY:Market Days
DESCRIPTION:Market Days 10 a.m. to 1 p.m. – Asbury Avenue. Entertainment\, face painters\, balloon sculptors.
URL:https://oceancityvacation.com/events-calendar/market-days/2023-07-13/
LOCATION:Asbury Ave\, 901 Asbury Avenue\, Ocean City\, NJ\, 08226\, United States
CATEGORIES:Events Calendar
ATTACH;FMTTYPE=image/jpeg:https://oceancityvacation.com/wp-content/uploads/2023/01/market-day.jpg
GEO:39.27853;-74.57623
X-APPLE-STRUCTURED-LOCATION;VALUE=URI;X-ADDRESS=Asbury Ave 901 Asbury Avenue Ocean City NJ 08226 United States;X-APPLE-RADIUS=500;X-TITLE=901 Asbury Avenue:geo:-74.57623,39.27853
END:VEVENT
BEGIN:VEVENT
DTSTART;TZID=America/New_York:20230720T100000
DTEND;TZID=America/New_York:20230720T130000
DTSTAMP:20260420T105230
CREATED:20230129T155346Z
LAST-MODIFIED:20231213T142458Z
UID:10000149-1689847200-1689858000@oceancityvacation.com
SUMMARY:Market Days
DESCRIPTION:Market Days 10 a.m. to 1 p.m. – Asbury Avenue. Entertainment\, face painters\, balloon sculptors.
URL:https://oceancityvacation.com/events-calendar/market-days/2023-07-20/
LOCATION:Asbury Ave\, 901 Asbury Avenue\, Ocean City\, NJ\, 08226\, United States
CATEGORIES:Events Calendar
ATTACH;FMTTYPE=image/jpeg:https://oceancityvacation.com/wp-content/uploads/2023/01/market-day.jpg
GEO:39.27853;-74.57623
X-APPLE-STRUCTURED-LOCATION;VALUE=URI;X-ADDRESS=Asbury Ave 901 Asbury Avenue Ocean City NJ 08226 United States;X-APPLE-RADIUS=500;X-TITLE=901 Asbury Avenue:geo:-74.57623,39.27853
END:VEVENT
BEGIN:VEVENT
DTSTART;TZID=America/New_York:20230711T100000
DTEND;TZID=America/New_York:20230711T130000
DTSTAMP:20260420T105230
CREATED:20230129T155346Z
LAST-MODIFIED:20251128T173948Z
UID:10000103-1689069600-1689080400@oceancityvacation.com
SUMMARY:Funtastic Tuesdays
DESCRIPTION:Funtastic Tuesdays– 10 a.m. to 1 p.m. on Asbury Ave. Entertainment\, Face Painters\, Balloon Sculptors.
URL:https://oceancityvacation.com/events-calendar/funtastic-tuesdays-2023-07-11/
LOCATION:Asbury Ave\, 901 Asbury Avenue\, Ocean City\, NJ\, 08226\, United States
CATEGORIES:Events Calendar
ATTACH;FMTTYPE=image/jpeg:https://oceancityvacation.com/wp-content/uploads/2023/01/funtastic.jpg
GEO:39.27853;-74.57623
X-APPLE-STRUCTURED-LOCATION;VALUE=URI;X-ADDRESS=Asbury Ave 901 Asbury Avenue Ocean City NJ 08226 United States;X-APPLE-RADIUS=500;X-TITLE=901 Asbury Avenue:geo:-74.57623,39.27853
END:VEVENT
BEGIN:VEVENT
DTSTART;TZID=America/New_York:20230704T100000
DTEND;TZID=America/New_York:20230704T130000
DTSTAMP:20260420T105230
CREATED:20230129T155343Z
LAST-MODIFIED:20251128T173307Z
UID:10000102-1688464800-1688475600@oceancityvacation.com
SUMMARY:Funtastic Tuesdays
DESCRIPTION:Funtastic Tuesdays– 10 a.m. to 1 p.m. on Asbury Ave. Entertainment\, Face Painters\, Balloon Sculptors.
URL:https://oceancityvacation.com/events-calendar/funtastic-tuesdays-2023-07-04/
LOCATION:Asbury Ave\, 901 Asbury Avenue\, Ocean City\, NJ\, 08226\, United States
CATEGORIES:Events Calendar
ATTACH;FMTTYPE=image/jpeg:https://oceancityvacation.com/wp-content/uploads/2023/01/funtastic.jpg
GEO:39.27853;-74.57623
X-APPLE-STRUCTURED-LOCATION;VALUE=URI;X-ADDRESS=Asbury Ave 901 Asbury Avenue Ocean City NJ 08226 United States;X-APPLE-RADIUS=500;X-TITLE=901 Asbury Avenue:geo:-74.57623,39.27853
END:VEVENT
BEGIN:VEVENT
DTSTART;TZID=America/New_York:20231124T120000
DTEND;TZID=America/New_York:20231124T150000
DTSTAMP:20260420T105230
CREATED:20230129T155312Z
LAST-MODIFIED:20231213T142340Z
UID:10000258-1700827200-1700838000@oceancityvacation.com
SUMMARY:Horse & Carriage Rides
DESCRIPTION:Horse & Carriage Rides noon to 3 p.m.\, 6th & Asbury Ave.
URL:https://oceancityvacation.com/events-calendar/horse-carriage-rides/2023-11-24/
LOCATION:Asbury Ave\, 901 Asbury Avenue\, Ocean City\, NJ\, 08226\, United States
CATEGORIES:Events Calendar
ATTACH;FMTTYPE=image/jpeg:https://oceancityvacation.com/wp-content/uploads/2023/01/horse-and-crowd_1495135744.jpg
GEO:39.27853;-74.57623
X-APPLE-STRUCTURED-LOCATION;VALUE=URI;X-ADDRESS=Asbury Ave 901 Asbury Avenue Ocean City NJ 08226 United States;X-APPLE-RADIUS=500;X-TITLE=901 Asbury Avenue:geo:-74.57623,39.27853
END:VEVENT
BEGIN:VEVENT
DTSTART;TZID=America/New_York:20231125T120000
DTEND;TZID=America/New_York:20231125T150000
DTSTAMP:20260420T105230
CREATED:20230129T155312Z
LAST-MODIFIED:20231213T142340Z
UID:10000291-1700913600-1700924400@oceancityvacation.com
SUMMARY:Horse & Carriage Rides
DESCRIPTION:Horse & Carriage Rides noon to 3 p.m.\, 6th & Asbury Ave.
URL:https://oceancityvacation.com/events-calendar/horse-carriage-rides/2023-11-25/
LOCATION:Asbury Ave\, 901 Asbury Avenue\, Ocean City\, NJ\, 08226\, United States
CATEGORIES:Events Calendar
ATTACH;FMTTYPE=image/jpeg:https://oceancityvacation.com/wp-content/uploads/2023/01/horse-and-crowd_1495135744.jpg
GEO:39.27853;-74.57623
X-APPLE-STRUCTURED-LOCATION;VALUE=URI;X-ADDRESS=Asbury Ave 901 Asbury Avenue Ocean City NJ 08226 United States;X-APPLE-RADIUS=500;X-TITLE=901 Asbury Avenue:geo:-74.57623,39.27853
END:VEVENT
BEGIN:VEVENT
DTSTART;TZID=America/New_York:20231126T120000
DTEND;TZID=America/New_York:20231126T150000
DTSTAMP:20260420T105230
CREATED:20230129T155312Z
LAST-MODIFIED:20231213T142340Z
UID:10000292-1701000000-1701010800@oceancityvacation.com
SUMMARY:Horse & Carriage Rides
DESCRIPTION:Horse & Carriage Rides noon to 3 p.m.\, 6th & Asbury Ave.
URL:https://oceancityvacation.com/events-calendar/horse-carriage-rides/2023-11-26/
LOCATION:Asbury Ave\, 901 Asbury Avenue\, Ocean City\, NJ\, 08226\, United States
CATEGORIES:Events Calendar
ATTACH;FMTTYPE=image/jpeg:https://oceancityvacation.com/wp-content/uploads/2023/01/horse-and-crowd_1495135744.jpg
GEO:39.27853;-74.57623
X-APPLE-STRUCTURED-LOCATION;VALUE=URI;X-ADDRESS=Asbury Ave 901 Asbury Avenue Ocean City NJ 08226 United States;X-APPLE-RADIUS=500;X-TITLE=901 Asbury Avenue:geo:-74.57623,39.27853
END:VEVENT
BEGIN:VEVENT
DTSTART;TZID=America/New_York:20231202T120000
DTEND;TZID=America/New_York:20231202T150000
DTSTAMP:20260420T105230
CREATED:20230129T155312Z
LAST-MODIFIED:20231213T142340Z
UID:10000220-1701518400-1701529200@oceancityvacation.com
SUMMARY:Horse & Carriage Rides
DESCRIPTION:Horse & Carriage Rides noon to 3 p.m.\, 6th & Asbury Ave.
URL:https://oceancityvacation.com/events-calendar/horse-carriage-rides/2023-12-02/
LOCATION:Asbury Ave\, 901 Asbury Avenue\, Ocean City\, NJ\, 08226\, United States
CATEGORIES:Events Calendar
ATTACH;FMTTYPE=image/jpeg:https://oceancityvacation.com/wp-content/uploads/2023/01/horse-and-crowd_1495135744.jpg
GEO:39.27853;-74.57623
X-APPLE-STRUCTURED-LOCATION;VALUE=URI;X-ADDRESS=Asbury Ave 901 Asbury Avenue Ocean City NJ 08226 United States;X-APPLE-RADIUS=500;X-TITLE=901 Asbury Avenue:geo:-74.57623,39.27853
END:VEVENT
BEGIN:VEVENT
DTSTART;TZID=America/New_York:20231203T080000
DTEND;TZID=America/New_York:20231203T170000
DTSTAMP:20260420T105230
CREATED:20230129T155312Z
LAST-MODIFIED:20231213T142340Z
UID:10000293-1701590400-1701622800@oceancityvacation.com
SUMMARY:Horse & Carriage Rides
DESCRIPTION:Horse & Carriage Rides noon to 3 p.m.\, 6th & Asbury Ave.
URL:https://oceancityvacation.com/events-calendar/horse-carriage-rides/2023-12-03/
LOCATION:Asbury Ave\, 901 Asbury Avenue\, Ocean City\, NJ\, 08226\, United States
CATEGORIES:Events Calendar
ATTACH;FMTTYPE=image/jpeg:https://oceancityvacation.com/wp-content/uploads/2023/01/horse-and-crowd_1495135744.jpg
GEO:39.27853;-74.57623
X-APPLE-STRUCTURED-LOCATION;VALUE=URI;X-ADDRESS=Asbury Ave 901 Asbury Avenue Ocean City NJ 08226 United States;X-APPLE-RADIUS=500;X-TITLE=901 Asbury Avenue:geo:-74.57623,39.27853
END:VEVENT
BEGIN:VEVENT
DTSTART;TZID=America/New_York:20231209T080000
DTEND;TZID=America/New_York:20231209T170000
DTSTAMP:20260420T105230
CREATED:20230129T155312Z
LAST-MODIFIED:20231213T142340Z
UID:10000294-1702108800-1702141200@oceancityvacation.com
SUMMARY:Horse & Carriage Rides
DESCRIPTION:Horse & Carriage Rides noon to 3 p.m.\, 6th & Asbury Ave.
URL:https://oceancityvacation.com/events-calendar/horse-carriage-rides/2023-12-09/
LOCATION:Asbury Ave\, 901 Asbury Avenue\, Ocean City\, NJ\, 08226\, United States
CATEGORIES:Events Calendar
ATTACH;FMTTYPE=image/jpeg:https://oceancityvacation.com/wp-content/uploads/2023/01/horse-and-crowd_1495135744.jpg
GEO:39.27853;-74.57623
X-APPLE-STRUCTURED-LOCATION;VALUE=URI;X-ADDRESS=Asbury Ave 901 Asbury Avenue Ocean City NJ 08226 United States;X-APPLE-RADIUS=500;X-TITLE=901 Asbury Avenue:geo:-74.57623,39.27853
END:VEVENT
BEGIN:VEVENT
DTSTART;TZID=America/New_York:20231210T080000
DTEND;TZID=America/New_York:20231210T170000
DTSTAMP:20260420T105230
CREATED:20230129T155312Z
LAST-MODIFIED:20231213T142340Z
UID:10000295-1702195200-1702227600@oceancityvacation.com
SUMMARY:Horse & Carriage Rides
DESCRIPTION:Horse & Carriage Rides noon to 3 p.m.\, 6th & Asbury Ave.
URL:https://oceancityvacation.com/events-calendar/horse-carriage-rides/2023-12-10/
LOCATION:Asbury Ave\, 901 Asbury Avenue\, Ocean City\, NJ\, 08226\, United States
CATEGORIES:Events Calendar
ATTACH;FMTTYPE=image/jpeg:https://oceancityvacation.com/wp-content/uploads/2023/01/horse-and-crowd_1495135744.jpg
GEO:39.27853;-74.57623
X-APPLE-STRUCTURED-LOCATION;VALUE=URI;X-ADDRESS=Asbury Ave 901 Asbury Avenue Ocean City NJ 08226 United States;X-APPLE-RADIUS=500;X-TITLE=901 Asbury Avenue:geo:-74.57623,39.27853
END:VEVENT
BEGIN:VEVENT
DTSTART;TZID=America/New_York:20231216T080000
DTEND;TZID=America/New_York:20231216T170000
DTSTAMP:20260420T105230
CREATED:20230129T155312Z
LAST-MODIFIED:20231213T142340Z
UID:10000296-1702713600-1702746000@oceancityvacation.com
SUMMARY:Horse & Carriage Rides
DESCRIPTION:Horse & Carriage Rides noon to 3 p.m.\, 6th & Asbury Ave.
URL:https://oceancityvacation.com/events-calendar/horse-carriage-rides/2023-12-16/
LOCATION:Asbury Ave\, 901 Asbury Avenue\, Ocean City\, NJ\, 08226\, United States
CATEGORIES:Events Calendar
ATTACH;FMTTYPE=image/jpeg:https://oceancityvacation.com/wp-content/uploads/2023/01/horse-and-crowd_1495135744.jpg
GEO:39.27853;-74.57623
X-APPLE-STRUCTURED-LOCATION;VALUE=URI;X-ADDRESS=Asbury Ave 901 Asbury Avenue Ocean City NJ 08226 United States;X-APPLE-RADIUS=500;X-TITLE=901 Asbury Avenue:geo:-74.57623,39.27853
END:VEVENT
BEGIN:VEVENT
DTSTART;TZID=America/New_York:20231217T080000
DTEND;TZID=America/New_York:20231217T170000
DTSTAMP:20260420T105230
CREATED:20230129T155312Z
LAST-MODIFIED:20231213T142340Z
UID:10000297-1702800000-1702832400@oceancityvacation.com
SUMMARY:Horse & Carriage Rides
DESCRIPTION:Horse & Carriage Rides noon to 3 p.m.\, 6th & Asbury Ave.
URL:https://oceancityvacation.com/events-calendar/horse-carriage-rides/2023-12-17/
LOCATION:Asbury Ave\, 901 Asbury Avenue\, Ocean City\, NJ\, 08226\, United States
CATEGORIES:Events Calendar
ATTACH;FMTTYPE=image/jpeg:https://oceancityvacation.com/wp-content/uploads/2023/01/horse-and-crowd_1495135744.jpg
GEO:39.27853;-74.57623
X-APPLE-STRUCTURED-LOCATION;VALUE=URI;X-ADDRESS=Asbury Ave 901 Asbury Avenue Ocean City NJ 08226 United States;X-APPLE-RADIUS=500;X-TITLE=901 Asbury Avenue:geo:-74.57623,39.27853
END:VEVENT
BEGIN:VEVENT
DTSTART;TZID=America/New_York:20231223T080000
DTEND;TZID=America/New_York:20231223T170000
DTSTAMP:20260420T105230
CREATED:20230129T155312Z
LAST-MODIFIED:20231213T142340Z
UID:10000298-1703318400-1703350800@oceancityvacation.com
SUMMARY:Horse & Carriage Rides
DESCRIPTION:Horse & Carriage Rides noon to 3 p.m.\, 6th & Asbury Ave.
URL:https://oceancityvacation.com/events-calendar/horse-carriage-rides/2023-12-23/
LOCATION:Asbury Ave\, 901 Asbury Avenue\, Ocean City\, NJ\, 08226\, United States
CATEGORIES:Events Calendar
ATTACH;FMTTYPE=image/jpeg:https://oceancityvacation.com/wp-content/uploads/2023/01/horse-and-crowd_1495135744.jpg
GEO:39.27853;-74.57623
X-APPLE-STRUCTURED-LOCATION;VALUE=URI;X-ADDRESS=Asbury Ave 901 Asbury Avenue Ocean City NJ 08226 United States;X-APPLE-RADIUS=500;X-TITLE=901 Asbury Avenue:geo:-74.57623,39.27853
END:VEVENT
BEGIN:VEVENT
DTSTART;TZID=America/New_York:20231118T120000
DTEND;TZID=America/New_York:20231118T150000
DTSTAMP:20260420T105230
CREATED:20230129T155312Z
LAST-MODIFIED:20231213T142340Z
UID:10000256-1700308800-1700319600@oceancityvacation.com
SUMMARY:Horse & Carriage Rides
DESCRIPTION:Horse & Carriage Rides noon to 3 p.m.\, 6th & Asbury Ave.
URL:https://oceancityvacation.com/events-calendar/horse-carriage-rides/2023-11-18/
LOCATION:Asbury Ave\, 901 Asbury Avenue\, Ocean City\, NJ\, 08226\, United States
CATEGORIES:Events Calendar
ATTACH;FMTTYPE=image/jpeg:https://oceancityvacation.com/wp-content/uploads/2023/01/horse-and-crowd_1495135744.jpg
GEO:39.27853;-74.57623
X-APPLE-STRUCTURED-LOCATION;VALUE=URI;X-ADDRESS=Asbury Ave 901 Asbury Avenue Ocean City NJ 08226 United States;X-APPLE-RADIUS=500;X-TITLE=901 Asbury Avenue:geo:-74.57623,39.27853
END:VEVENT
BEGIN:VEVENT
DTSTART;TZID=America/New_York:20230506T090000
DTEND;TZID=America/New_York:20230506T170000
DTSTAMP:20260420T105230
CREATED:20230129T155240Z
LAST-MODIFIED:20231213T142520Z
UID:10000065-1683363600-1683392400@oceancityvacation.com
SUMMARY:Spring Block Party
DESCRIPTION:Spring Block Party 9 a.m. to 5 p.m. from 5th Street to 14th Street on Asbury Ave. Over 350 crafters\, food vendors\, music and more.  For more information\, call 1-800-BeachNJ
URL:https://oceancityvacation.com/events-calendar/spring-block-party/
LOCATION:Asbury Ave\, 901 Asbury Avenue\, Ocean City\, NJ\, 08226\, United States
CATEGORIES:Events Calendar
GEO:39.27853;-74.57623
X-APPLE-STRUCTURED-LOCATION;VALUE=URI;X-ADDRESS=Asbury Ave 901 Asbury Avenue Ocean City NJ 08226 United States;X-APPLE-RADIUS=500;X-TITLE=901 Asbury Avenue:geo:-74.57623,39.27853
END:VEVENT
END:VCALENDAR