BEGIN:VCALENDAR
VERSION:2.0
PRODID:-//Ocean City NJ - ECPv6.15.14//NONSGML v1.0//EN
CALSCALE:GREGORIAN
METHOD:PUBLISH
X-WR-CALNAME:Ocean City NJ
X-ORIGINAL-URL:https://oceancityvacation.com
X-WR-CALDESC:Events for Ocean City NJ
REFRESH-INTERVAL;VALUE=DURATION:PT1H
X-Robots-Tag:noindex
X-PUBLISHED-TTL:PT1H
BEGIN:VTIMEZONE
TZID:America/New_York
BEGIN:DAYLIGHT
TZOFFSETFROM:-0500
TZOFFSETTO:-0400
TZNAME:EDT
DTSTART:20250309T070000
END:DAYLIGHT
BEGIN:STANDARD
TZOFFSETFROM:-0400
TZOFFSETTO:-0500
TZNAME:EST
DTSTART:20251102T060000
END:STANDARD
BEGIN:DAYLIGHT
TZOFFSETFROM:-0500
TZOFFSETTO:-0400
TZNAME:EDT
DTSTART:20260308T070000
END:DAYLIGHT
BEGIN:STANDARD
TZOFFSETFROM:-0400
TZOFFSETTO:-0500
TZNAME:EST
DTSTART:20261101T060000
END:STANDARD
BEGIN:DAYLIGHT
TZOFFSETFROM:-0500
TZOFFSETTO:-0400
TZNAME:EDT
DTSTART:20270314T070000
END:DAYLIGHT
BEGIN:STANDARD
TZOFFSETFROM:-0400
TZOFFSETTO:-0500
TZNAME:EST
DTSTART:20271107T060000
END:STANDARD
END:VTIMEZONE
BEGIN:VEVENT
DTSTART;TZID=America/New_York:20260729T183000
DTEND;TZID=America/New_York:20260729T193000
DTSTAMP:20260421T045639
CREATED:20251030T192122Z
LAST-MODIFIED:20251030T192122Z
UID:10001729-1785349800-1785353400@oceancityvacation.com
SUMMARY:Beach Walks
DESCRIPTION:Beach Walks – 59th St. & Central Ave. (Entrance to Corson’s Park) Wednesdays- 6:30 p.m.
URL:https://oceancityvacation.com/events-calendar/beach-walks-6/2026-07-29/
LOCATION:59th Street Beach
CATEGORIES:Events Calendar
ATTACH;FMTTYPE=image/jpeg:https://oceancityvacation.com/wp-content/uploads/2023/01/1.4-ocean-city-beach-walkway-scaled.jpg
GEO:39.219781457795;-74.6394003595
END:VEVENT
BEGIN:VEVENT
DTSTART;TZID=America/New_York:20260805T183000
DTEND;TZID=America/New_York:20260805T193000
DTSTAMP:20260421T045639
CREATED:20251030T192122Z
LAST-MODIFIED:20251030T192122Z
UID:10001730-1785954600-1785958200@oceancityvacation.com
SUMMARY:Beach Walks
DESCRIPTION:Beach Walks – 59th St. & Central Ave. (Entrance to Corson’s Park) Wednesdays- 6:30 p.m.
URL:https://oceancityvacation.com/events-calendar/beach-walks-6/2026-08-05/
LOCATION:59th Street Beach
CATEGORIES:Events Calendar
ATTACH;FMTTYPE=image/jpeg:https://oceancityvacation.com/wp-content/uploads/2023/01/1.4-ocean-city-beach-walkway-scaled.jpg
GEO:39.219781457795;-74.6394003595
END:VEVENT
BEGIN:VEVENT
DTSTART;TZID=America/New_York:20260812T183000
DTEND;TZID=America/New_York:20260812T193000
DTSTAMP:20260421T045639
CREATED:20251030T192122Z
LAST-MODIFIED:20251030T192122Z
UID:10001731-1786559400-1786563000@oceancityvacation.com
SUMMARY:Beach Walks
DESCRIPTION:Beach Walks – 59th St. & Central Ave. (Entrance to Corson’s Park) Wednesdays- 6:30 p.m.
URL:https://oceancityvacation.com/events-calendar/beach-walks-6/2026-08-12/
LOCATION:59th Street Beach
CATEGORIES:Events Calendar
ATTACH;FMTTYPE=image/jpeg:https://oceancityvacation.com/wp-content/uploads/2023/01/1.4-ocean-city-beach-walkway-scaled.jpg
GEO:39.219781457795;-74.6394003595
END:VEVENT
BEGIN:VEVENT
DTSTART;TZID=America/New_York:20260819T183000
DTEND;TZID=America/New_York:20260819T193000
DTSTAMP:20260421T045639
CREATED:20251030T192122Z
LAST-MODIFIED:20251030T192122Z
UID:10001732-1787164200-1787167800@oceancityvacation.com
SUMMARY:Beach Walks
DESCRIPTION:Beach Walks – 59th St. & Central Ave. (Entrance to Corson’s Park) Wednesdays- 6:30 p.m.
URL:https://oceancityvacation.com/events-calendar/beach-walks-6/2026-08-19/
LOCATION:59th Street Beach
CATEGORIES:Events Calendar
ATTACH;FMTTYPE=image/jpeg:https://oceancityvacation.com/wp-content/uploads/2023/01/1.4-ocean-city-beach-walkway-scaled.jpg
GEO:39.219781457795;-74.6394003595
END:VEVENT
BEGIN:VEVENT
DTSTART;TZID=America/New_York:20260826T183000
DTEND;TZID=America/New_York:20260826T193000
DTSTAMP:20260421T045639
CREATED:20251030T192122Z
LAST-MODIFIED:20251030T192122Z
UID:10001733-1787769000-1787772600@oceancityvacation.com
SUMMARY:Beach Walks
DESCRIPTION:Beach Walks – 59th St. & Central Ave. (Entrance to Corson’s Park) Wednesdays- 6:30 p.m.
URL:https://oceancityvacation.com/events-calendar/beach-walks-6/2026-08-26/
LOCATION:59th Street Beach
CATEGORIES:Events Calendar
ATTACH;FMTTYPE=image/jpeg:https://oceancityvacation.com/wp-content/uploads/2023/01/1.4-ocean-city-beach-walkway-scaled.jpg
GEO:39.219781457795;-74.6394003595
END:VEVENT
END:VCALENDAR