BEGIN:VCALENDAR
VERSION:2.0
PRODID:-//Ocean City NJ - ECPv6.15.14//NONSGML v1.0//EN
CALSCALE:GREGORIAN
METHOD:PUBLISH
X-ORIGINAL-URL:https://oceancityvacation.com
X-WR-CALDESC:Events for Ocean City NJ
REFRESH-INTERVAL;VALUE=DURATION:PT1H
X-Robots-Tag:noindex
X-PUBLISHED-TTL:PT1H
BEGIN:VTIMEZONE
TZID:America/New_York
BEGIN:DAYLIGHT
TZOFFSETFROM:-0500
TZOFFSETTO:-0400
TZNAME:EDT
DTSTART:20250309T070000
END:DAYLIGHT
BEGIN:STANDARD
TZOFFSETFROM:-0400
TZOFFSETTO:-0500
TZNAME:EST
DTSTART:20251102T060000
END:STANDARD
BEGIN:DAYLIGHT
TZOFFSETFROM:-0500
TZOFFSETTO:-0400
TZNAME:EDT
DTSTART:20260308T070000
END:DAYLIGHT
BEGIN:STANDARD
TZOFFSETFROM:-0400
TZOFFSETTO:-0500
TZNAME:EST
DTSTART:20261101T060000
END:STANDARD
BEGIN:DAYLIGHT
TZOFFSETFROM:-0500
TZOFFSETTO:-0400
TZNAME:EDT
DTSTART:20270314T070000
END:DAYLIGHT
BEGIN:STANDARD
TZOFFSETFROM:-0400
TZOFFSETTO:-0500
TZNAME:EST
DTSTART:20271107T060000
END:STANDARD
END:VTIMEZONE
BEGIN:VEVENT
DTSTART;TZID=America/New_York:20260819T080000
DTEND;TZID=America/New_York:20260819T090000
DTSTAMP:20260421T015008
CREATED:20251030T190925Z
LAST-MODIFIED:20260213T180343Z
UID:10001644-1787126400-1787130000@oceancityvacation.com
SUMMARY:Beach Exercise (Pilates)
DESCRIPTION:Beach Exercise (Pilates) on 6th Street Beach Volleyball Courts. 8:00 a.m. to 9:00 a.m. Free! Bring a towel & a friend.  Hosted by the Ocean City Aquatic & Fitness Center.  For more information call (609) 398-6900.
URL:https://oceancityvacation.com/events-calendar/beach-exercise-pilates-4/2026-08-19/
LOCATION:6th St. and the Boardwalk\, 600 Boardwalk\, Ocean City\, NJ\, 08226\, United States
CATEGORIES:Events Calendar
ATTACH;FMTTYPE=image/png:https://oceancityvacation.com/wp-content/uploads/2025/10/Untitled-design-30.png
ORGANIZER;CN="Ocean City Aquatic & Fitness Center":MAILTO:anf@ocnj.us
GEO:39.2770244;-74.566192
X-APPLE-STRUCTURED-LOCATION;VALUE=URI;X-ADDRESS=6th St. and the Boardwalk 600 Boardwalk Ocean City NJ 08226 United States;X-APPLE-RADIUS=500;X-TITLE=600 Boardwalk:geo:-74.566192,39.2770244
END:VEVENT
BEGIN:VEVENT
DTSTART;TZID=America/New_York:20260826T080000
DTEND;TZID=America/New_York:20260826T090000
DTSTAMP:20260421T015008
CREATED:20251030T190925Z
LAST-MODIFIED:20260213T180343Z
UID:10001645-1787731200-1787734800@oceancityvacation.com
SUMMARY:Beach Exercise (Pilates)
DESCRIPTION:Beach Exercise (Pilates) on 6th Street Beach Volleyball Courts. 8:00 a.m. to 9:00 a.m. Free! Bring a towel & a friend.  Hosted by the Ocean City Aquatic & Fitness Center.  For more information call (609) 398-6900.
URL:https://oceancityvacation.com/events-calendar/beach-exercise-pilates-4/2026-08-26/
LOCATION:6th St. and the Boardwalk\, 600 Boardwalk\, Ocean City\, NJ\, 08226\, United States
CATEGORIES:Events Calendar
ATTACH;FMTTYPE=image/png:https://oceancityvacation.com/wp-content/uploads/2025/10/Untitled-design-30.png
ORGANIZER;CN="Ocean City Aquatic & Fitness Center":MAILTO:anf@ocnj.us
GEO:39.2770244;-74.566192
X-APPLE-STRUCTURED-LOCATION;VALUE=URI;X-ADDRESS=6th St. and the Boardwalk 600 Boardwalk Ocean City NJ 08226 United States;X-APPLE-RADIUS=500;X-TITLE=600 Boardwalk:geo:-74.566192,39.2770244
END:VEVENT
BEGIN:VEVENT
DTSTART;TZID=America/New_York:20260701T080000
DTEND;TZID=America/New_York:20260701T090000
DTSTAMP:20260421T015008
CREATED:20251030T190925Z
LAST-MODIFIED:20260213T180343Z
UID:10001637-1782892800-1782896400@oceancityvacation.com
SUMMARY:Beach Exercise (Pilates)
DESCRIPTION:Beach Exercise (Pilates) on 6th Street Beach Volleyball Courts. 8:00 a.m. to 9:00 a.m. Free! Bring a towel & a friend.  Hosted by the Ocean City Aquatic & Fitness Center.  For more information call (609) 398-6900.
URL:https://oceancityvacation.com/events-calendar/beach-exercise-pilates-4/2026-07-01/
LOCATION:6th St. and the Boardwalk\, 600 Boardwalk\, Ocean City\, NJ\, 08226\, United States
CATEGORIES:Events Calendar
ATTACH;FMTTYPE=image/png:https://oceancityvacation.com/wp-content/uploads/2025/10/Untitled-design-30.png
ORGANIZER;CN="Ocean City Aquatic & Fitness Center":MAILTO:anf@ocnj.us
GEO:39.2770244;-74.566192
X-APPLE-STRUCTURED-LOCATION;VALUE=URI;X-ADDRESS=6th St. and the Boardwalk 600 Boardwalk Ocean City NJ 08226 United States;X-APPLE-RADIUS=500;X-TITLE=600 Boardwalk:geo:-74.566192,39.2770244
END:VEVENT
BEGIN:VEVENT
DTSTART;TZID=America/New_York:20260708T080000
DTEND;TZID=America/New_York:20260708T090000
DTSTAMP:20260421T015008
CREATED:20251030T190925Z
LAST-MODIFIED:20260213T180343Z
UID:10001638-1783497600-1783501200@oceancityvacation.com
SUMMARY:Beach Exercise (Pilates)
DESCRIPTION:Beach Exercise (Pilates) on 6th Street Beach Volleyball Courts. 8:00 a.m. to 9:00 a.m. Free! Bring a towel & a friend.  Hosted by the Ocean City Aquatic & Fitness Center.  For more information call (609) 398-6900.
URL:https://oceancityvacation.com/events-calendar/beach-exercise-pilates-4/2026-07-08/
LOCATION:6th St. and the Boardwalk\, 600 Boardwalk\, Ocean City\, NJ\, 08226\, United States
CATEGORIES:Events Calendar
ATTACH;FMTTYPE=image/png:https://oceancityvacation.com/wp-content/uploads/2025/10/Untitled-design-30.png
ORGANIZER;CN="Ocean City Aquatic & Fitness Center":MAILTO:anf@ocnj.us
GEO:39.2770244;-74.566192
X-APPLE-STRUCTURED-LOCATION;VALUE=URI;X-ADDRESS=6th St. and the Boardwalk 600 Boardwalk Ocean City NJ 08226 United States;X-APPLE-RADIUS=500;X-TITLE=600 Boardwalk:geo:-74.566192,39.2770244
END:VEVENT
BEGIN:VEVENT
DTSTART;TZID=America/New_York:20260715T080000
DTEND;TZID=America/New_York:20260715T090000
DTSTAMP:20260421T015008
CREATED:20251030T190925Z
LAST-MODIFIED:20260213T180343Z
UID:10001639-1784102400-1784106000@oceancityvacation.com
SUMMARY:Beach Exercise (Pilates)
DESCRIPTION:Beach Exercise (Pilates) on 6th Street Beach Volleyball Courts. 8:00 a.m. to 9:00 a.m. Free! Bring a towel & a friend.  Hosted by the Ocean City Aquatic & Fitness Center.  For more information call (609) 398-6900.
URL:https://oceancityvacation.com/events-calendar/beach-exercise-pilates-4/2026-07-15/
LOCATION:6th St. and the Boardwalk\, 600 Boardwalk\, Ocean City\, NJ\, 08226\, United States
CATEGORIES:Events Calendar
ATTACH;FMTTYPE=image/png:https://oceancityvacation.com/wp-content/uploads/2025/10/Untitled-design-30.png
ORGANIZER;CN="Ocean City Aquatic & Fitness Center":MAILTO:anf@ocnj.us
GEO:39.2770244;-74.566192
X-APPLE-STRUCTURED-LOCATION;VALUE=URI;X-ADDRESS=6th St. and the Boardwalk 600 Boardwalk Ocean City NJ 08226 United States;X-APPLE-RADIUS=500;X-TITLE=600 Boardwalk:geo:-74.566192,39.2770244
END:VEVENT
BEGIN:VEVENT
DTSTART;TZID=America/New_York:20260722T080000
DTEND;TZID=America/New_York:20260722T090000
DTSTAMP:20260421T015008
CREATED:20251030T190925Z
LAST-MODIFIED:20260213T180343Z
UID:10001640-1784707200-1784710800@oceancityvacation.com
SUMMARY:Beach Exercise (Pilates)
DESCRIPTION:Beach Exercise (Pilates) on 6th Street Beach Volleyball Courts. 8:00 a.m. to 9:00 a.m. Free! Bring a towel & a friend.  Hosted by the Ocean City Aquatic & Fitness Center.  For more information call (609) 398-6900.
URL:https://oceancityvacation.com/events-calendar/beach-exercise-pilates-4/2026-07-22/
LOCATION:6th St. and the Boardwalk\, 600 Boardwalk\, Ocean City\, NJ\, 08226\, United States
CATEGORIES:Events Calendar
ATTACH;FMTTYPE=image/png:https://oceancityvacation.com/wp-content/uploads/2025/10/Untitled-design-30.png
ORGANIZER;CN="Ocean City Aquatic & Fitness Center":MAILTO:anf@ocnj.us
GEO:39.2770244;-74.566192
X-APPLE-STRUCTURED-LOCATION;VALUE=URI;X-ADDRESS=6th St. and the Boardwalk 600 Boardwalk Ocean City NJ 08226 United States;X-APPLE-RADIUS=500;X-TITLE=600 Boardwalk:geo:-74.566192,39.2770244
END:VEVENT
BEGIN:VEVENT
DTSTART;TZID=America/New_York:20260729T080000
DTEND;TZID=America/New_York:20260729T090000
DTSTAMP:20260421T015008
CREATED:20251030T190925Z
LAST-MODIFIED:20260213T180343Z
UID:10001641-1785312000-1785315600@oceancityvacation.com
SUMMARY:Beach Exercise (Pilates)
DESCRIPTION:Beach Exercise (Pilates) on 6th Street Beach Volleyball Courts. 8:00 a.m. to 9:00 a.m. Free! Bring a towel & a friend.  Hosted by the Ocean City Aquatic & Fitness Center.  For more information call (609) 398-6900.
URL:https://oceancityvacation.com/events-calendar/beach-exercise-pilates-4/2026-07-29/
LOCATION:6th St. and the Boardwalk\, 600 Boardwalk\, Ocean City\, NJ\, 08226\, United States
CATEGORIES:Events Calendar
ATTACH;FMTTYPE=image/png:https://oceancityvacation.com/wp-content/uploads/2025/10/Untitled-design-30.png
ORGANIZER;CN="Ocean City Aquatic & Fitness Center":MAILTO:anf@ocnj.us
GEO:39.2770244;-74.566192
X-APPLE-STRUCTURED-LOCATION;VALUE=URI;X-ADDRESS=6th St. and the Boardwalk 600 Boardwalk Ocean City NJ 08226 United States;X-APPLE-RADIUS=500;X-TITLE=600 Boardwalk:geo:-74.566192,39.2770244
END:VEVENT
BEGIN:VEVENT
DTSTART;TZID=America/New_York:20260821T080000
DTEND;TZID=America/New_York:20260821T090000
DTSTAMP:20260421T015008
CREATED:20251030T191059Z
LAST-MODIFIED:20260213T153127Z
UID:10001653-1787299200-1787302800@oceancityvacation.com
SUMMARY:Beach Exercise (Low Impact)
DESCRIPTION:Beach Exercise (Low Impact) on 6th Street Beach Volleyball Courts.  8:00 a.m. to 9:00 a.m. Free! Bring a towel & a friend.  Hosted by the Ocean City Aquatic & Fitness Center.  For more information call (609) 398-6900.
URL:https://oceancityvacation.com/events-calendar/beach-exercise-low-impact-4/2026-08-21/
LOCATION:6th St. and the Boardwalk\, 600 Boardwalk\, Ocean City\, NJ\, 08226\, United States
CATEGORIES:Events Calendar
ATTACH;FMTTYPE=image/png:https://oceancityvacation.com/wp-content/uploads/2025/10/Untitled-design-30.png
ORGANIZER;CN="Ocean City Aquatic & Fitness Center":MAILTO:anf@ocnj.us
GEO:39.2770244;-74.566192
X-APPLE-STRUCTURED-LOCATION;VALUE=URI;X-ADDRESS=6th St. and the Boardwalk 600 Boardwalk Ocean City NJ 08226 United States;X-APPLE-RADIUS=500;X-TITLE=600 Boardwalk:geo:-74.566192,39.2770244
END:VEVENT
BEGIN:VEVENT
DTSTART;TZID=America/New_York:20260828T080000
DTEND;TZID=America/New_York:20260828T090000
DTSTAMP:20260421T015008
CREATED:20251030T191059Z
LAST-MODIFIED:20260213T153127Z
UID:10001654-1787904000-1787907600@oceancityvacation.com
SUMMARY:Beach Exercise (Low Impact)
DESCRIPTION:Beach Exercise (Low Impact) on 6th Street Beach Volleyball Courts.  8:00 a.m. to 9:00 a.m. Free! Bring a towel & a friend.  Hosted by the Ocean City Aquatic & Fitness Center.  For more information call (609) 398-6900.
URL:https://oceancityvacation.com/events-calendar/beach-exercise-low-impact-4/2026-08-28/
LOCATION:6th St. and the Boardwalk\, 600 Boardwalk\, Ocean City\, NJ\, 08226\, United States
CATEGORIES:Events Calendar
ATTACH;FMTTYPE=image/png:https://oceancityvacation.com/wp-content/uploads/2025/10/Untitled-design-30.png
ORGANIZER;CN="Ocean City Aquatic & Fitness Center":MAILTO:anf@ocnj.us
GEO:39.2770244;-74.566192
X-APPLE-STRUCTURED-LOCATION;VALUE=URI;X-ADDRESS=6th St. and the Boardwalk 600 Boardwalk Ocean City NJ 08226 United States;X-APPLE-RADIUS=500;X-TITLE=600 Boardwalk:geo:-74.566192,39.2770244
END:VEVENT
BEGIN:VEVENT
DTSTART;TZID=America/New_York:20260703T080000
DTEND;TZID=America/New_York:20260703T090000
DTSTAMP:20260421T015008
CREATED:20251030T191059Z
LAST-MODIFIED:20260213T153127Z
UID:10001646-1783065600-1783069200@oceancityvacation.com
SUMMARY:Beach Exercise (Low Impact)
DESCRIPTION:Beach Exercise (Low Impact) on 6th Street Beach Volleyball Courts.  8:00 a.m. to 9:00 a.m. Free! Bring a towel & a friend.  Hosted by the Ocean City Aquatic & Fitness Center.  For more information call (609) 398-6900.
URL:https://oceancityvacation.com/events-calendar/beach-exercise-low-impact-4/2026-07-03/
LOCATION:6th St. and the Boardwalk\, 600 Boardwalk\, Ocean City\, NJ\, 08226\, United States
CATEGORIES:Events Calendar
ATTACH;FMTTYPE=image/png:https://oceancityvacation.com/wp-content/uploads/2025/10/Untitled-design-30.png
ORGANIZER;CN="Ocean City Aquatic & Fitness Center":MAILTO:anf@ocnj.us
GEO:39.2770244;-74.566192
X-APPLE-STRUCTURED-LOCATION;VALUE=URI;X-ADDRESS=6th St. and the Boardwalk 600 Boardwalk Ocean City NJ 08226 United States;X-APPLE-RADIUS=500;X-TITLE=600 Boardwalk:geo:-74.566192,39.2770244
END:VEVENT
BEGIN:VEVENT
DTSTART;TZID=America/New_York:20260710T080000
DTEND;TZID=America/New_York:20260710T090000
DTSTAMP:20260421T015008
CREATED:20251030T191059Z
LAST-MODIFIED:20260213T153127Z
UID:10001647-1783670400-1783674000@oceancityvacation.com
SUMMARY:Beach Exercise (Low Impact)
DESCRIPTION:Beach Exercise (Low Impact) on 6th Street Beach Volleyball Courts.  8:00 a.m. to 9:00 a.m. Free! Bring a towel & a friend.  Hosted by the Ocean City Aquatic & Fitness Center.  For more information call (609) 398-6900.
URL:https://oceancityvacation.com/events-calendar/beach-exercise-low-impact-4/2026-07-10/
LOCATION:6th St. and the Boardwalk\, 600 Boardwalk\, Ocean City\, NJ\, 08226\, United States
CATEGORIES:Events Calendar
ATTACH;FMTTYPE=image/png:https://oceancityvacation.com/wp-content/uploads/2025/10/Untitled-design-30.png
ORGANIZER;CN="Ocean City Aquatic & Fitness Center":MAILTO:anf@ocnj.us
GEO:39.2770244;-74.566192
X-APPLE-STRUCTURED-LOCATION;VALUE=URI;X-ADDRESS=6th St. and the Boardwalk 600 Boardwalk Ocean City NJ 08226 United States;X-APPLE-RADIUS=500;X-TITLE=600 Boardwalk:geo:-74.566192,39.2770244
END:VEVENT
BEGIN:VEVENT
DTSTART;TZID=America/New_York:20260717T080000
DTEND;TZID=America/New_York:20260717T090000
DTSTAMP:20260421T015008
CREATED:20251030T191059Z
LAST-MODIFIED:20260213T153127Z
UID:10001648-1784275200-1784278800@oceancityvacation.com
SUMMARY:Beach Exercise (Low Impact)
DESCRIPTION:Beach Exercise (Low Impact) on 6th Street Beach Volleyball Courts.  8:00 a.m. to 9:00 a.m. Free! Bring a towel & a friend.  Hosted by the Ocean City Aquatic & Fitness Center.  For more information call (609) 398-6900.
URL:https://oceancityvacation.com/events-calendar/beach-exercise-low-impact-4/2026-07-17/
LOCATION:6th St. and the Boardwalk\, 600 Boardwalk\, Ocean City\, NJ\, 08226\, United States
CATEGORIES:Events Calendar
ATTACH;FMTTYPE=image/png:https://oceancityvacation.com/wp-content/uploads/2025/10/Untitled-design-30.png
ORGANIZER;CN="Ocean City Aquatic & Fitness Center":MAILTO:anf@ocnj.us
GEO:39.2770244;-74.566192
X-APPLE-STRUCTURED-LOCATION;VALUE=URI;X-ADDRESS=6th St. and the Boardwalk 600 Boardwalk Ocean City NJ 08226 United States;X-APPLE-RADIUS=500;X-TITLE=600 Boardwalk:geo:-74.566192,39.2770244
END:VEVENT
BEGIN:VEVENT
DTSTART;TZID=America/New_York:20260724T080000
DTEND;TZID=America/New_York:20260724T090000
DTSTAMP:20260421T015008
CREATED:20251030T191059Z
LAST-MODIFIED:20260213T153127Z
UID:10001649-1784880000-1784883600@oceancityvacation.com
SUMMARY:Beach Exercise (Low Impact)
DESCRIPTION:Beach Exercise (Low Impact) on 6th Street Beach Volleyball Courts.  8:00 a.m. to 9:00 a.m. Free! Bring a towel & a friend.  Hosted by the Ocean City Aquatic & Fitness Center.  For more information call (609) 398-6900.
URL:https://oceancityvacation.com/events-calendar/beach-exercise-low-impact-4/2026-07-24/
LOCATION:6th St. and the Boardwalk\, 600 Boardwalk\, Ocean City\, NJ\, 08226\, United States
CATEGORIES:Events Calendar
ATTACH;FMTTYPE=image/png:https://oceancityvacation.com/wp-content/uploads/2025/10/Untitled-design-30.png
ORGANIZER;CN="Ocean City Aquatic & Fitness Center":MAILTO:anf@ocnj.us
GEO:39.2770244;-74.566192
X-APPLE-STRUCTURED-LOCATION;VALUE=URI;X-ADDRESS=6th St. and the Boardwalk 600 Boardwalk Ocean City NJ 08226 United States;X-APPLE-RADIUS=500;X-TITLE=600 Boardwalk:geo:-74.566192,39.2770244
END:VEVENT
BEGIN:VEVENT
DTSTART;TZID=America/New_York:20260731T080000
DTEND;TZID=America/New_York:20260731T090000
DTSTAMP:20260421T015008
CREATED:20251030T191059Z
LAST-MODIFIED:20260213T153127Z
UID:10001650-1785484800-1785488400@oceancityvacation.com
SUMMARY:Beach Exercise (Low Impact)
DESCRIPTION:Beach Exercise (Low Impact) on 6th Street Beach Volleyball Courts.  8:00 a.m. to 9:00 a.m. Free! Bring a towel & a friend.  Hosted by the Ocean City Aquatic & Fitness Center.  For more information call (609) 398-6900.
URL:https://oceancityvacation.com/events-calendar/beach-exercise-low-impact-4/2026-07-31/
LOCATION:6th St. and the Boardwalk\, 600 Boardwalk\, Ocean City\, NJ\, 08226\, United States
CATEGORIES:Events Calendar
ATTACH;FMTTYPE=image/png:https://oceancityvacation.com/wp-content/uploads/2025/10/Untitled-design-30.png
ORGANIZER;CN="Ocean City Aquatic & Fitness Center":MAILTO:anf@ocnj.us
GEO:39.2770244;-74.566192
X-APPLE-STRUCTURED-LOCATION;VALUE=URI;X-ADDRESS=6th St. and the Boardwalk 600 Boardwalk Ocean City NJ 08226 United States;X-APPLE-RADIUS=500;X-TITLE=600 Boardwalk:geo:-74.566192,39.2770244
END:VEVENT
BEGIN:VEVENT
DTSTART;TZID=America/New_York:20260807T080000
DTEND;TZID=America/New_York:20260807T090000
DTSTAMP:20260421T015008
CREATED:20251030T191059Z
LAST-MODIFIED:20260213T153127Z
UID:10001651-1786089600-1786093200@oceancityvacation.com
SUMMARY:Beach Exercise (Low Impact)
DESCRIPTION:Beach Exercise (Low Impact) on 6th Street Beach Volleyball Courts.  8:00 a.m. to 9:00 a.m. Free! Bring a towel & a friend.  Hosted by the Ocean City Aquatic & Fitness Center.  For more information call (609) 398-6900.
URL:https://oceancityvacation.com/events-calendar/beach-exercise-low-impact-4/2026-08-07/
LOCATION:6th St. and the Boardwalk\, 600 Boardwalk\, Ocean City\, NJ\, 08226\, United States
CATEGORIES:Events Calendar
ATTACH;FMTTYPE=image/png:https://oceancityvacation.com/wp-content/uploads/2025/10/Untitled-design-30.png
ORGANIZER;CN="Ocean City Aquatic & Fitness Center":MAILTO:anf@ocnj.us
GEO:39.2770244;-74.566192
X-APPLE-STRUCTURED-LOCATION;VALUE=URI;X-ADDRESS=6th St. and the Boardwalk 600 Boardwalk Ocean City NJ 08226 United States;X-APPLE-RADIUS=500;X-TITLE=600 Boardwalk:geo:-74.566192,39.2770244
END:VEVENT
BEGIN:VEVENT
DTSTART;TZID=America/New_York:20260814T080000
DTEND;TZID=America/New_York:20260814T090000
DTSTAMP:20260421T015008
CREATED:20251030T191059Z
LAST-MODIFIED:20260213T153127Z
UID:10001652-1786694400-1786698000@oceancityvacation.com
SUMMARY:Beach Exercise (Low Impact)
DESCRIPTION:Beach Exercise (Low Impact) on 6th Street Beach Volleyball Courts.  8:00 a.m. to 9:00 a.m. Free! Bring a towel & a friend.  Hosted by the Ocean City Aquatic & Fitness Center.  For more information call (609) 398-6900.
URL:https://oceancityvacation.com/events-calendar/beach-exercise-low-impact-4/2026-08-14/
LOCATION:6th St. and the Boardwalk\, 600 Boardwalk\, Ocean City\, NJ\, 08226\, United States
CATEGORIES:Events Calendar
ATTACH;FMTTYPE=image/png:https://oceancityvacation.com/wp-content/uploads/2025/10/Untitled-design-30.png
ORGANIZER;CN="Ocean City Aquatic & Fitness Center":MAILTO:anf@ocnj.us
GEO:39.2770244;-74.566192
X-APPLE-STRUCTURED-LOCATION;VALUE=URI;X-ADDRESS=6th St. and the Boardwalk 600 Boardwalk Ocean City NJ 08226 United States;X-APPLE-RADIUS=500;X-TITLE=600 Boardwalk:geo:-74.566192,39.2770244
END:VEVENT
END:VCALENDAR