BEGIN:VCALENDAR
VERSION:2.0
PRODID:-//Ocean City NJ - ECPv6.15.14//NONSGML v1.0//EN
CALSCALE:GREGORIAN
METHOD:PUBLISH
X-ORIGINAL-URL:https://oceancityvacation.com
X-WR-CALDESC:Events for Ocean City NJ
REFRESH-INTERVAL;VALUE=DURATION:PT1H
X-Robots-Tag:noindex
X-PUBLISHED-TTL:PT1H
BEGIN:VTIMEZONE
TZID:America/New_York
BEGIN:DAYLIGHT
TZOFFSETFROM:-0500
TZOFFSETTO:-0400
TZNAME:EDT
DTSTART:20240310T070000
END:DAYLIGHT
BEGIN:STANDARD
TZOFFSETFROM:-0400
TZOFFSETTO:-0500
TZNAME:EST
DTSTART:20241103T060000
END:STANDARD
BEGIN:DAYLIGHT
TZOFFSETFROM:-0500
TZOFFSETTO:-0400
TZNAME:EDT
DTSTART:20250309T070000
END:DAYLIGHT
BEGIN:STANDARD
TZOFFSETFROM:-0400
TZOFFSETTO:-0500
TZNAME:EST
DTSTART:20251102T060000
END:STANDARD
BEGIN:DAYLIGHT
TZOFFSETFROM:-0500
TZOFFSETTO:-0400
TZNAME:EDT
DTSTART:20260308T070000
END:DAYLIGHT
BEGIN:STANDARD
TZOFFSETFROM:-0400
TZOFFSETTO:-0500
TZNAME:EST
DTSTART:20261101T060000
END:STANDARD
END:VTIMEZONE
BEGIN:VEVENT
DTSTART;TZID=America/New_York:20250723T080000
DTEND;TZID=America/New_York:20250723T090000
DTSTAMP:20260421T015008
CREATED:20241031T153053Z
LAST-MODIFIED:20250318T150037Z
UID:10001151-1753257600-1753261200@oceancityvacation.com
SUMMARY:Beach Exercise (Pilates)
DESCRIPTION:Beach Exercise (Pilates) on 6th Street Beach Volleyball Courts. 8 a.m. to 9 a.m. Free! Bring a towel & a friend.  Hosted by the Ocean City Aquatic & Fitness Center.  For more information call (609) 398-6900.
URL:https://oceancityvacation.com/events-calendar/beach-exercise-pilates-3/2025-07-23/
LOCATION:7th St. Beach\, 700 Boardwalk\, Ocean City\, NJ\, 08226\, United States
CATEGORIES:Events Calendar
ATTACH;FMTTYPE=image/jpeg:https://oceancityvacation.com/wp-content/uploads/2024/10/0705c308-be6b-4971-993a-1c195ca453bf.jpg
ORGANIZER;CN="Ocean City Aquatic & Fitness Center":MAILTO:anf@ocnj.us
GEO:39.2770244;-74.566192
X-APPLE-STRUCTURED-LOCATION;VALUE=URI;X-ADDRESS=7th St. Beach 700 Boardwalk Ocean City NJ 08226 United States;X-APPLE-RADIUS=500;X-TITLE=700 Boardwalk:geo:-74.566192,39.2770244
END:VEVENT
BEGIN:VEVENT
DTSTART;TZID=America/New_York:20250730T080000
DTEND;TZID=America/New_York:20250730T090000
DTSTAMP:20260421T015008
CREATED:20241031T153053Z
LAST-MODIFIED:20250318T150037Z
UID:10001152-1753862400-1753866000@oceancityvacation.com
SUMMARY:Beach Exercise (Pilates)
DESCRIPTION:Beach Exercise (Pilates) on 6th Street Beach Volleyball Courts. 8 a.m. to 9 a.m. Free! Bring a towel & a friend.  Hosted by the Ocean City Aquatic & Fitness Center.  For more information call (609) 398-6900.
URL:https://oceancityvacation.com/events-calendar/beach-exercise-pilates-3/2025-07-30/
LOCATION:7th St. Beach\, 700 Boardwalk\, Ocean City\, NJ\, 08226\, United States
CATEGORIES:Events Calendar
ATTACH;FMTTYPE=image/jpeg:https://oceancityvacation.com/wp-content/uploads/2024/10/0705c308-be6b-4971-993a-1c195ca453bf.jpg
ORGANIZER;CN="Ocean City Aquatic & Fitness Center":MAILTO:anf@ocnj.us
GEO:39.2770244;-74.566192
X-APPLE-STRUCTURED-LOCATION;VALUE=URI;X-ADDRESS=7th St. Beach 700 Boardwalk Ocean City NJ 08226 United States;X-APPLE-RADIUS=500;X-TITLE=700 Boardwalk:geo:-74.566192,39.2770244
END:VEVENT
BEGIN:VEVENT
DTSTART;TZID=America/New_York:20250806T080000
DTEND;TZID=America/New_York:20250806T090000
DTSTAMP:20260421T015008
CREATED:20241031T153053Z
LAST-MODIFIED:20250318T150037Z
UID:10001153-1754467200-1754470800@oceancityvacation.com
SUMMARY:Beach Exercise (Pilates)
DESCRIPTION:Beach Exercise (Pilates) on 6th Street Beach Volleyball Courts. 8 a.m. to 9 a.m. Free! Bring a towel & a friend.  Hosted by the Ocean City Aquatic & Fitness Center.  For more information call (609) 398-6900.
URL:https://oceancityvacation.com/events-calendar/beach-exercise-pilates-3/2025-08-06/
LOCATION:7th St. Beach\, 700 Boardwalk\, Ocean City\, NJ\, 08226\, United States
CATEGORIES:Events Calendar
ATTACH;FMTTYPE=image/jpeg:https://oceancityvacation.com/wp-content/uploads/2024/10/0705c308-be6b-4971-993a-1c195ca453bf.jpg
ORGANIZER;CN="Ocean City Aquatic & Fitness Center":MAILTO:anf@ocnj.us
GEO:39.2770244;-74.566192
X-APPLE-STRUCTURED-LOCATION;VALUE=URI;X-ADDRESS=7th St. Beach 700 Boardwalk Ocean City NJ 08226 United States;X-APPLE-RADIUS=500;X-TITLE=700 Boardwalk:geo:-74.566192,39.2770244
END:VEVENT
BEGIN:VEVENT
DTSTART;TZID=America/New_York:20250813T080000
DTEND;TZID=America/New_York:20250813T090000
DTSTAMP:20260421T015008
CREATED:20241031T153053Z
LAST-MODIFIED:20250318T150037Z
UID:10001154-1755072000-1755075600@oceancityvacation.com
SUMMARY:Beach Exercise (Pilates)
DESCRIPTION:Beach Exercise (Pilates) on 6th Street Beach Volleyball Courts. 8 a.m. to 9 a.m. Free! Bring a towel & a friend.  Hosted by the Ocean City Aquatic & Fitness Center.  For more information call (609) 398-6900.
URL:https://oceancityvacation.com/events-calendar/beach-exercise-pilates-3/2025-08-13/
LOCATION:7th St. Beach\, 700 Boardwalk\, Ocean City\, NJ\, 08226\, United States
CATEGORIES:Events Calendar
ATTACH;FMTTYPE=image/jpeg:https://oceancityvacation.com/wp-content/uploads/2024/10/0705c308-be6b-4971-993a-1c195ca453bf.jpg
ORGANIZER;CN="Ocean City Aquatic & Fitness Center":MAILTO:anf@ocnj.us
GEO:39.2770244;-74.566192
X-APPLE-STRUCTURED-LOCATION;VALUE=URI;X-ADDRESS=7th St. Beach 700 Boardwalk Ocean City NJ 08226 United States;X-APPLE-RADIUS=500;X-TITLE=700 Boardwalk:geo:-74.566192,39.2770244
END:VEVENT
BEGIN:VEVENT
DTSTART;TZID=America/New_York:20250820T080000
DTEND;TZID=America/New_York:20250820T090000
DTSTAMP:20260421T015008
CREATED:20241031T153053Z
LAST-MODIFIED:20250318T150037Z
UID:10001155-1755676800-1755680400@oceancityvacation.com
SUMMARY:Beach Exercise (Pilates)
DESCRIPTION:Beach Exercise (Pilates) on 6th Street Beach Volleyball Courts. 8 a.m. to 9 a.m. Free! Bring a towel & a friend.  Hosted by the Ocean City Aquatic & Fitness Center.  For more information call (609) 398-6900.
URL:https://oceancityvacation.com/events-calendar/beach-exercise-pilates-3/2025-08-20/
LOCATION:7th St. Beach\, 700 Boardwalk\, Ocean City\, NJ\, 08226\, United States
CATEGORIES:Events Calendar
ATTACH;FMTTYPE=image/jpeg:https://oceancityvacation.com/wp-content/uploads/2024/10/0705c308-be6b-4971-993a-1c195ca453bf.jpg
ORGANIZER;CN="Ocean City Aquatic & Fitness Center":MAILTO:anf@ocnj.us
GEO:39.2770244;-74.566192
X-APPLE-STRUCTURED-LOCATION;VALUE=URI;X-ADDRESS=7th St. Beach 700 Boardwalk Ocean City NJ 08226 United States;X-APPLE-RADIUS=500;X-TITLE=700 Boardwalk:geo:-74.566192,39.2770244
END:VEVENT
BEGIN:VEVENT
DTSTART;TZID=America/New_York:20250827T080000
DTEND;TZID=America/New_York:20250827T090000
DTSTAMP:20260421T015008
CREATED:20241031T153053Z
LAST-MODIFIED:20250318T150037Z
UID:10001156-1756281600-1756285200@oceancityvacation.com
SUMMARY:Beach Exercise (Pilates)
DESCRIPTION:Beach Exercise (Pilates) on 6th Street Beach Volleyball Courts. 8 a.m. to 9 a.m. Free! Bring a towel & a friend.  Hosted by the Ocean City Aquatic & Fitness Center.  For more information call (609) 398-6900.
URL:https://oceancityvacation.com/events-calendar/beach-exercise-pilates-3/2025-08-27/
LOCATION:7th St. Beach\, 700 Boardwalk\, Ocean City\, NJ\, 08226\, United States
CATEGORIES:Events Calendar
ATTACH;FMTTYPE=image/jpeg:https://oceancityvacation.com/wp-content/uploads/2024/10/0705c308-be6b-4971-993a-1c195ca453bf.jpg
ORGANIZER;CN="Ocean City Aquatic & Fitness Center":MAILTO:anf@ocnj.us
GEO:39.2770244;-74.566192
X-APPLE-STRUCTURED-LOCATION;VALUE=URI;X-ADDRESS=7th St. Beach 700 Boardwalk Ocean City NJ 08226 United States;X-APPLE-RADIUS=500;X-TITLE=700 Boardwalk:geo:-74.566192,39.2770244
END:VEVENT
BEGIN:VEVENT
DTSTART;TZID=America/New_York:20250702T080000
DTEND;TZID=America/New_York:20250702T090000
DTSTAMP:20260421T015008
CREATED:20241031T153053Z
LAST-MODIFIED:20250318T150037Z
UID:10001148-1751443200-1751446800@oceancityvacation.com
SUMMARY:Beach Exercise (Pilates)
DESCRIPTION:Beach Exercise (Pilates) on 6th Street Beach Volleyball Courts. 8 a.m. to 9 a.m. Free! Bring a towel & a friend.  Hosted by the Ocean City Aquatic & Fitness Center.  For more information call (609) 398-6900.
URL:https://oceancityvacation.com/events-calendar/beach-exercise-pilates-3/2025-07-02/
LOCATION:7th St. Beach\, 700 Boardwalk\, Ocean City\, NJ\, 08226\, United States
CATEGORIES:Events Calendar
ATTACH;FMTTYPE=image/jpeg:https://oceancityvacation.com/wp-content/uploads/2024/10/0705c308-be6b-4971-993a-1c195ca453bf.jpg
ORGANIZER;CN="Ocean City Aquatic & Fitness Center":MAILTO:anf@ocnj.us
GEO:39.2770244;-74.566192
X-APPLE-STRUCTURED-LOCATION;VALUE=URI;X-ADDRESS=7th St. Beach 700 Boardwalk Ocean City NJ 08226 United States;X-APPLE-RADIUS=500;X-TITLE=700 Boardwalk:geo:-74.566192,39.2770244
END:VEVENT
BEGIN:VEVENT
DTSTART;TZID=America/New_York:20250709T080000
DTEND;TZID=America/New_York:20250709T090000
DTSTAMP:20260421T015008
CREATED:20241031T153053Z
LAST-MODIFIED:20250318T150037Z
UID:10001149-1752048000-1752051600@oceancityvacation.com
SUMMARY:Beach Exercise (Pilates)
DESCRIPTION:Beach Exercise (Pilates) on 6th Street Beach Volleyball Courts. 8 a.m. to 9 a.m. Free! Bring a towel & a friend.  Hosted by the Ocean City Aquatic & Fitness Center.  For more information call (609) 398-6900.
URL:https://oceancityvacation.com/events-calendar/beach-exercise-pilates-3/2025-07-09/
LOCATION:7th St. Beach\, 700 Boardwalk\, Ocean City\, NJ\, 08226\, United States
CATEGORIES:Events Calendar
ATTACH;FMTTYPE=image/jpeg:https://oceancityvacation.com/wp-content/uploads/2024/10/0705c308-be6b-4971-993a-1c195ca453bf.jpg
ORGANIZER;CN="Ocean City Aquatic & Fitness Center":MAILTO:anf@ocnj.us
GEO:39.2770244;-74.566192
X-APPLE-STRUCTURED-LOCATION;VALUE=URI;X-ADDRESS=7th St. Beach 700 Boardwalk Ocean City NJ 08226 United States;X-APPLE-RADIUS=500;X-TITLE=700 Boardwalk:geo:-74.566192,39.2770244
END:VEVENT
BEGIN:VEVENT
DTSTART;TZID=America/New_York:20250716T080000
DTEND;TZID=America/New_York:20250716T090000
DTSTAMP:20260421T015008
CREATED:20241031T153053Z
LAST-MODIFIED:20250318T150037Z
UID:10001150-1752652800-1752656400@oceancityvacation.com
SUMMARY:Beach Exercise (Pilates)
DESCRIPTION:Beach Exercise (Pilates) on 6th Street Beach Volleyball Courts. 8 a.m. to 9 a.m. Free! Bring a towel & a friend.  Hosted by the Ocean City Aquatic & Fitness Center.  For more information call (609) 398-6900.
URL:https://oceancityvacation.com/events-calendar/beach-exercise-pilates-3/2025-07-16/
LOCATION:7th St. Beach\, 700 Boardwalk\, Ocean City\, NJ\, 08226\, United States
CATEGORIES:Events Calendar
ATTACH;FMTTYPE=image/jpeg:https://oceancityvacation.com/wp-content/uploads/2024/10/0705c308-be6b-4971-993a-1c195ca453bf.jpg
ORGANIZER;CN="Ocean City Aquatic & Fitness Center":MAILTO:anf@ocnj.us
GEO:39.2770244;-74.566192
X-APPLE-STRUCTURED-LOCATION;VALUE=URI;X-ADDRESS=7th St. Beach 700 Boardwalk Ocean City NJ 08226 United States;X-APPLE-RADIUS=500;X-TITLE=700 Boardwalk:geo:-74.566192,39.2770244
END:VEVENT
BEGIN:VEVENT
DTSTART;TZID=America/New_York:20250707T080000
DTEND;TZID=America/New_York:20250707T090000
DTSTAMP:20260421T015008
CREATED:20241031T144112Z
LAST-MODIFIED:20250318T150108Z
UID:10001046-1751875200-1751878800@oceancityvacation.com
SUMMARY:Beach Exercise (Yoga)
DESCRIPTION:Beach Exercise (Yoga) on 6th Street Beach Volleyball Courts.  8:00 a.m. to 9:00 a.m. Free! Bring a towel & a friend.  Hosted by the Ocean City Aquatic & Fitness Center.  For more information call (609) 398-6900.
URL:https://oceancityvacation.com/events-calendar/beach-exercise-yoga-2/2025-07-07/
LOCATION:7th St. Beach\, 700 Boardwalk\, Ocean City\, NJ\, 08226\, United States
CATEGORIES:Events Calendar
ATTACH;FMTTYPE=image/jpeg:https://oceancityvacation.com/wp-content/uploads/2024/10/0705c308-be6b-4971-993a-1c195ca453bf.jpg
ORGANIZER;CN="Ocean City Aquatic & Fitness Center":MAILTO:anf@ocnj.us
GEO:39.2770244;-74.566192
X-APPLE-STRUCTURED-LOCATION;VALUE=URI;X-ADDRESS=7th St. Beach 700 Boardwalk Ocean City NJ 08226 United States;X-APPLE-RADIUS=500;X-TITLE=700 Boardwalk:geo:-74.566192,39.2770244
END:VEVENT
BEGIN:VEVENT
DTSTART;TZID=America/New_York:20250714T080000
DTEND;TZID=America/New_York:20250714T090000
DTSTAMP:20260421T015008
CREATED:20241031T144112Z
LAST-MODIFIED:20250318T150108Z
UID:10001047-1752480000-1752483600@oceancityvacation.com
SUMMARY:Beach Exercise (Yoga)
DESCRIPTION:Beach Exercise (Yoga) on 6th Street Beach Volleyball Courts.  8:00 a.m. to 9:00 a.m. Free! Bring a towel & a friend.  Hosted by the Ocean City Aquatic & Fitness Center.  For more information call (609) 398-6900.
URL:https://oceancityvacation.com/events-calendar/beach-exercise-yoga-2/2025-07-14/
LOCATION:7th St. Beach\, 700 Boardwalk\, Ocean City\, NJ\, 08226\, United States
CATEGORIES:Events Calendar
ATTACH;FMTTYPE=image/jpeg:https://oceancityvacation.com/wp-content/uploads/2024/10/0705c308-be6b-4971-993a-1c195ca453bf.jpg
ORGANIZER;CN="Ocean City Aquatic & Fitness Center":MAILTO:anf@ocnj.us
GEO:39.2770244;-74.566192
X-APPLE-STRUCTURED-LOCATION;VALUE=URI;X-ADDRESS=7th St. Beach 700 Boardwalk Ocean City NJ 08226 United States;X-APPLE-RADIUS=500;X-TITLE=700 Boardwalk:geo:-74.566192,39.2770244
END:VEVENT
BEGIN:VEVENT
DTSTART;TZID=America/New_York:20250721T080000
DTEND;TZID=America/New_York:20250721T090000
DTSTAMP:20260421T015008
CREATED:20241031T144112Z
LAST-MODIFIED:20250318T150108Z
UID:10001048-1753084800-1753088400@oceancityvacation.com
SUMMARY:Beach Exercise (Yoga)
DESCRIPTION:Beach Exercise (Yoga) on 6th Street Beach Volleyball Courts.  8:00 a.m. to 9:00 a.m. Free! Bring a towel & a friend.  Hosted by the Ocean City Aquatic & Fitness Center.  For more information call (609) 398-6900.
URL:https://oceancityvacation.com/events-calendar/beach-exercise-yoga-2/2025-07-21/
LOCATION:7th St. Beach\, 700 Boardwalk\, Ocean City\, NJ\, 08226\, United States
CATEGORIES:Events Calendar
ATTACH;FMTTYPE=image/jpeg:https://oceancityvacation.com/wp-content/uploads/2024/10/0705c308-be6b-4971-993a-1c195ca453bf.jpg
ORGANIZER;CN="Ocean City Aquatic & Fitness Center":MAILTO:anf@ocnj.us
GEO:39.2770244;-74.566192
X-APPLE-STRUCTURED-LOCATION;VALUE=URI;X-ADDRESS=7th St. Beach 700 Boardwalk Ocean City NJ 08226 United States;X-APPLE-RADIUS=500;X-TITLE=700 Boardwalk:geo:-74.566192,39.2770244
END:VEVENT
BEGIN:VEVENT
DTSTART;TZID=America/New_York:20250728T080000
DTEND;TZID=America/New_York:20250728T090000
DTSTAMP:20260421T015008
CREATED:20241031T144112Z
LAST-MODIFIED:20250318T150108Z
UID:10001049-1753689600-1753693200@oceancityvacation.com
SUMMARY:Beach Exercise (Yoga)
DESCRIPTION:Beach Exercise (Yoga) on 6th Street Beach Volleyball Courts.  8:00 a.m. to 9:00 a.m. Free! Bring a towel & a friend.  Hosted by the Ocean City Aquatic & Fitness Center.  For more information call (609) 398-6900.
URL:https://oceancityvacation.com/events-calendar/beach-exercise-yoga-2/2025-07-28/
LOCATION:7th St. Beach\, 700 Boardwalk\, Ocean City\, NJ\, 08226\, United States
CATEGORIES:Events Calendar
ATTACH;FMTTYPE=image/jpeg:https://oceancityvacation.com/wp-content/uploads/2024/10/0705c308-be6b-4971-993a-1c195ca453bf.jpg
ORGANIZER;CN="Ocean City Aquatic & Fitness Center":MAILTO:anf@ocnj.us
GEO:39.2770244;-74.566192
X-APPLE-STRUCTURED-LOCATION;VALUE=URI;X-ADDRESS=7th St. Beach 700 Boardwalk Ocean City NJ 08226 United States;X-APPLE-RADIUS=500;X-TITLE=700 Boardwalk:geo:-74.566192,39.2770244
END:VEVENT
BEGIN:VEVENT
DTSTART;TZID=America/New_York:20250804T080000
DTEND;TZID=America/New_York:20250804T090000
DTSTAMP:20260421T015008
CREATED:20241031T144112Z
LAST-MODIFIED:20250318T150108Z
UID:10001050-1754294400-1754298000@oceancityvacation.com
SUMMARY:Beach Exercise (Yoga)
DESCRIPTION:Beach Exercise (Yoga) on 6th Street Beach Volleyball Courts.  8:00 a.m. to 9:00 a.m. Free! Bring a towel & a friend.  Hosted by the Ocean City Aquatic & Fitness Center.  For more information call (609) 398-6900.
URL:https://oceancityvacation.com/events-calendar/beach-exercise-yoga-2/2025-08-04/
LOCATION:7th St. Beach\, 700 Boardwalk\, Ocean City\, NJ\, 08226\, United States
CATEGORIES:Events Calendar
ATTACH;FMTTYPE=image/jpeg:https://oceancityvacation.com/wp-content/uploads/2024/10/0705c308-be6b-4971-993a-1c195ca453bf.jpg
ORGANIZER;CN="Ocean City Aquatic & Fitness Center":MAILTO:anf@ocnj.us
GEO:39.2770244;-74.566192
X-APPLE-STRUCTURED-LOCATION;VALUE=URI;X-ADDRESS=7th St. Beach 700 Boardwalk Ocean City NJ 08226 United States;X-APPLE-RADIUS=500;X-TITLE=700 Boardwalk:geo:-74.566192,39.2770244
END:VEVENT
BEGIN:VEVENT
DTSTART;TZID=America/New_York:20250811T080000
DTEND;TZID=America/New_York:20250811T090000
DTSTAMP:20260421T015008
CREATED:20241031T144112Z
LAST-MODIFIED:20250318T150108Z
UID:10001051-1754899200-1754902800@oceancityvacation.com
SUMMARY:Beach Exercise (Yoga)
DESCRIPTION:Beach Exercise (Yoga) on 6th Street Beach Volleyball Courts.  8:00 a.m. to 9:00 a.m. Free! Bring a towel & a friend.  Hosted by the Ocean City Aquatic & Fitness Center.  For more information call (609) 398-6900.
URL:https://oceancityvacation.com/events-calendar/beach-exercise-yoga-2/2025-08-11/
LOCATION:7th St. Beach\, 700 Boardwalk\, Ocean City\, NJ\, 08226\, United States
CATEGORIES:Events Calendar
ATTACH;FMTTYPE=image/jpeg:https://oceancityvacation.com/wp-content/uploads/2024/10/0705c308-be6b-4971-993a-1c195ca453bf.jpg
ORGANIZER;CN="Ocean City Aquatic & Fitness Center":MAILTO:anf@ocnj.us
GEO:39.2770244;-74.566192
X-APPLE-STRUCTURED-LOCATION;VALUE=URI;X-ADDRESS=7th St. Beach 700 Boardwalk Ocean City NJ 08226 United States;X-APPLE-RADIUS=500;X-TITLE=700 Boardwalk:geo:-74.566192,39.2770244
END:VEVENT
BEGIN:VEVENT
DTSTART;TZID=America/New_York:20250818T080000
DTEND;TZID=America/New_York:20250818T090000
DTSTAMP:20260421T015008
CREATED:20241031T144112Z
LAST-MODIFIED:20250318T150108Z
UID:10001052-1755504000-1755507600@oceancityvacation.com
SUMMARY:Beach Exercise (Yoga)
DESCRIPTION:Beach Exercise (Yoga) on 6th Street Beach Volleyball Courts.  8:00 a.m. to 9:00 a.m. Free! Bring a towel & a friend.  Hosted by the Ocean City Aquatic & Fitness Center.  For more information call (609) 398-6900.
URL:https://oceancityvacation.com/events-calendar/beach-exercise-yoga-2/2025-08-18/
LOCATION:7th St. Beach\, 700 Boardwalk\, Ocean City\, NJ\, 08226\, United States
CATEGORIES:Events Calendar
ATTACH;FMTTYPE=image/jpeg:https://oceancityvacation.com/wp-content/uploads/2024/10/0705c308-be6b-4971-993a-1c195ca453bf.jpg
ORGANIZER;CN="Ocean City Aquatic & Fitness Center":MAILTO:anf@ocnj.us
GEO:39.2770244;-74.566192
X-APPLE-STRUCTURED-LOCATION;VALUE=URI;X-ADDRESS=7th St. Beach 700 Boardwalk Ocean City NJ 08226 United States;X-APPLE-RADIUS=500;X-TITLE=700 Boardwalk:geo:-74.566192,39.2770244
END:VEVENT
BEGIN:VEVENT
DTSTART;TZID=America/New_York:20250825T080000
DTEND;TZID=America/New_York:20250825T090000
DTSTAMP:20260421T015008
CREATED:20241031T144112Z
LAST-MODIFIED:20250318T150108Z
UID:10001053-1756108800-1756112400@oceancityvacation.com
SUMMARY:Beach Exercise (Yoga)
DESCRIPTION:Beach Exercise (Yoga) on 6th Street Beach Volleyball Courts.  8:00 a.m. to 9:00 a.m. Free! Bring a towel & a friend.  Hosted by the Ocean City Aquatic & Fitness Center.  For more information call (609) 398-6900.
URL:https://oceancityvacation.com/events-calendar/beach-exercise-yoga-2/2025-08-25/
LOCATION:7th St. Beach\, 700 Boardwalk\, Ocean City\, NJ\, 08226\, United States
CATEGORIES:Events Calendar
ATTACH;FMTTYPE=image/jpeg:https://oceancityvacation.com/wp-content/uploads/2024/10/0705c308-be6b-4971-993a-1c195ca453bf.jpg
ORGANIZER;CN="Ocean City Aquatic & Fitness Center":MAILTO:anf@ocnj.us
GEO:39.2770244;-74.566192
X-APPLE-STRUCTURED-LOCATION;VALUE=URI;X-ADDRESS=7th St. Beach 700 Boardwalk Ocean City NJ 08226 United States;X-APPLE-RADIUS=500;X-TITLE=700 Boardwalk:geo:-74.566192,39.2770244
END:VEVENT
END:VCALENDAR