BEGIN:VCALENDAR
VERSION:2.0
PRODID:-//Ocean City NJ - ECPv6.15.14//NONSGML v1.0//EN
CALSCALE:GREGORIAN
METHOD:PUBLISH
X-ORIGINAL-URL:https://oceancityvacation.com
X-WR-CALDESC:Events for Ocean City NJ
REFRESH-INTERVAL;VALUE=DURATION:PT1H
X-Robots-Tag:noindex
X-PUBLISHED-TTL:PT1H
BEGIN:VTIMEZONE
TZID:America/New_York
BEGIN:DAYLIGHT
TZOFFSETFROM:-0500
TZOFFSETTO:-0400
TZNAME:EDT
DTSTART:20240310T070000
END:DAYLIGHT
BEGIN:STANDARD
TZOFFSETFROM:-0400
TZOFFSETTO:-0500
TZNAME:EST
DTSTART:20241103T060000
END:STANDARD
BEGIN:DAYLIGHT
TZOFFSETFROM:-0500
TZOFFSETTO:-0400
TZNAME:EDT
DTSTART:20250309T070000
END:DAYLIGHT
BEGIN:STANDARD
TZOFFSETFROM:-0400
TZOFFSETTO:-0500
TZNAME:EST
DTSTART:20251102T060000
END:STANDARD
BEGIN:DAYLIGHT
TZOFFSETFROM:-0500
TZOFFSETTO:-0400
TZNAME:EDT
DTSTART:20260308T070000
END:DAYLIGHT
BEGIN:STANDARD
TZOFFSETFROM:-0400
TZOFFSETTO:-0500
TZNAME:EST
DTSTART:20261101T060000
END:STANDARD
END:VTIMEZONE
BEGIN:VEVENT
DTSTART;TZID=America/New_York:20251109T100000
DTEND;TZID=America/New_York:20251109T120000
DTSTAMP:20260420T100624
CREATED:20251027T143023Z
LAST-MODIFIED:20251027T143023Z
UID:10001566-1762682400-1762689600@oceancityvacation.com
SUMMARY:Making Strides Against Breast Cancer of OCNJ
DESCRIPTION:Making Strides Against Breast Cancer of OCNJ Join over 5\,000 walkers for our 18th annual OCNJ Making Strides – a celebration of courage & hope to end breast cancer as we know it\, for everyone. For three decades\, these walks have grown into the nation’s largest & most impactful breast cancer movement – providing a supportive community for breast cancer survivors & metastatic breast cancer thrivers\, caregivers\, and families. Learn more at www.MakingStridesWalk.org/OceanCityNJ.  Starts at 10:00 a.m. at the Civic Center.
URL:https://oceancityvacation.com/events-calendar/making-strides-against-breast-cancer-of-ocnj-3/
LOCATION:Sports & Civic Center\, 6th & Boardwalk\, 804 E. 6th Street\, Ocean City\, NJ\, 08226\, United States
CATEGORIES:Events Calendar
GEO:39.2794501;-74.568899
X-APPLE-STRUCTURED-LOCATION;VALUE=URI;X-ADDRESS=Sports & Civic Center 6th & Boardwalk 804 E. 6th Street Ocean City NJ 08226 United States;X-APPLE-RADIUS=500;X-TITLE=804 E. 6th Street:geo:-74.568899,39.2794501
END:VEVENT
BEGIN:VEVENT
DTSTART;TZID=America/New_York:20251111T110000
DTEND;TZID=America/New_York:20251111T110000
DTSTAMP:20260420T100624
CREATED:20241031T170322Z
LAST-MODIFIED:20241031T170322Z
UID:10001292-1762858800-1762858800@oceancityvacation.com
SUMMARY:Veterans Day Program
DESCRIPTION:Veterans Day Program 11:00 a.m. inside the Tabernacle\, 550 Wesley Avenue.
URL:https://oceancityvacation.com/events-calendar/veterans-day-program-3/
LOCATION:NJ
CATEGORIES:Events Calendar
ATTACH;FMTTYPE=image/jpeg:https://oceancityvacation.com/wp-content/uploads/2023/01/Veterans-Day.jpg
END:VEVENT
BEGIN:VEVENT
DTSTART;TZID=America/New_York:20251113T140000
DTEND;TZID=America/New_York:20251113T180000
DTSTAMP:20260420T100624
CREATED:20251007T185407Z
LAST-MODIFIED:20251007T185407Z
UID:10001563-1763042400-1763056800@oceancityvacation.com
SUMMARY:Community Care Day
DESCRIPTION:Community Care Day Take charge of your health and join the Cape May County Department of Health for Community Care Day at the Sports and Civic Center from 2:00 p.m. to 6:00 p.m. Get to know your numbers by getting your cholesterol\, blood sugar and blood pressure checked. There will be a variety of other health screenings and community organizations. For more information visit www.eventbrite.com/e/community-care-day-tickets-1754892283059 or call (609) 463-6521.
URL:https://oceancityvacation.com/events-calendar/community-care-day/
LOCATION:Sports & Civic Center\, 6th & Boardwalk\, 804 E. 6th Street\, Ocean City\, NJ\, 08226\, United States
CATEGORIES:Events Calendar
ATTACH;FMTTYPE=image/png:https://oceancityvacation.com/wp-content/uploads/2025/10/Screenshot-2025-10-07-145152.png
GEO:39.2794501;-74.568899
X-APPLE-STRUCTURED-LOCATION;VALUE=URI;X-ADDRESS=Sports & Civic Center 6th & Boardwalk 804 E. 6th Street Ocean City NJ 08226 United States;X-APPLE-RADIUS=500;X-TITLE=804 E. 6th Street:geo:-74.568899,39.2794501
END:VEVENT
BEGIN:VEVENT
DTSTART;TZID=America/New_York:20251115T090000
DTEND;TZID=America/New_York:20251115T150000
DTSTAMP:20260420T100624
CREATED:20241031T170448Z
LAST-MODIFIED:20241031T170448Z
UID:10001293-1763197200-1763218800@oceancityvacation.com
SUMMARY:Winterfest by the Sea
DESCRIPTION:Winterfest by the Sea The Chamber of Commerce presents their Fifth Annual Winterfest By The Sea Holiday Shopping Extravaganza.  The event takes place inside the Civic Center.  Craft vendors\, food vendors and strolling Santa will be present.  Shopping hours are 9:00 a.m. to 3:00 p.m.
URL:https://oceancityvacation.com/events-calendar/winterfest-by-the-sea-3/
LOCATION:Sports & Civic Center\, 6th & Boardwalk\, 804 E. 6th Street\, Ocean City\, NJ\, 08226\, United States
CATEGORIES:Chamber Event,Events Calendar
ATTACH;FMTTYPE=image/jpeg:https://oceancityvacation.com/wp-content/uploads/2023/01/OC_Winterfest.jpg
GEO:39.2794501;-74.568899
X-APPLE-STRUCTURED-LOCATION;VALUE=URI;X-ADDRESS=Sports & Civic Center 6th & Boardwalk 804 E. 6th Street Ocean City NJ 08226 United States;X-APPLE-RADIUS=500;X-TITLE=804 E. 6th Street:geo:-74.568899,39.2794501
END:VEVENT
END:VCALENDAR