BEGIN:VCALENDAR
VERSION:2.0
PRODID:-//Ocean City NJ - ECPv6.15.14//NONSGML v1.0//EN
CALSCALE:GREGORIAN
METHOD:PUBLISH
X-ORIGINAL-URL:https://oceancityvacation.com
X-WR-CALDESC:Events for Ocean City NJ
REFRESH-INTERVAL;VALUE=DURATION:PT1H
X-Robots-Tag:noindex
X-PUBLISHED-TTL:PT1H
BEGIN:VTIMEZONE
TZID:America/New_York
BEGIN:DAYLIGHT
TZOFFSETFROM:-0500
TZOFFSETTO:-0400
TZNAME:EDT
DTSTART:20240310T070000
END:DAYLIGHT
BEGIN:STANDARD
TZOFFSETFROM:-0400
TZOFFSETTO:-0500
TZNAME:EST
DTSTART:20241103T060000
END:STANDARD
BEGIN:DAYLIGHT
TZOFFSETFROM:-0500
TZOFFSETTO:-0400
TZNAME:EDT
DTSTART:20250309T070000
END:DAYLIGHT
BEGIN:STANDARD
TZOFFSETFROM:-0400
TZOFFSETTO:-0500
TZNAME:EST
DTSTART:20251102T060000
END:STANDARD
BEGIN:DAYLIGHT
TZOFFSETFROM:-0500
TZOFFSETTO:-0400
TZNAME:EDT
DTSTART:20260308T070000
END:DAYLIGHT
BEGIN:STANDARD
TZOFFSETFROM:-0400
TZOFFSETTO:-0500
TZNAME:EST
DTSTART:20261101T060000
END:STANDARD
END:VTIMEZONE
BEGIN:VEVENT
DTSTART;TZID=America/New_York:20250907T113000
DTEND;TZID=America/New_York:20250907T160000
DTSTAMP:20260420T114147
CREATED:20241031T163817Z
LAST-MODIFIED:20250110T150734Z
UID:10001270-1757244600-1757260800@oceancityvacation.com
SUMMARY:Corvette Show
DESCRIPTION:Corvette Show Over 400 cars exhibited. One of the largest shows of its kind in the East. Models from almost every year Corvettes were manufactured comprise this colorful show. Displayed on the boardwalk from 6th Street – 14th Street\, 11:30 a.m. to 4:00 p.m. For more information call 609-457-0081. Register at boardwalkcorvettesac.com.
URL:https://oceancityvacation.com/events-calendar/corvette-show-4/
LOCATION:Ocean City Boardwalk\, 825 Boardwalk\, Ocean City\, NJ\, 08226\, United States
CATEGORIES:Events Calendar
ATTACH;FMTTYPE=image/jpeg:https://oceancityvacation.com/wp-content/uploads/2023/11/corvette-show.jpg
GEO:39.2751976;-74.5695462
X-APPLE-STRUCTURED-LOCATION;VALUE=URI;X-ADDRESS=Ocean City Boardwalk 825 Boardwalk Ocean City NJ 08226 United States;X-APPLE-RADIUS=500;X-TITLE=825 Boardwalk:geo:-74.5695462,39.2751976
END:VEVENT
BEGIN:VEVENT
DTSTART;TZID=America/New_York:20250911T180000
DTEND;TZID=America/New_York:20250911T190000
DTSTAMP:20260420T114147
CREATED:20241031T163939Z
LAST-MODIFIED:20250911T194821Z
UID:10001271-1757613600-1757617200@oceancityvacation.com
SUMMARY:9/11 Remembrance Ceremony
DESCRIPTION:9/11 Remembrance Ceremony “A Day to Remember” will include music\, prayer and reflections on the memory of lives lost and on the community spirit that was renewed in the wake of the Sept. 11\, 2001\, terrorist attacks on the Pentagon and the World Trade Center. All are encouraged to attend. 6:00 p.m.\, Firehouse Headquarters\, 550 Asbury Avenue.
URL:https://oceancityvacation.com/events-calendar/9-11-remembrance-ceremony-3/
LOCATION:Fire Department Headquaters\, Asbury Avenue\, Ocean City\, NJ\, 08226\, United States
CATEGORIES:Events Calendar
ATTACH;FMTTYPE=image/jpeg:https://oceancityvacation.com/wp-content/uploads/2023/01/9-11-remembrance.jpg
GEO:39.2831595;-74.5714888
X-APPLE-STRUCTURED-LOCATION;VALUE=URI;X-ADDRESS=Fire Department Headquaters Asbury Avenue Ocean City NJ 08226 United States;X-APPLE-RADIUS=500;X-TITLE=Asbury Avenue:geo:-74.5714888,39.2831595
END:VEVENT
BEGIN:VEVENT
DTSTART;TZID=America/New_York:20250913T100000
DTEND;TZID=America/New_York:20250913T150000
DTSTAMP:20260420T114147
CREATED:20241031T164039Z
LAST-MODIFIED:20241031T164039Z
UID:10001272-1757757600-1757775600@oceancityvacation.com
SUMMARY:Ocean City Airport Festival
DESCRIPTION:Ocean City Airport Festival Annual festival at the Municipal Airport\, 26th & Bay Ave. 10:00 a.m. to 3:00 p.m. Features include a ground display of unusual airplanes ranging from World War II Planes to Classics and Warbirds. The event will feature a parachute jump from Team Fastrax.
URL:https://oceancityvacation.com/events-calendar/ocean-city-airport-festival-3/
LOCATION:Ocean City Airport\, 2600 Bay Avenue\, Ocean City\, NJ\, 08226\, United States
CATEGORIES:Events Calendar
ATTACH;FMTTYPE=image/jpeg:https://oceancityvacation.com/wp-content/uploads/2023/01/1.4-air-festival-planes-on-ground-800x533-1.jpg
GEO:39.2635718;-74.6056382
X-APPLE-STRUCTURED-LOCATION;VALUE=URI;X-ADDRESS=Ocean City Airport 2600 Bay Avenue Ocean City NJ 08226 United States;X-APPLE-RADIUS=500;X-TITLE=2600 Bay Avenue:geo:-74.6056382,39.2635718
END:VEVENT
BEGIN:VEVENT
DTSTART;TZID=America/New_York:20250913T193000
DTEND;TZID=America/New_York:20250913T213000
DTSTAMP:20260420T114147
CREATED:20250502T175329Z
LAST-MODIFIED:20250502T175329Z
UID:10001541-1757791800-1757799000@oceancityvacation.com
SUMMARY:Carmina Burana Performed By The Ocean City POPs
DESCRIPTION:Carmina Burana Performed By The Ocean City POPs Once again\, the Ocean City Pops closes its summer season with a bang! Carmina Burana\, which begins and ends with the powerful and famous “O Fortuna”\, is one of the greatest symphonic choral works ever written. Maestro Vince Lee and the Ocean City Pops will join forces with the Rowan University Chorus and the Atlantic City Ballet for this extraordinary\, three-organization collaboration. Don’t miss this incredible evening of powerful music and energetic dance! 7:30 p.m. at the OCHS Bill & Nancy Hughes Performing Arts Center.  Tickets available at oceancityvacation.com/what-to-do/box-office/.
URL:https://oceancityvacation.com/events-calendar/carmina-burana-performed-by-the-ocean-city-pops/
LOCATION:Music Pier\, 825 Boardwalk\, Ocean City\, NJ\, 08226\, United States
CATEGORIES:Events Calendar
ATTACH;FMTTYPE=image/jpeg:https://oceancityvacation.com/wp-content/uploads/2025/05/9-13Carmina.jpg
GEO:39.2751976;-74.5695462
X-APPLE-STRUCTURED-LOCATION;VALUE=URI;X-ADDRESS=Music Pier 825 Boardwalk Ocean City NJ 08226 United States;X-APPLE-RADIUS=500;X-TITLE=825 Boardwalk:geo:-74.5695462,39.2751976
END:VEVENT
BEGIN:VEVENT
DTSTART;TZID=America/New_York:20250913T200000
DTEND;TZID=America/New_York:20250913T213000
DTSTAMP:20260420T114147
CREATED:20241031T164144Z
LAST-MODIFIED:20250912T160936Z
UID:10001273-1757793600-1757799000@oceancityvacation.com
SUMMARY:Parachute Pyrotechnic Show
DESCRIPTION:Parachute Pyrotechnic Show consists of several highly trained and specially licensed Team Fastrax™ demonstrators exiting the aircraft 6\,000 feet above Ocean City’s Beach & Boardwalk. Brilliant white or multi-colored projectile pyrotechnics are then ignited and flown in formation\, creating a dazzling display for spectators on the ground. 8:00 p.m. jump with a landing on the 11th St Beach. Viewable along the entire Boardwalk.
URL:https://oceancityvacation.com/events-calendar/parachute-pyrotechnic-show-3/
LOCATION:Ocean City Boardwalk\, 825 Boardwalk\, Ocean City\, NJ\, 08226\, United States
CATEGORIES:Events Calendar
ATTACH;FMTTYPE=image/jpeg:https://oceancityvacation.com/wp-content/uploads/2023/11/parachuters.jpg
GEO:39.2751976;-74.5695462
X-APPLE-STRUCTURED-LOCATION;VALUE=URI;X-ADDRESS=Ocean City Boardwalk 825 Boardwalk Ocean City NJ 08226 United States;X-APPLE-RADIUS=500;X-TITLE=825 Boardwalk:geo:-74.5695462,39.2751976
END:VEVENT
END:VCALENDAR