BEGIN:VCALENDAR
VERSION:2.0
PRODID:-//Ocean City NJ - ECPv6.15.14//NONSGML v1.0//EN
CALSCALE:GREGORIAN
METHOD:PUBLISH
X-ORIGINAL-URL:https://oceancityvacation.com
X-WR-CALDESC:Events for Ocean City NJ
REFRESH-INTERVAL;VALUE=DURATION:PT1H
X-Robots-Tag:noindex
X-PUBLISHED-TTL:PT1H
BEGIN:VTIMEZONE
TZID:America/New_York
BEGIN:DAYLIGHT
TZOFFSETFROM:-0500
TZOFFSETTO:-0400
TZNAME:EDT
DTSTART:20240310T070000
END:DAYLIGHT
BEGIN:STANDARD
TZOFFSETFROM:-0400
TZOFFSETTO:-0500
TZNAME:EST
DTSTART:20241103T060000
END:STANDARD
BEGIN:DAYLIGHT
TZOFFSETFROM:-0500
TZOFFSETTO:-0400
TZNAME:EDT
DTSTART:20250309T070000
END:DAYLIGHT
BEGIN:STANDARD
TZOFFSETFROM:-0400
TZOFFSETTO:-0500
TZNAME:EST
DTSTART:20251102T060000
END:STANDARD
BEGIN:DAYLIGHT
TZOFFSETFROM:-0500
TZOFFSETTO:-0400
TZNAME:EDT
DTSTART:20260308T070000
END:DAYLIGHT
BEGIN:STANDARD
TZOFFSETFROM:-0400
TZOFFSETTO:-0500
TZNAME:EST
DTSTART:20261101T060000
END:STANDARD
END:VTIMEZONE
BEGIN:VEVENT
DTSTART;TZID=America/New_York:20250622T193000
DTEND;TZID=America/New_York:20250622T213000
DTSTAMP:20260420T114143
CREATED:20250326T153359Z
LAST-MODIFIED:20250326T153359Z
UID:10001456-1750620600-1750627800@oceancityvacation.com
SUMMARY:Brian Stokes Mitchell Performing With The Ocean City Pops
DESCRIPTION: Two-time Tony Award winner Brian Stokes Mitchell will be featured in the opening concert of the 2025 Ocean City Pops summer season.  Dubbed “the last leading man” by the New York Times\, Mitchell has enjoyed a career that spans Broadway\, television\, film\, and concert appearances with the country’s finest conductors and orchestras. He received Tony\, Drama Desk\, and Outer Critics Circle awards for his star turn in “Kiss Me\, Kate.” He also gave Tony-nominated performances in “Man of La Mancha\,” August Wilson’s “King Hedley II\,” and “Ragtime.” In 2016\, he was awarded his second Tony Award\, the prestigious Isabelle Stevenson Tony\, for his charitable work with The Actors Fund. That same year\, Stokes was inducted into the Theater Hall of Fame.  7:30 p.m. at the Music Pier.  Tickets available at oceancityvacation.com/what-to-do/box-office/.
URL:https://oceancityvacation.com/events-calendar/brian-stokes-mitchell-performing-with-the-ocean-city-pops/
LOCATION:Music Pier\, 825 Boardwalk\, Ocean City\, NJ\, 08226\, United States
CATEGORIES:Events Calendar
ATTACH;FMTTYPE=image/jpeg:https://oceancityvacation.com/wp-content/uploads/2025/03/BrianStokesMitchell-scaled.jpg
GEO:39.2751976;-74.5695462
X-APPLE-STRUCTURED-LOCATION;VALUE=URI;X-ADDRESS=Music Pier 825 Boardwalk Ocean City NJ 08226 United States;X-APPLE-RADIUS=500;X-TITLE=825 Boardwalk:geo:-74.5695462,39.2751976
END:VEVENT
BEGIN:VEVENT
DTSTART;TZID=America/New_York:20250623T180000
DTEND;TZID=America/New_York:20250623T200000
DTSTAMP:20260420T114143
CREATED:20250313T160008Z
LAST-MODIFIED:20250425T154434Z
UID:10001421-1750701600-1750708800@oceancityvacation.com
SUMMARY:The Beach Boys
DESCRIPTION:The concerts begin at 6:00 p.m. and 8:30 p.m. at the Ocean City Music Pier. Tickets available at etix.com. Produced by BRE Presents.
URL:https://oceancityvacation.com/events-calendar/the-beach-boys-2/2025-06-23/1/
LOCATION:Music Pier\, 825 Boardwalk\, Ocean City\, NJ\, 08226\, United States
CATEGORIES:Events Calendar
ATTACH;FMTTYPE=image/jpeg:https://oceancityvacation.com/wp-content/uploads/2025/03/beach-boys.jpg
GEO:39.2751976;-74.5695462
X-APPLE-STRUCTURED-LOCATION;VALUE=URI;X-ADDRESS=Music Pier 825 Boardwalk Ocean City NJ 08226 United States;X-APPLE-RADIUS=500;X-TITLE=825 Boardwalk:geo:-74.5695462,39.2751976
END:VEVENT
BEGIN:VEVENT
DTSTART;TZID=America/New_York:20250623T203000
DTEND;TZID=America/New_York:20250623T213000
DTSTAMP:20260420T114143
CREATED:20250313T160008Z
LAST-MODIFIED:20250425T154434Z
UID:10001422-1750710600-1750714200@oceancityvacation.com
SUMMARY:The Beach Boys
DESCRIPTION:The concerts begin at 6:00 p.m. and 8:30 p.m. at the Ocean City Music Pier. Tickets available at etix.com. Produced by BRE Presents.
URL:https://oceancityvacation.com/events-calendar/the-beach-boys-2/2025-06-23/2/
LOCATION:Music Pier\, 825 Boardwalk\, Ocean City\, NJ\, 08226\, United States
CATEGORIES:Events Calendar
ATTACH;FMTTYPE=image/jpeg:https://oceancityvacation.com/wp-content/uploads/2025/03/beach-boys.jpg
GEO:39.2751976;-74.5695462
X-APPLE-STRUCTURED-LOCATION;VALUE=URI;X-ADDRESS=Music Pier 825 Boardwalk Ocean City NJ 08226 United States;X-APPLE-RADIUS=500;X-TITLE=825 Boardwalk:geo:-74.5695462,39.2751976
END:VEVENT
BEGIN:VEVENT
DTSTART;TZID=America/New_York:20250624T180000
DTEND;TZID=America/New_York:20250624T200000
DTSTAMP:20260420T114143
CREATED:20250313T160008Z
LAST-MODIFIED:20250425T154434Z
UID:10001423-1750788000-1750795200@oceancityvacation.com
SUMMARY:The Beach Boys
DESCRIPTION:The concerts begin at 6:00 p.m. and 8:30 p.m. at the Ocean City Music Pier. Tickets available at etix.com. Produced by BRE Presents.
URL:https://oceancityvacation.com/events-calendar/the-beach-boys-2/2025-06-24/1/
LOCATION:Music Pier\, 825 Boardwalk\, Ocean City\, NJ\, 08226\, United States
CATEGORIES:Events Calendar
ATTACH;FMTTYPE=image/jpeg:https://oceancityvacation.com/wp-content/uploads/2025/03/beach-boys.jpg
GEO:39.2751976;-74.5695462
X-APPLE-STRUCTURED-LOCATION;VALUE=URI;X-ADDRESS=Music Pier 825 Boardwalk Ocean City NJ 08226 United States;X-APPLE-RADIUS=500;X-TITLE=825 Boardwalk:geo:-74.5695462,39.2751976
END:VEVENT
BEGIN:VEVENT
DTSTART;TZID=America/New_York:20250624T203000
DTEND;TZID=America/New_York:20250624T213000
DTSTAMP:20260420T114143
CREATED:20250313T160008Z
LAST-MODIFIED:20250425T154434Z
UID:10001424-1750797000-1750800600@oceancityvacation.com
SUMMARY:The Beach Boys
DESCRIPTION:The concerts begin at 6:00 p.m. and 8:30 p.m. at the Ocean City Music Pier. Tickets available at etix.com. Produced by BRE Presents.
URL:https://oceancityvacation.com/events-calendar/the-beach-boys-2/2025-06-24/2/
LOCATION:Music Pier\, 825 Boardwalk\, Ocean City\, NJ\, 08226\, United States
CATEGORIES:Events Calendar
ATTACH;FMTTYPE=image/jpeg:https://oceancityvacation.com/wp-content/uploads/2025/03/beach-boys.jpg
GEO:39.2751976;-74.5695462
X-APPLE-STRUCTURED-LOCATION;VALUE=URI;X-ADDRESS=Music Pier 825 Boardwalk Ocean City NJ 08226 United States;X-APPLE-RADIUS=500;X-TITLE=825 Boardwalk:geo:-74.5695462,39.2751976
END:VEVENT
BEGIN:VEVENT
DTSTART;TZID=America/New_York:20250625T080000
DTEND;TZID=America/New_York:20250625T120000
DTSTAMP:20260420T114143
CREATED:20241031T142558Z
LAST-MODIFIED:20241101T135114Z
UID:10001019-1750838400-1750852800@oceancityvacation.com
SUMMARY:Farmers Market
DESCRIPTION: Tabernacle Grounds 8 a.m. to 12 p.m. Crafters in the street at 6th & Asbury Ave.
URL:https://oceancityvacation.com/events-calendar/farmers-market-4/2025-06-25/
LOCATION:Ocean City Tabernacle\, 6th & Asbury Ave.\, Ocean City\, NJ
CATEGORIES:Chamber Event,Events Calendar
ATTACH;FMTTYPE=image/jpeg:https://oceancityvacation.com/wp-content/uploads/2023/01/1.4-farmers-market-daily-scaled.jpg
ORGANIZER;CN="Ocean City Regional Chamber of Commerce":MAILTO:info@oceancityvacation.com
GEO:39.256744;-74.605108
X-APPLE-STRUCTURED-LOCATION;VALUE=URI;X-ADDRESS=Ocean City Tabernacle 6th & Asbury Ave. Ocean City NJ;X-APPLE-RADIUS=500;X-TITLE=6th & Asbury Ave.:geo:-74.605108,39.256744
END:VEVENT
END:VCALENDAR