BEGIN:VCALENDAR
VERSION:2.0
PRODID:-//Ocean City NJ - ECPv6.15.14//NONSGML v1.0//EN
CALSCALE:GREGORIAN
METHOD:PUBLISH
X-ORIGINAL-URL:https://oceancityvacation.com
X-WR-CALDESC:Events for Ocean City NJ
REFRESH-INTERVAL;VALUE=DURATION:PT1H
X-Robots-Tag:noindex
X-PUBLISHED-TTL:PT1H
BEGIN:VTIMEZONE
TZID:America/New_York
BEGIN:DAYLIGHT
TZOFFSETFROM:-0500
TZOFFSETTO:-0400
TZNAME:EDT
DTSTART:20220313T070000
END:DAYLIGHT
BEGIN:STANDARD
TZOFFSETFROM:-0400
TZOFFSETTO:-0500
TZNAME:EST
DTSTART:20221106T060000
END:STANDARD
BEGIN:DAYLIGHT
TZOFFSETFROM:-0500
TZOFFSETTO:-0400
TZNAME:EDT
DTSTART:20230312T070000
END:DAYLIGHT
BEGIN:STANDARD
TZOFFSETFROM:-0400
TZOFFSETTO:-0500
TZNAME:EST
DTSTART:20231105T060000
END:STANDARD
BEGIN:DAYLIGHT
TZOFFSETFROM:-0500
TZOFFSETTO:-0400
TZNAME:EDT
DTSTART:20240310T070000
END:DAYLIGHT
BEGIN:STANDARD
TZOFFSETFROM:-0400
TZOFFSETTO:-0500
TZNAME:EST
DTSTART:20241103T060000
END:STANDARD
END:VTIMEZONE
BEGIN:VEVENT
DTSTART;TZID=America/New_York:20230116T090000
DTEND;TZID=America/New_York:20230116T120000
DTSTAMP:20260422T185240
CREATED:20230129T155340Z
LAST-MODIFIED:20231213T142530Z
UID:10000050-1673859600-1673870400@oceancityvacation.com
SUMMARY:MLK National Day of Service
DESCRIPTION:MLK National Day of Service Volunteers are invited to join others nationwide to honor Dr. King’s contributions. In Ocean City\, citizens are asked to participate in a citywide cleanup from 9 a.m. to noon. Sign-up and supply distribution will take place at the Howard S. Stainton Senior Center.
URL:https://oceancityvacation.com/events-calendar/mlk-national-day-of-service/
LOCATION:NJ
CATEGORIES:Events Calendar
END:VEVENT
BEGIN:VEVENT
DTSTART;TZID=America/New_York:20230116T120000
DTEND;TZID=America/New_York:20230116T140000
DTSTAMP:20260422T185240
CREATED:20230129T155340Z
LAST-MODIFIED:20231213T142530Z
UID:10000051-1673870400-1673877600@oceancityvacation.com
SUMMARY:Martin Luther King Jr Ceremony and Soul Food Lunch
DESCRIPTION:Martin Luther King Jr Ceremony and Soul Food Lunch Noon at the Music Pier. This event will bring the community together to remember Dr. King through words\, song and dance. The event will include community resources and a soul food lunch.
URL:https://oceancityvacation.com/events-calendar/martin-luther-king-jr-ceremony-and-soul-food-lunch/
LOCATION:NJ
CATEGORIES:Events Calendar
END:VEVENT
END:VCALENDAR