BEGIN:VCALENDAR
VERSION:2.0
PRODID:-//Ocean City NJ - ECPv6.15.14//NONSGML v1.0//EN
CALSCALE:GREGORIAN
METHOD:PUBLISH
X-WR-CALNAME:Ocean City NJ
X-ORIGINAL-URL:https://oceancityvacation.com
X-WR-CALDESC:Events for Ocean City NJ
REFRESH-INTERVAL;VALUE=DURATION:PT1H
X-Robots-Tag:noindex
X-PUBLISHED-TTL:PT1H
BEGIN:VTIMEZONE
TZID:America/New_York
BEGIN:DAYLIGHT
TZOFFSETFROM:-0500
TZOFFSETTO:-0400
TZNAME:EDT
DTSTART:20220313T070000
END:DAYLIGHT
BEGIN:STANDARD
TZOFFSETFROM:-0400
TZOFFSETTO:-0500
TZNAME:EST
DTSTART:20221106T060000
END:STANDARD
BEGIN:DAYLIGHT
TZOFFSETFROM:-0500
TZOFFSETTO:-0400
TZNAME:EDT
DTSTART:20230312T070000
END:DAYLIGHT
BEGIN:STANDARD
TZOFFSETFROM:-0400
TZOFFSETTO:-0500
TZNAME:EST
DTSTART:20231105T060000
END:STANDARD
BEGIN:DAYLIGHT
TZOFFSETFROM:-0500
TZOFFSETTO:-0400
TZNAME:EDT
DTSTART:20240310T070000
END:DAYLIGHT
BEGIN:STANDARD
TZOFFSETFROM:-0400
TZOFFSETTO:-0500
TZNAME:EST
DTSTART:20241103T060000
END:STANDARD
END:VTIMEZONE
BEGIN:VEVENT
DTSTART;TZID=America/New_York:20230401T130000
DTEND;TZID=America/New_York:20230401T150000
DTSTAMP:20260422T073727
CREATED:20230129T155340Z
LAST-MODIFIED:20251125T152028Z
UID:10000056-1680354000-1680361200@oceancityvacation.com
SUMMARY:The Great Egg Hunt
DESCRIPTION:The Great Egg Hunt 1:00 p.m. to 3:00 p.m.  6th to 14th street along the boardwalk\, stop by participating stores\, until supplies lasts.  Rain date: April 2nd.   
URL:https://oceancityvacation.com/events-calendar/the-great-egg-hunt-2023-04-01/
LOCATION:Ocean City Boardwalk\, 825 Boardwalk\, Ocean City\, NJ\, 08226\, United States
CATEGORIES:Events Calendar
GEO:39.2751976;-74.5695462
X-APPLE-STRUCTURED-LOCATION;VALUE=URI;X-ADDRESS=Ocean City Boardwalk 825 Boardwalk Ocean City NJ 08226 United States;X-APPLE-RADIUS=500;X-TITLE=825 Boardwalk:geo:-74.5695462,39.2751976
END:VEVENT
BEGIN:VEVENT
DTSTART;TZID=America/New_York:20230408T090000
DTEND;TZID=America/New_York:20230408T120000
DTSTAMP:20260422T073727
CREATED:20230331T125457Z
LAST-MODIFIED:20231213T142526Z
UID:10000244-1680944400-1680955200@oceancityvacation.com
SUMMARY:Easter Bunny at Soifer Park
DESCRIPTION:Come see the Easter Bunny at Soifer Park from 9am-12pm!!
URL:https://oceancityvacation.com/events-calendar/easter-bunny-at-soifer-park/
LOCATION:NJ
CATEGORIES:Events Calendar
END:VEVENT
BEGIN:VEVENT
DTSTART;TZID=America/New_York:20230408T130000
DTEND;TZID=America/New_York:20230408T150000
DTSTAMP:20260422T073727
CREATED:20230129T155340Z
LAST-MODIFIED:20251125T152549Z
UID:10000057-1680958800-1680966000@oceancityvacation.com
SUMMARY:The Great Egg Hunt
DESCRIPTION:The Great Egg Hunt 1:00 p.m. to 3:00 p.m.  6th to 14th street along the boardwalk\, stop by participating stores\, until supplies lasts.  Rain date: April 2nd.   
URL:https://oceancityvacation.com/events-calendar/the-great-egg-hunt-2023-04-08/
LOCATION:Ocean City Boardwalk\, 825 Boardwalk\, Ocean City\, NJ\, 08226\, United States
CATEGORIES:Events Calendar
GEO:39.2751976;-74.5695462
X-APPLE-STRUCTURED-LOCATION;VALUE=URI;X-ADDRESS=Ocean City Boardwalk 825 Boardwalk Ocean City NJ 08226 United States;X-APPLE-RADIUS=500;X-TITLE=825 Boardwalk:geo:-74.5695462,39.2751976
END:VEVENT
BEGIN:VEVENT
DTSTART;TZID=America/New_York:20230409T063000
DTEND;TZID=America/New_York:20230409T063000
DTSTAMP:20260422T073727
CREATED:20230129T155248Z
LAST-MODIFIED:20231213T142525Z
UID:10000058-1681021800-1681021800@oceancityvacation.com
SUMMARY:Easter Sunrise Service
DESCRIPTION:Easter Sunrise Service A traditional non-denominational service by the sea. All are welcome. 6:30 a.m. at the Music Pier.
URL:https://oceancityvacation.com/events-calendar/easter-sunrise-service/
LOCATION:Music Pier\, 825 Boardwalk\, Ocean City\, NJ\, 08226\, United States
CATEGORIES:Events Calendar
GEO:39.2751976;-74.5695462
X-APPLE-STRUCTURED-LOCATION;VALUE=URI;X-ADDRESS=Music Pier 825 Boardwalk Ocean City NJ 08226 United States;X-APPLE-RADIUS=500;X-TITLE=825 Boardwalk:geo:-74.5695462,39.2751976
END:VEVENT
BEGIN:VEVENT
DTSTART;TZID=America/New_York:20230409T120000
DTEND;TZID=America/New_York:20230409T120000
DTSTAMP:20260422T073727
CREATED:20230129T155248Z
LAST-MODIFIED:20231213T142524Z
UID:10000059-1681041600-1681041600@oceancityvacation.com
SUMMARY:Dueling Pianos Show
DESCRIPTION:Dueling Pianos Show in front of the Music Pier. The Philly Keys will be performing their hit dueling pianos show starting at noon. Free fun for the entire family! The Philly Keys will take a break for our annual Easter Fashion Promenade.
URL:https://oceancityvacation.com/events-calendar/dueling-pianos-show/
LOCATION:Music Pier\, 825 Boardwalk\, Ocean City\, NJ\, 08226\, United States
CATEGORIES:Events Calendar
GEO:39.2751976;-74.5695462
X-APPLE-STRUCTURED-LOCATION;VALUE=URI;X-ADDRESS=Music Pier 825 Boardwalk Ocean City NJ 08226 United States;X-APPLE-RADIUS=500;X-TITLE=825 Boardwalk:geo:-74.5695462,39.2751976
END:VEVENT
BEGIN:VEVENT
DTSTART;TZID=America/New_York:20230409T130000
DTEND;TZID=America/New_York:20230409T130000
DTSTAMP:20260422T073727
CREATED:20230129T155248Z
LAST-MODIFIED:20231213T142524Z
UID:10000060-1681045200-1681045200@oceancityvacation.com
SUMMARY:Easter Fashion Stroll
DESCRIPTION:Easter Fashion Stroll in front of the Music Pier. Come dressed in your Easter’s best for our Fashion Stroll and meet the Easter Bunny. Judging begins at 1 p.m. Prizes awarded for Best Dressed Children\, Teen\, Adults and Family.
URL:https://oceancityvacation.com/events-calendar/easter-fashion-stroll/
LOCATION:Music Pier\, 825 Boardwalk\, Ocean City\, NJ\, 08226\, United States
CATEGORIES:Events Calendar
GEO:39.2751976;-74.5695462
X-APPLE-STRUCTURED-LOCATION;VALUE=URI;X-ADDRESS=Music Pier 825 Boardwalk Ocean City NJ 08226 United States;X-APPLE-RADIUS=500;X-TITLE=825 Boardwalk:geo:-74.5695462,39.2751976
END:VEVENT
BEGIN:VEVENT
DTSTART;TZID=America/New_York:20230415T120000
DTEND;TZID=America/New_York:20230415T140000
DTSTAMP:20260422T073727
CREATED:20230129T155340Z
LAST-MODIFIED:20231213T142523Z
UID:10000061-1681560000-1681567200@oceancityvacation.com
SUMMARY:Doo Dah Parade
DESCRIPTION:Doo Dah Parade Welcome in the Spring season with this comedy parade complete with over 300 basset hounds. Noon on Asbury Ave. from 6th Street to 12th Street and then up to the Boardwalk ending at 6th & Boardwalk.
URL:https://oceancityvacation.com/events-calendar/doo-dah-parade/
LOCATION:NJ
CATEGORIES:Events Calendar
END:VEVENT
BEGIN:VEVENT
DTSTART;VALUE=DATE:20230429
DTEND;VALUE=DATE:20230430
DTSTAMP:20260422T073727
CREATED:20230129T155248Z
LAST-MODIFIED:20231213T142522Z
UID:10000062-1682726400-1682812799@oceancityvacation.com
SUMMARY:Sports Memorabilia Show
DESCRIPTION:Sports Memorabilia Show at the Music Pier. Vendors with merchandise and collector’s items representing a variety of sports and teams will be on display and for sale at the show. Admission is free\, and hours will be 10 a.m. to 4 p.m.  Philadelphia Eagles Super Bowl champion Brandon Graham and Philadelphia Phillies World Series champion Chad Durbin will be part of the fifth annual Sports Memorabilia Show and they will greet fans and lead Q&A sessions as part of the event.  Durbin will participate in a free Q&A session at 11:30 a.m.\, and Graham will be featured in a free Q&A session at 1 p.m. Following these sessions\, the sports legends will be available for meet-and-greets. Former Philadelphia Eagles linebacker Ike Reese will make a special appearance at the show from 12:30 p.m. to 2 p.m.  Tickets will go on sale Tuesday\, April 25 for the opportunity to get an autograph and photo. Tickets include an autograph on a photo or item you supply and a selfie photo with the player. For tickets visit www.oceancityvacation.com/what-to-do/box-office/
URL:https://oceancityvacation.com/events-calendar/sports-memorabilia-show/
LOCATION:Music Pier\, 825 Boardwalk\, Ocean City\, NJ\, 08226\, United States
CATEGORIES:Events Calendar
GEO:39.2751976;-74.5695462
X-APPLE-STRUCTURED-LOCATION;VALUE=URI;X-ADDRESS=Music Pier 825 Boardwalk Ocean City NJ 08226 United States;X-APPLE-RADIUS=500;X-TITLE=825 Boardwalk:geo:-74.5695462,39.2751976
END:VEVENT
BEGIN:VEVENT
DTSTART;VALUE=DATE:20230429
DTEND;VALUE=DATE:20230501
DTSTAMP:20260422T073727
CREATED:20230129T155204Z
LAST-MODIFIED:20231213T142522Z
UID:10000063-1682726400-1682899199@oceancityvacation.com
SUMMARY:Boardwalk and Downtown Merchant Table Sales
DESCRIPTION:Boardwalk & Downtown Merchant Table Sales 6th Street – 14th Street on the boardwalk and Asbury Ave.
URL:https://oceancityvacation.com/events-calendar/boardwalk-downtown-merchant-table-sales/2023-04-29/
LOCATION:NJ
CATEGORIES:Events Calendar
ATTACH;FMTTYPE=image/jpeg:https://oceancityvacation.com/wp-content/uploads/2023/01/table-sales.jpg
END:VEVENT
END:VCALENDAR