BEGIN:VCALENDAR
VERSION:2.0
PRODID:-//Ocean City NJ - ECPv6.15.14//NONSGML v1.0//EN
CALSCALE:GREGORIAN
METHOD:PUBLISH
X-WR-CALNAME:Ocean City NJ
X-ORIGINAL-URL:https://oceancityvacation.com
X-WR-CALDESC:Events for Ocean City NJ
REFRESH-INTERVAL;VALUE=DURATION:PT1H
X-Robots-Tag:noindex
X-PUBLISHED-TTL:PT1H
BEGIN:VTIMEZONE
TZID:America/New_York
BEGIN:DAYLIGHT
TZOFFSETFROM:-0500
TZOFFSETTO:-0400
TZNAME:EDT
DTSTART:20210314T070000
END:DAYLIGHT
BEGIN:STANDARD
TZOFFSETFROM:-0400
TZOFFSETTO:-0500
TZNAME:EST
DTSTART:20211107T060000
END:STANDARD
BEGIN:DAYLIGHT
TZOFFSETFROM:-0500
TZOFFSETTO:-0400
TZNAME:EDT
DTSTART:20220313T070000
END:DAYLIGHT
BEGIN:STANDARD
TZOFFSETFROM:-0400
TZOFFSETTO:-0500
TZNAME:EST
DTSTART:20221106T060000
END:STANDARD
BEGIN:DAYLIGHT
TZOFFSETFROM:-0500
TZOFFSETTO:-0400
TZNAME:EDT
DTSTART:20230312T070000
END:DAYLIGHT
BEGIN:STANDARD
TZOFFSETFROM:-0400
TZOFFSETTO:-0500
TZNAME:EST
DTSTART:20231105T060000
END:STANDARD
END:VTIMEZONE
BEGIN:VEVENT
DTSTART;VALUE=DATE:20221005
DTEND;VALUE=DATE:20221006
DTSTAMP:20260422T121246
CREATED:20231213T143818Z
LAST-MODIFIED:20231213T143818Z
UID:10000743-1664928000-1665014399@oceancityvacation.com
SUMMARY:2022 Fall Block Party and Fireworks Set for Saturday
DESCRIPTION:
URL:https://oceancityvacation.com/events-calendar/2022-fall-block-party-and-fireworks-set-for-saturday/
LOCATION:NJ
CATEGORIES:Chamber Event
END:VEVENT
BEGIN:VEVENT
DTSTART;VALUE=DATE:20221019
DTEND;VALUE=DATE:20221020
DTSTAMP:20260422T121246
CREATED:20231213T143749Z
LAST-MODIFIED:20231213T143749Z
UID:10000742-1666137600-1666223999@oceancityvacation.com
SUMMARY:Howl-O-Ween Parade and Dog Day Return to Boardwalk on Saturday
DESCRIPTION:
URL:https://oceancityvacation.com/events-calendar/howl-o-ween-parade-and-dog-day-return-to-boardwalk-on-saturday/
LOCATION:NJ
CATEGORIES:Chamber Event
END:VEVENT
BEGIN:VEVENT
DTSTART;VALUE=DATE:20221021
DTEND;VALUE=DATE:20221022
DTSTAMP:20260422T121246
CREATED:20231213T144025Z
LAST-MODIFIED:20231213T144025Z
UID:10000745-1666310400-1666396799@oceancityvacation.com
SUMMARY:MS City to Shore Ride Set for the Weekend
DESCRIPTION:
URL:https://oceancityvacation.com/events-calendar/ms-city-to-shore-ride-set-for-the-weekend/
LOCATION:NJ
CATEGORIES:Chamber Event
END:VEVENT
BEGIN:VEVENT
DTSTART;TZID=America/New_York:20221023T120000
DTEND;TZID=America/New_York:20221023T170000
DTSTAMP:20260422T121246
CREATED:20230129T155259Z
LAST-MODIFIED:20231213T142633Z
UID:10000045-1666526400-1666544400@oceancityvacation.com
SUMMARY:Ocean City\, NJ Jeep Invasion
DESCRIPTION:CANCELLED:  OCTOBER 1st – Ocean City\, NJ Jeep Invasion Jeeps will be displayed on the boardwalk between 5th Street –14th Street\, noon-5 p.m. For more information visit NJJeepInvasion.com or email njjeepinvasion@gmail.com \nEvent rescheduled for October 23\, 2022
URL:https://oceancityvacation.com/events-calendar/ocean-city-nj-jeep-invasion/
LOCATION:NJ
CATEGORIES:Events Calendar
ATTACH;FMTTYPE=image/webp:https://oceancityvacation.com/wp-content/uploads/2023/01/njja21200_1360702150-1.webp
END:VEVENT
BEGIN:VEVENT
DTSTART;VALUE=DATE:20221026
DTEND;VALUE=DATE:20221027
DTSTAMP:20260422T121246
CREATED:20231213T143704Z
LAST-MODIFIED:20231213T143704Z
UID:10000741-1666742400-1666828799@oceancityvacation.com
SUMMARY:Parade\, Trick-or-Treating and More Halloween Events in Ocean City
DESCRIPTION:
URL:https://oceancityvacation.com/events-calendar/parade-trick-or-treating-and-more-halloween-events-in-ocean-city/
LOCATION:NJ
CATEGORIES:Chamber Event
END:VEVENT
END:VCALENDAR