BEGIN:VCALENDAR
VERSION:2.0
PRODID:-//Ocean City NJ - ECPv6.15.14//NONSGML v1.0//EN
CALSCALE:GREGORIAN
METHOD:PUBLISH
X-ORIGINAL-URL:https://oceancityvacation.com
X-WR-CALDESC:Events for Ocean City NJ
REFRESH-INTERVAL;VALUE=DURATION:PT1H
X-Robots-Tag:noindex
X-PUBLISHED-TTL:PT1H
BEGIN:VTIMEZONE
TZID:America/New_York
BEGIN:DAYLIGHT
TZOFFSETFROM:-0500
TZOFFSETTO:-0400
TZNAME:EDT
DTSTART:20210314T070000
END:DAYLIGHT
BEGIN:STANDARD
TZOFFSETFROM:-0400
TZOFFSETTO:-0500
TZNAME:EST
DTSTART:20211107T060000
END:STANDARD
BEGIN:DAYLIGHT
TZOFFSETFROM:-0500
TZOFFSETTO:-0400
TZNAME:EDT
DTSTART:20220313T070000
END:DAYLIGHT
BEGIN:STANDARD
TZOFFSETFROM:-0400
TZOFFSETTO:-0500
TZNAME:EST
DTSTART:20221106T060000
END:STANDARD
BEGIN:DAYLIGHT
TZOFFSETFROM:-0500
TZOFFSETTO:-0400
TZNAME:EDT
DTSTART:20230312T070000
END:DAYLIGHT
BEGIN:STANDARD
TZOFFSETFROM:-0400
TZOFFSETTO:-0500
TZNAME:EST
DTSTART:20231105T060000
END:STANDARD
END:VTIMEZONE
BEGIN:VEVENT
DTSTART;VALUE=DATE:20220601
DTEND;VALUE=DATE:20220602
DTSTAMP:20260422T185245
CREATED:20231213T145544Z
LAST-MODIFIED:20231213T145544Z
UID:10000761-1654041600-1654127999@oceancityvacation.com
SUMMARY:Ocean City Flower Show Returns to Music Pier
DESCRIPTION:
URL:https://oceancityvacation.com/events-calendar/ocean-city-flower-show-returns-to-music-pier/
LOCATION:NJ
CATEGORIES:Chamber Event
END:VEVENT
BEGIN:VEVENT
DTSTART;TZID=America/New_York:20220605T143000
DTEND;TZID=America/New_York:20220605T143000
DTSTAMP:20260422T185245
CREATED:20230129T155329Z
LAST-MODIFIED:20231213T142721Z
UID:10000325-1654439400-1654439400@oceancityvacation.com
SUMMARY:Skato Remembering Kato
DESCRIPTION:Skato with Kato At the OC Skate Park\, 5th & Asbury Ave. 2:30 p.m. Sponsored by the Humane Society of Ocean City. For more information call 609-398-9500 ext. 4 or visit www.hsocnj.org 
URL:https://oceancityvacation.com/events-calendar/skato-with-kato/
LOCATION:NJ
CATEGORIES:Events Calendar
ATTACH;FMTTYPE=image/jpeg:https://oceancityvacation.com/wp-content/uploads/2023/01/SkatoWithKato2023.jpg
END:VEVENT
BEGIN:VEVENT
DTSTART;VALUE=DATE:20220608
DTEND;VALUE=DATE:20220609
DTSTAMP:20260422T185245
CREATED:20231213T145452Z
LAST-MODIFIED:20231213T145452Z
UID:10000760-1654646400-1654732799@oceancityvacation.com
SUMMARY:Night in Venice to Celebrate 67th Anniversary on July 23
DESCRIPTION:
URL:https://oceancityvacation.com/events-calendar/night-in-venice-to-celebrate-67th-anniversary-on-july-23/
LOCATION:NJ
CATEGORIES:Chamber Event
END:VEVENT
BEGIN:VEVENT
DTSTART;VALUE=DATE:20220615
DTEND;VALUE=DATE:20220616
DTSTAMP:20260422T185245
CREATED:20231213T145405Z
LAST-MODIFIED:20231213T145417Z
UID:10000759-1655251200-1655337599@oceancityvacation.com
SUMMARY:Health & Wellness Expo and Unity Concert Highlight Weekend 6/15/22
DESCRIPTION:
URL:https://oceancityvacation.com/events-calendar/health-wellness-expo-and-unity-concert-highlight-weekend-6-15-22/
LOCATION:NJ
CATEGORIES:Chamber Event
END:VEVENT
BEGIN:VEVENT
DTSTART;VALUE=DATE:20220622
DTEND;VALUE=DATE:20220623
DTSTAMP:20260422T185245
CREATED:20231213T145329Z
LAST-MODIFIED:20231213T145329Z
UID:10000758-1655856000-1655942399@oceancityvacation.com
SUMMARY:Legendary Swing Band to Join Ocean City Pops for Season Opener
DESCRIPTION:
URL:https://oceancityvacation.com/events-calendar/legendary-swing-band-to-join-ocean-city-pops-for-season-opener/
LOCATION:NJ
CATEGORIES:Chamber Event
END:VEVENT
BEGIN:VEVENT
DTSTART;VALUE=DATE:20220629
DTEND;VALUE=DATE:20220630
DTSTAMP:20260422T185245
CREATED:20231213T145258Z
LAST-MODIFIED:20231213T145258Z
UID:10000757-1656460800-1656547199@oceancityvacation.com
SUMMARY:Fourth of July Events in Ocean City 2022
DESCRIPTION:
URL:https://oceancityvacation.com/events-calendar/fourth-of-july-events-in-ocean-city-2022/
LOCATION:NJ
CATEGORIES:Chamber Event
END:VEVENT
END:VCALENDAR