BEGIN:VCALENDAR
VERSION:2.0
PRODID:-//Ocean City NJ - ECPv6.15.14//NONSGML v1.0//EN
CALSCALE:GREGORIAN
METHOD:PUBLISH
X-ORIGINAL-URL:https://oceancityvacation.com
X-WR-CALDESC:Events for Ocean City NJ
REFRESH-INTERVAL;VALUE=DURATION:PT1H
X-Robots-Tag:noindex
X-PUBLISHED-TTL:PT1H
BEGIN:VTIMEZONE
TZID:America/New_York
BEGIN:DAYLIGHT
TZOFFSETFROM:-0500
TZOFFSETTO:-0400
TZNAME:EDT
DTSTART:20210314T070000
END:DAYLIGHT
BEGIN:STANDARD
TZOFFSETFROM:-0400
TZOFFSETTO:-0500
TZNAME:EST
DTSTART:20211107T060000
END:STANDARD
BEGIN:DAYLIGHT
TZOFFSETFROM:-0500
TZOFFSETTO:-0400
TZNAME:EDT
DTSTART:20220313T070000
END:DAYLIGHT
BEGIN:STANDARD
TZOFFSETFROM:-0400
TZOFFSETTO:-0500
TZNAME:EST
DTSTART:20221106T060000
END:STANDARD
BEGIN:DAYLIGHT
TZOFFSETFROM:-0500
TZOFFSETTO:-0400
TZNAME:EDT
DTSTART:20230312T070000
END:DAYLIGHT
BEGIN:STANDARD
TZOFFSETFROM:-0400
TZOFFSETTO:-0500
TZNAME:EST
DTSTART:20231105T060000
END:STANDARD
END:VTIMEZONE
BEGIN:VEVENT
DTSTART;VALUE=DATE:20220302
DTEND;VALUE=DATE:20220303
DTSTAMP:20260422T234250
CREATED:20231213T150943Z
LAST-MODIFIED:20231213T150943Z
UID:10000773-1646179200-1646265599@oceancityvacation.com
SUMMARY:Sports Memorabilia Show to Feature Charlie Manuel and Seth Joyner
DESCRIPTION:
URL:https://oceancityvacation.com/events-calendar/sports-memorabilia-show-to-feature-charlie-manuel-and-seth-joyner/
LOCATION:NJ
CATEGORIES:Chamber Event
END:VEVENT
BEGIN:VEVENT
DTSTART;VALUE=DATE:20220309
DTEND;VALUE=DATE:20220310
DTSTAMP:20260422T234250
CREATED:20231213T150913Z
LAST-MODIFIED:20231213T150913Z
UID:10000772-1646784000-1646870399@oceancityvacation.com
SUMMARY:Ocean City Kicks Off Season With Market Madness
DESCRIPTION:
URL:https://oceancityvacation.com/events-calendar/ocean-city-kicks-off-season-with-market-madness/
LOCATION:NJ
CATEGORIES:Chamber Event
END:VEVENT
BEGIN:VEVENT
DTSTART;VALUE=DATE:20220316
DTEND;VALUE=DATE:20220317
DTSTAMP:20260422T234250
CREATED:20231213T150819Z
LAST-MODIFIED:20231213T150819Z
UID:10000771-1647388800-1647475199@oceancityvacation.com
SUMMARY:Dave Mason and a Girl Named Tom Join 2022 Summer Concert Series at the Music Pier
DESCRIPTION:
URL:https://oceancityvacation.com/events-calendar/dave-mason-and-a-girl-named-tom-join-2022-summer-concert-series-at-the-music-pier/
LOCATION:NJ
CATEGORIES:Chamber Event
END:VEVENT
BEGIN:VEVENT
DTSTART;VALUE=DATE:20220323
DTEND;VALUE=DATE:20220324
DTSTAMP:20260422T234250
CREATED:20231213T150752Z
LAST-MODIFIED:20231213T150752Z
UID:10000770-1647993600-1648079999@oceancityvacation.com
SUMMARY:Night in Venice to Celebrate 67th Anniversary on July 23
DESCRIPTION:
URL:https://oceancityvacation.com/events-calendar/night-in-venice-to-celebrate-67th-anniversary-on-july-23-2/
LOCATION:NJ
CATEGORIES:Chamber Event
END:VEVENT
BEGIN:VEVENT
DTSTART;VALUE=DATE:20220330
DTEND;VALUE=DATE:20220331
DTSTAMP:20260422T234250
CREATED:20231213T150719Z
LAST-MODIFIED:20231213T150719Z
UID:10000769-1648598400-1648684799@oceancityvacation.com
SUMMARY:Girls Weekend and OC-CON Return to Ocean City
DESCRIPTION:
URL:https://oceancityvacation.com/events-calendar/girls-weekend-and-oc-con-return-to-ocean-city/
LOCATION:NJ
CATEGORIES:Chamber Event
END:VEVENT
END:VCALENDAR