BEGIN:VCALENDAR
VERSION:2.0
PRODID:-//Ocean City NJ - ECPv6.15.14//NONSGML v1.0//EN
CALSCALE:GREGORIAN
METHOD:PUBLISH
X-ORIGINAL-URL:https://oceancityvacation.com
X-WR-CALDESC:Events for Ocean City NJ
REFRESH-INTERVAL;VALUE=DURATION:PT1H
X-Robots-Tag:noindex
X-PUBLISHED-TTL:PT1H
BEGIN:VTIMEZONE
TZID:America/New_York
BEGIN:DAYLIGHT
TZOFFSETFROM:-0500
TZOFFSETTO:-0400
TZNAME:EDT
DTSTART:20240310T070000
END:DAYLIGHT
BEGIN:STANDARD
TZOFFSETFROM:-0400
TZOFFSETTO:-0500
TZNAME:EST
DTSTART:20241103T060000
END:STANDARD
BEGIN:DAYLIGHT
TZOFFSETFROM:-0500
TZOFFSETTO:-0400
TZNAME:EDT
DTSTART:20250309T070000
END:DAYLIGHT
BEGIN:STANDARD
TZOFFSETFROM:-0400
TZOFFSETTO:-0500
TZNAME:EST
DTSTART:20251102T060000
END:STANDARD
BEGIN:DAYLIGHT
TZOFFSETFROM:-0500
TZOFFSETTO:-0400
TZNAME:EDT
DTSTART:20260308T070000
END:DAYLIGHT
BEGIN:STANDARD
TZOFFSETFROM:-0400
TZOFFSETTO:-0500
TZNAME:EST
DTSTART:20261101T060000
END:STANDARD
END:VTIMEZONE
BEGIN:VEVENT
DTSTART;TZID=America/New_York:20251214T090000
DTEND;TZID=America/New_York:20251214T110000
DTSTAMP:20260420T091259
CREATED:20241031T171314Z
LAST-MODIFIED:20251125T145122Z
UID:10001327-1765702800-1765710000@oceancityvacation.com
SUMMARY:Santa in the Downtown
DESCRIPTION:Santa in the Downtown 9 a.m. to 11 a.m. at Soifer Park.
URL:https://oceancityvacation.com/events-calendar/santa-in-the-downtown-3/2025-12-14/
LOCATION:Soifer Park\, 901 Asbury Avenue\, Ocean City\, NJ\, 08226\, United States
CATEGORIES:Events Calendar
ATTACH;FMTTYPE=image/jpeg:https://oceancityvacation.com/wp-content/uploads/2024/10/DSC01701.jpg
GEO:39.27853;-74.57623
X-APPLE-STRUCTURED-LOCATION;VALUE=URI;X-ADDRESS=Soifer Park 901 Asbury Avenue Ocean City NJ 08226 United States;X-APPLE-RADIUS=500;X-TITLE=901 Asbury Avenue:geo:-74.57623,39.27853
END:VEVENT
BEGIN:VEVENT
DTSTART;TZID=America/New_York:20251214T120000
DTEND;TZID=America/New_York:20251214T150000
DTSTAMP:20260420T091259
CREATED:20241031T170837Z
LAST-MODIFIED:20251125T145249Z
UID:10001312-1765713600-1765724400@oceancityvacation.com
SUMMARY:Horse & Carriage Rides
DESCRIPTION:Horse & Carriage Rides noon to 3 p.m.\, 6th & Asbury Ave.
URL:https://oceancityvacation.com/events-calendar/horse-carriage-rides-3/2025-12-14/
LOCATION:Asbury Ave\, 901 Asbury Avenue\, Ocean City\, NJ\, 08226\, United States
CATEGORIES:Events Calendar
ATTACH;FMTTYPE=image/jpeg:https://oceancityvacation.com/wp-content/uploads/2025/11/horse-and-carriage.jpg
GEO:39.27853;-74.57623
X-APPLE-STRUCTURED-LOCATION;VALUE=URI;X-ADDRESS=Asbury Ave 901 Asbury Avenue Ocean City NJ 08226 United States;X-APPLE-RADIUS=500;X-TITLE=901 Asbury Avenue:geo:-74.57623,39.27853
END:VEVENT
BEGIN:VEVENT
DTSTART;TZID=America/New_York:20251214T130000
DTEND;TZID=America/New_York:20251214T150000
DTSTAMP:20260420T091259
CREATED:20241031T171744Z
LAST-MODIFIED:20251125T152910Z
UID:10001413-1765717200-1765724400@oceancityvacation.com
SUMMARY:Photos with Santa
DESCRIPTION:Photos with Santa 1pm to 3 p.m. at the Music Pier.
URL:https://oceancityvacation.com/events-calendar/photos-with-santa-3/2025-12-14/
LOCATION:Music Pier\, 825 Boardwalk\, Ocean City\, NJ\, 08226\, United States
CATEGORIES:Events Calendar
ATTACH;FMTTYPE=image/jpeg:https://oceancityvacation.com/wp-content/uploads/2023/11/Santa-Surfboard-1.jpg
GEO:39.2751976;-74.5695462
X-APPLE-STRUCTURED-LOCATION;VALUE=URI;X-ADDRESS=Music Pier 825 Boardwalk Ocean City NJ 08226 United States;X-APPLE-RADIUS=500;X-TITLE=825 Boardwalk:geo:-74.5695462,39.2751976
END:VEVENT
BEGIN:VEVENT
DTSTART;TZID=America/New_York:20251214T140000
DTEND;TZID=America/New_York:20251214T160000
DTSTAMP:20260420T091259
CREATED:20250829T133353Z
LAST-MODIFIED:20250829T133353Z
UID:10001557-1765720800-1765728000@oceancityvacation.com
SUMMARY:THE WIZARD OF OZ YOUTH EDITION
DESCRIPTION:THE WIZARD OF OZ YOUTH EDITION Presented by the OCTC Junior Company\, “The Wizard of Oz: Youth Edition” is a stage adaptation of the classic story tailored for young performers. It’s a one-hour version of L. Frank Baum’s novel\, featuring characters and songs from the beloved 1939 film. The story follows Dorothy’s journey to the Emerald City with her friends\, the Scarecrow\, Tin Man\, and Lion\, as they seek help from the Wizard to return home. December 13th at 7:30 p.m. and December 14th at 2:00 p.m. at the Music Pier. All tickets $15.  Tickets available at www.oceancitytheatrecompany.com
URL:https://oceancityvacation.com/events-calendar/the-wizard-of-oz-youth-edition/2025-12-14/
LOCATION:Music Pier\, 825 Boardwalk\, Ocean City\, NJ\, 08226\, United States
CATEGORIES:Events Calendar
ATTACH;FMTTYPE=image/png:https://oceancityvacation.com/wp-content/uploads/2025/08/The-Wiz-of-Oz-Youth-Edition-.png
ORGANIZER;CN="The Greater Ocean City Theatre Company":MAILTO:Info@oceancitytheatrecompany.com
GEO:39.2751976;-74.5695462
X-APPLE-STRUCTURED-LOCATION;VALUE=URI;X-ADDRESS=Music Pier 825 Boardwalk Ocean City NJ 08226 United States;X-APPLE-RADIUS=500;X-TITLE=825 Boardwalk:geo:-74.5695462,39.2751976
END:VEVENT
BEGIN:VEVENT
DTSTART;TZID=America/New_York:20251220T090000
DTEND;TZID=America/New_York:20251220T110000
DTSTAMP:20260420T091259
CREATED:20241031T171314Z
LAST-MODIFIED:20251125T145122Z
UID:10001328-1766221200-1766228400@oceancityvacation.com
SUMMARY:Santa in the Downtown
DESCRIPTION:Santa in the Downtown 9 a.m. to 11 a.m. at Soifer Park.
URL:https://oceancityvacation.com/events-calendar/santa-in-the-downtown-3/2025-12-20/
LOCATION:Soifer Park\, 901 Asbury Avenue\, Ocean City\, NJ\, 08226\, United States
CATEGORIES:Events Calendar
ATTACH;FMTTYPE=image/jpeg:https://oceancityvacation.com/wp-content/uploads/2024/10/DSC01701.jpg
GEO:39.27853;-74.57623
X-APPLE-STRUCTURED-LOCATION;VALUE=URI;X-ADDRESS=Soifer Park 901 Asbury Avenue Ocean City NJ 08226 United States;X-APPLE-RADIUS=500;X-TITLE=901 Asbury Avenue:geo:-74.57623,39.27853
END:VEVENT
BEGIN:VEVENT
DTSTART;TZID=America/New_York:20251220T120000
DTEND;TZID=America/New_York:20251220T150000
DTSTAMP:20260420T091259
CREATED:20241031T170837Z
LAST-MODIFIED:20251125T145249Z
UID:10001313-1766232000-1766242800@oceancityvacation.com
SUMMARY:Horse & Carriage Rides
DESCRIPTION:Horse & Carriage Rides noon to 3 p.m.\, 6th & Asbury Ave.
URL:https://oceancityvacation.com/events-calendar/horse-carriage-rides-3/2025-12-20/
LOCATION:Asbury Ave\, 901 Asbury Avenue\, Ocean City\, NJ\, 08226\, United States
CATEGORIES:Events Calendar
ATTACH;FMTTYPE=image/jpeg:https://oceancityvacation.com/wp-content/uploads/2025/11/horse-and-carriage.jpg
GEO:39.27853;-74.57623
X-APPLE-STRUCTURED-LOCATION;VALUE=URI;X-ADDRESS=Asbury Ave 901 Asbury Avenue Ocean City NJ 08226 United States;X-APPLE-RADIUS=500;X-TITLE=901 Asbury Avenue:geo:-74.57623,39.27853
END:VEVENT
BEGIN:VEVENT
DTSTART;TZID=America/New_York:20251220T130000
DTEND;TZID=America/New_York:20251220T150000
DTSTAMP:20260420T091259
CREATED:20241031T171744Z
LAST-MODIFIED:20251125T152910Z
UID:10001414-1766235600-1766242800@oceancityvacation.com
SUMMARY:Photos with Santa
DESCRIPTION:Photos with Santa 1pm to 3 p.m. at the Music Pier.
URL:https://oceancityvacation.com/events-calendar/photos-with-santa-3/2025-12-20/
LOCATION:Music Pier\, 825 Boardwalk\, Ocean City\, NJ\, 08226\, United States
CATEGORIES:Events Calendar
ATTACH;FMTTYPE=image/jpeg:https://oceancityvacation.com/wp-content/uploads/2023/11/Santa-Surfboard-1.jpg
GEO:39.2751976;-74.5695462
X-APPLE-STRUCTURED-LOCATION;VALUE=URI;X-ADDRESS=Music Pier 825 Boardwalk Ocean City NJ 08226 United States;X-APPLE-RADIUS=500;X-TITLE=825 Boardwalk:geo:-74.5695462,39.2751976
END:VEVENT
END:VCALENDAR