BEGIN:VCALENDAR
VERSION:2.0
PRODID:-//Ocean City NJ - ECPv6.15.14//NONSGML v1.0//EN
CALSCALE:GREGORIAN
METHOD:PUBLISH
X-ORIGINAL-URL:https://oceancityvacation.com
X-WR-CALDESC:Events for Ocean City NJ
REFRESH-INTERVAL;VALUE=DURATION:PT1H
X-Robots-Tag:noindex
X-PUBLISHED-TTL:PT1H
BEGIN:VTIMEZONE
TZID:America/New_York
BEGIN:DAYLIGHT
TZOFFSETFROM:-0500
TZOFFSETTO:-0400
TZNAME:EDT
DTSTART:20240310T070000
END:DAYLIGHT
BEGIN:STANDARD
TZOFFSETFROM:-0400
TZOFFSETTO:-0500
TZNAME:EST
DTSTART:20241103T060000
END:STANDARD
BEGIN:DAYLIGHT
TZOFFSETFROM:-0500
TZOFFSETTO:-0400
TZNAME:EDT
DTSTART:20250309T070000
END:DAYLIGHT
BEGIN:STANDARD
TZOFFSETFROM:-0400
TZOFFSETTO:-0500
TZNAME:EST
DTSTART:20251102T060000
END:STANDARD
BEGIN:DAYLIGHT
TZOFFSETFROM:-0500
TZOFFSETTO:-0400
TZNAME:EDT
DTSTART:20260308T070000
END:DAYLIGHT
BEGIN:STANDARD
TZOFFSETFROM:-0400
TZOFFSETTO:-0500
TZNAME:EST
DTSTART:20261101T060000
END:STANDARD
END:VTIMEZONE
BEGIN:VEVENT
DTSTART;TZID=America/New_York:20251127T080000
DTEND;TZID=America/New_York:20251127T100000
DTSTAMP:20260420T053435
CREATED:20241031T171439Z
LAST-MODIFIED:20241101T135929Z
UID:10001330-1764230400-1764237600@oceancityvacation.com
SUMMARY:Annual Fast & Furriest 5k Turkey Trot
DESCRIPTION:Annual Fast & Furriest 5k Turkey Trot down the OC Boardwalk. Sponsored by the Humane Society of Ocean City. For more information call 609-398-9500 ext. 4 or visit hsocnj.org
URL:https://oceancityvacation.com/events-calendar/annual-fast-furriest-5k-turkey-trot-3/
LOCATION:Ocean City Boardwalk\, 825 Boardwalk\, Ocean City\, NJ\, 08226\, United States
CATEGORIES:Events Calendar
ATTACH;FMTTYPE=image/jpeg:https://oceancityvacation.com/wp-content/uploads/2023/11/turkey-trot-3.jpg
GEO:39.2751976;-74.5695462
X-APPLE-STRUCTURED-LOCATION;VALUE=URI;X-ADDRESS=Ocean City Boardwalk 825 Boardwalk Ocean City NJ 08226 United States;X-APPLE-RADIUS=500;X-TITLE=825 Boardwalk:geo:-74.5695462,39.2751976
END:VEVENT
BEGIN:VEVENT
DTSTART;TZID=America/New_York:20251128T120000
DTEND;TZID=America/New_York:20251128T150000
DTSTAMP:20260420T053435
CREATED:20241031T170837Z
LAST-MODIFIED:20251125T145249Z
UID:10001306-1764331200-1764342000@oceancityvacation.com
SUMMARY:Horse & Carriage Rides
DESCRIPTION:Horse & Carriage Rides noon to 3 p.m.\, 6th & Asbury Ave.
URL:https://oceancityvacation.com/events-calendar/horse-carriage-rides-3/2025-11-28/
LOCATION:Asbury Ave\, 901 Asbury Avenue\, Ocean City\, NJ\, 08226\, United States
CATEGORIES:Events Calendar
ATTACH;FMTTYPE=image/jpeg:https://oceancityvacation.com/wp-content/uploads/2025/11/horse-and-carriage.jpg
GEO:39.27853;-74.57623
X-APPLE-STRUCTURED-LOCATION;VALUE=URI;X-ADDRESS=Asbury Ave 901 Asbury Avenue Ocean City NJ 08226 United States;X-APPLE-RADIUS=500;X-TITLE=901 Asbury Avenue:geo:-74.57623,39.27853
END:VEVENT
BEGIN:VEVENT
DTSTART;TZID=America/New_York:20251128T140000
DTEND;TZID=America/New_York:20251128T170000
DTSTAMP:20260420T053435
CREATED:20241031T171026Z
LAST-MODIFIED:20251125T144442Z
UID:10001315-1764338400-1764349200@oceancityvacation.com
SUMMARY:Christmas in the Downtown
DESCRIPTION:Christmas in the Downtown – “Our Miracle on Asbury Avenue” 2:00 p.m. to 5:00 p.m. Join the merchants & Chamber in kicking off an old-fashioned Downtown Christmas to culminate at 5:00 p.m. for the arrival of Santa Claus!
URL:https://oceancityvacation.com/events-calendar/christmas-in-the-downtown-3/
LOCATION:Asbury Ave\, 901 Asbury Avenue\, Ocean City\, NJ\, 08226\, United States
CATEGORIES:Events Calendar
ATTACH;FMTTYPE=image/jpeg:https://oceancityvacation.com/wp-content/uploads/2024/10/santa-on-roof.jpg
GEO:39.27853;-74.57623
X-APPLE-STRUCTURED-LOCATION;VALUE=URI;X-ADDRESS=Asbury Ave 901 Asbury Avenue Ocean City NJ 08226 United States;X-APPLE-RADIUS=500;X-TITLE=901 Asbury Avenue:geo:-74.57623,39.27853
END:VEVENT
BEGIN:VEVENT
DTSTART;TZID=America/New_York:20251129T090000
DTEND;TZID=America/New_York:20251129T110000
DTSTAMP:20260420T053435
CREATED:20241031T171314Z
LAST-MODIFIED:20251125T145122Z
UID:10001322-1764406800-1764414000@oceancityvacation.com
SUMMARY:Santa in the Downtown
DESCRIPTION:Santa in the Downtown 9 a.m. to 11 a.m. at Soifer Park.
URL:https://oceancityvacation.com/events-calendar/santa-in-the-downtown-3/2025-11-29/
LOCATION:Soifer Park\, 901 Asbury Avenue\, Ocean City\, NJ\, 08226\, United States
CATEGORIES:Events Calendar
ATTACH;FMTTYPE=image/jpeg:https://oceancityvacation.com/wp-content/uploads/2024/10/DSC01701.jpg
GEO:39.27853;-74.57623
X-APPLE-STRUCTURED-LOCATION;VALUE=URI;X-ADDRESS=Soifer Park 901 Asbury Avenue Ocean City NJ 08226 United States;X-APPLE-RADIUS=500;X-TITLE=901 Asbury Avenue:geo:-74.57623,39.27853
END:VEVENT
BEGIN:VEVENT
DTSTART;TZID=America/New_York:20251129T120000
DTEND;TZID=America/New_York:20251129T150000
DTSTAMP:20260420T053435
CREATED:20241031T170837Z
LAST-MODIFIED:20251125T145249Z
UID:10001307-1764417600-1764428400@oceancityvacation.com
SUMMARY:Horse & Carriage Rides
DESCRIPTION:Horse & Carriage Rides noon to 3 p.m.\, 6th & Asbury Ave.
URL:https://oceancityvacation.com/events-calendar/horse-carriage-rides-3/2025-11-29/
LOCATION:Asbury Ave\, 901 Asbury Avenue\, Ocean City\, NJ\, 08226\, United States
CATEGORIES:Events Calendar
ATTACH;FMTTYPE=image/jpeg:https://oceancityvacation.com/wp-content/uploads/2025/11/horse-and-carriage.jpg
GEO:39.27853;-74.57623
X-APPLE-STRUCTURED-LOCATION;VALUE=URI;X-ADDRESS=Asbury Ave 901 Asbury Avenue Ocean City NJ 08226 United States;X-APPLE-RADIUS=500;X-TITLE=901 Asbury Avenue:geo:-74.57623,39.27853
END:VEVENT
BEGIN:VEVENT
DTSTART;TZID=America/New_York:20251129T130000
DTEND;TZID=America/New_York:20251129T150000
DTSTAMP:20260420T053435
CREATED:20241031T171744Z
LAST-MODIFIED:20251125T152910Z
UID:10001402-1764421200-1764428400@oceancityvacation.com
SUMMARY:Photos with Santa
DESCRIPTION:Photos with Santa 1pm to 3 p.m. at the Music Pier.
URL:https://oceancityvacation.com/events-calendar/photos-with-santa-3/2025-11-29/
LOCATION:Music Pier\, 825 Boardwalk\, Ocean City\, NJ\, 08226\, United States
CATEGORIES:Events Calendar
ATTACH;FMTTYPE=image/jpeg:https://oceancityvacation.com/wp-content/uploads/2023/11/Santa-Surfboard-1.jpg
GEO:39.2751976;-74.5695462
X-APPLE-STRUCTURED-LOCATION;VALUE=URI;X-ADDRESS=Music Pier 825 Boardwalk Ocean City NJ 08226 United States;X-APPLE-RADIUS=500;X-TITLE=825 Boardwalk:geo:-74.5695462,39.2751976
END:VEVENT
BEGIN:VEVENT
DTSTART;TZID=America/New_York:20251129T180000
DTEND;TZID=America/New_York:20251129T200000
DTSTAMP:20260420T053435
CREATED:20251014T185801Z
LAST-MODIFIED:20251125T150612Z
UID:10001565-1764439200-1764446400@oceancityvacation.com
SUMMARY:Holidays With The Ocean City POPs 
DESCRIPTION:Holidays With The Ocean City POPs The annual show will feature the Ocean City Pops orchestra performing classic Christmas song favorites and modern hits\, led by conductor Vince Lee and featuring the Ocean City Pops Festival Chorus. This yearly tradition has become a holiday staple in Ocean City so do not wait to purchase your tickets. 6:00 p.m. November 29th at the Music Pier.  Tickets available at oceancityvacation.com/what-to-do/box-office/\, by visiting any Welcome Center or by calling 609-399-6111.
URL:https://oceancityvacation.com/events-calendar/holidays-with-the-ocean-city-pops-2/
LOCATION:Music Pier\, 825 Boardwalk\, Ocean City\, NJ\, 08226\, United States
CATEGORIES:Events Calendar
ATTACH;FMTTYPE=image/jpeg:https://oceancityvacation.com/wp-content/uploads/2025/10/DowntownChristmas4-e1764083165648.jpg
GEO:39.2751976;-74.5695462
X-APPLE-STRUCTURED-LOCATION;VALUE=URI;X-ADDRESS=Music Pier 825 Boardwalk Ocean City NJ 08226 United States;X-APPLE-RADIUS=500;X-TITLE=825 Boardwalk:geo:-74.5695462,39.2751976
END:VEVENT
END:VCALENDAR