BEGIN:VCALENDAR
VERSION:2.0
PRODID:-//Ocean City NJ - ECPv6.15.14//NONSGML v1.0//EN
CALSCALE:GREGORIAN
METHOD:PUBLISH
X-ORIGINAL-URL:https://oceancityvacation.com
X-WR-CALDESC:Events for Ocean City NJ
REFRESH-INTERVAL;VALUE=DURATION:PT1H
X-Robots-Tag:noindex
X-PUBLISHED-TTL:PT1H
BEGIN:VTIMEZONE
TZID:America/New_York
BEGIN:DAYLIGHT
TZOFFSETFROM:-0500
TZOFFSETTO:-0400
TZNAME:EDT
DTSTART:20250309T070000
END:DAYLIGHT
BEGIN:STANDARD
TZOFFSETFROM:-0400
TZOFFSETTO:-0500
TZNAME:EST
DTSTART:20251102T060000
END:STANDARD
BEGIN:DAYLIGHT
TZOFFSETFROM:-0500
TZOFFSETTO:-0400
TZNAME:EDT
DTSTART:20260308T070000
END:DAYLIGHT
BEGIN:STANDARD
TZOFFSETFROM:-0400
TZOFFSETTO:-0500
TZNAME:EST
DTSTART:20261101T060000
END:STANDARD
BEGIN:DAYLIGHT
TZOFFSETFROM:-0500
TZOFFSETTO:-0400
TZNAME:EDT
DTSTART:20270314T070000
END:DAYLIGHT
BEGIN:STANDARD
TZOFFSETFROM:-0400
TZOFFSETTO:-0500
TZNAME:EST
DTSTART:20271107T060000
END:STANDARD
END:VTIMEZONE
BEGIN:VEVENT
DTSTART;TZID=America/New_York:20260708T080000
DTEND;TZID=America/New_York:20260708T090000
DTSTAMP:20260420T020906
CREATED:20251030T190925Z
LAST-MODIFIED:20260213T180343Z
UID:10001638-1783497600-1783501200@oceancityvacation.com
SUMMARY:Beach Exercise (Pilates)
DESCRIPTION:Beach Exercise (Pilates) on 6th Street Beach Volleyball Courts. 8:00 a.m. to 9:00 a.m. Free! Bring a towel & a friend.  Hosted by the Ocean City Aquatic & Fitness Center.  For more information call (609) 398-6900.
URL:https://oceancityvacation.com/events-calendar/beach-exercise-pilates-4/2026-07-08/
LOCATION:6th St. and the Boardwalk\, 600 Boardwalk\, Ocean City\, NJ\, 08226\, United States
CATEGORIES:Events Calendar
ATTACH;FMTTYPE=image/png:https://oceancityvacation.com/wp-content/uploads/2025/10/Untitled-design-30.png
ORGANIZER;CN="Ocean City Aquatic & Fitness Center":MAILTO:anf@ocnj.us
GEO:39.2770244;-74.566192
X-APPLE-STRUCTURED-LOCATION;VALUE=URI;X-ADDRESS=6th St. and the Boardwalk 600 Boardwalk Ocean City NJ 08226 United States;X-APPLE-RADIUS=500;X-TITLE=600 Boardwalk:geo:-74.566192,39.2770244
END:VEVENT
BEGIN:VEVENT
DTSTART;TZID=America/New_York:20260708T080000
DTEND;TZID=America/New_York:20260708T120000
DTSTAMP:20260420T020906
CREATED:20251030T184116Z
LAST-MODIFIED:20260116T193628Z
UID:10001612-1783497600-1783512000@oceancityvacation.com
SUMMARY:Farmers Market
DESCRIPTION:Farmers Market – Tabernacle Grounds 8:00 a.m. to 12:00 p.m. Crafters in the street at 5th & Asbury Ave.
URL:https://oceancityvacation.com/events-calendar/farmers-market-5/2026-07-08/
LOCATION:Ocean City Tabernacle\, 6th & Asbury Ave.\, Ocean City\, NJ
CATEGORIES:Chamber Event,Events Calendar
ATTACH;FMTTYPE=image/jpeg:https://oceancityvacation.com/wp-content/uploads/2023/06/Farmers-Market-2-scaled.jpg
ORGANIZER;CN="Ocean City Regional Chamber of Commerce":MAILTO:info@oceancityvacation.com
GEO:39.256744;-74.605108
X-APPLE-STRUCTURED-LOCATION;VALUE=URI;X-ADDRESS=Ocean City Tabernacle 6th & Asbury Ave. Ocean City NJ;X-APPLE-RADIUS=500;X-TITLE=6th & Asbury Ave.:geo:-74.605108,39.256744
END:VEVENT
BEGIN:VEVENT
DTSTART;TZID=America/New_York:20260708T103000
DTEND;TZID=America/New_York:20260708T113000
DTSTAMP:20260420T020906
CREATED:20251107T163502Z
LAST-MODIFIED:20251125T203609Z
UID:10001829-1783506600-1783510200@oceancityvacation.com
SUMMARY:Wacky Wednesday
DESCRIPTION:Wacky Wednesday– (Taffy Sculpting) Use your creativity to shape and sculpt Shriver’s Salt Water Taffy into your very own unique masterpiece.  Contest is free but open to the first 200 participants. Takes place at the Music Pier and must be present at 10:30 a.m. start time to participate. Sponsored by Shriver’s Salt Water Taffy.
URL:https://oceancityvacation.com/events-calendar/wacky-wednesday-2/
LOCATION:Music Pier\, 825 Boardwalk\, Ocean City\, NJ\, 08226\, United States
CATEGORIES:Events Calendar
ATTACH;FMTTYPE=image/jpeg:https://oceancityvacation.com/wp-content/uploads/2025/11/taffy-scultping.jpg
GEO:39.2751976;-74.5695462
X-APPLE-STRUCTURED-LOCATION;VALUE=URI;X-ADDRESS=Music Pier 825 Boardwalk Ocean City NJ 08226 United States;X-APPLE-RADIUS=500;X-TITLE=825 Boardwalk:geo:-74.5695462,39.2751976
END:VEVENT
BEGIN:VEVENT
DTSTART;TZID=America/New_York:20260708T183000
DTEND;TZID=America/New_York:20260708T193000
DTSTAMP:20260420T020906
CREATED:20251030T192122Z
LAST-MODIFIED:20251030T192122Z
UID:10001726-1783535400-1783539000@oceancityvacation.com
SUMMARY:Beach Walks
DESCRIPTION:Beach Walks – 59th St. & Central Ave. (Entrance to Corson’s Park) Wednesdays- 6:30 p.m.
URL:https://oceancityvacation.com/events-calendar/beach-walks-6/2026-07-08/
LOCATION:59th Street Beach
CATEGORIES:Events Calendar
ATTACH;FMTTYPE=image/jpeg:https://oceancityvacation.com/wp-content/uploads/2023/01/1.4-ocean-city-beach-walkway-scaled.jpg
GEO:39.219781457795;-74.6394003595
END:VEVENT
BEGIN:VEVENT
DTSTART;TZID=America/New_York:20260708T183000
DTEND;TZID=America/New_York:20260708T203000
DTSTAMP:20260420T020906
CREATED:20260318T191609Z
LAST-MODIFIED:20260318T191609Z
UID:10001971-1783535400-1783542600@oceancityvacation.com
SUMMARY:34th Street Summer Series
DESCRIPTION:
URL:https://oceancityvacation.com/events-calendar/34th-street-summer-series/2026-07-08/
LOCATION:Sandcastle Park\, 3401 West Avenue\, Ocean City\, NJ\, 08226\, United States
CATEGORIES:Events Calendar
ATTACH;FMTTYPE=image/jpeg:https://oceancityvacation.com/wp-content/uploads/2026/03/34th-street-summer-series.jpg
GEO:39.25097;-74.612208
X-APPLE-STRUCTURED-LOCATION;VALUE=URI;X-ADDRESS=Sandcastle Park 3401 West Avenue Ocean City NJ 08226 United States;X-APPLE-RADIUS=500;X-TITLE=3401 West Avenue:geo:-74.612208,39.25097
END:VEVENT
BEGIN:VEVENT
DTSTART;TZID=America/New_York:20260708T190000
DTEND;TZID=America/New_York:20260708T210000
DTSTAMP:20260420T020906
CREATED:20251030T194152Z
LAST-MODIFIED:20251030T194152Z
UID:10001768-1783537200-1783544400@oceancityvacation.com
SUMMARY:Family Nights
DESCRIPTION:Family Nights Entertainment including jugglers\, music\, characters and more on the boardwalk 7:00 p.m. to 9:00 p.m. between 6th Street – 14th Street.
URL:https://oceancityvacation.com/events-calendar/family-nights-9/2026-07-08/
LOCATION:Ocean City Boardwalk\, 825 Boardwalk\, Ocean City\, NJ\, 08226\, United States
CATEGORIES:Events Calendar
ATTACH;FMTTYPE=image/jpeg:https://oceancityvacation.com/wp-content/uploads/2025/10/family-night.jpg
GEO:39.2751976;-74.5695462
X-APPLE-STRUCTURED-LOCATION;VALUE=URI;X-ADDRESS=Ocean City Boardwalk 825 Boardwalk Ocean City NJ 08226 United States;X-APPLE-RADIUS=500;X-TITLE=825 Boardwalk:geo:-74.5695462,39.2751976
END:VEVENT
BEGIN:VEVENT
DTSTART;TZID=America/New_York:20260708T193000
DTEND;TZID=America/New_York:20260708T213000
DTSTAMP:20260420T020906
CREATED:20260414T175354Z
LAST-MODIFIED:20260414T175354Z
UID:10002048-1783539000-1783546200@oceancityvacation.com
SUMMARY:The Duprees Performing With The Ocean City POPS
DESCRIPTION:The Duprees Performing With The Ocean City POPS THE DUPREES are known the world over for their romantic interpretations of some of the most beautiful love songs ever written.  They have made a career out of giving new life to the big band standards and contemporary hits.  If you take the Glenn Miller arrangements of the 1940’s along with the tunes of Joni James\, Frank Sinatra\, Jo Stafford\, Nat King Cole\, (just to name a few) and the vocal harmonies of Tom Petillo\, Jimmy Spinelli and Shawn Stevens put them together\, you have the sound of THE DUPREES.  After an evening with THE DUPREES\, you’ll discover why their harmonies and hits are as timeless as ever. 7:30 p.m. at the Music Pier.  Tickets available at oceancityvacation.com/boxoffice.
URL:https://oceancityvacation.com/events-calendar/the-duprees-performing-with-the-ocean-city-pops-2/
LOCATION:Music Pier\, 825 Boardwalk\, Ocean City\, NJ\, 08226\, United States
CATEGORIES:Events Calendar
ATTACH;FMTTYPE=image/jpeg:https://oceancityvacation.com/wp-content/uploads/2026/04/The-Duprees.jpg
GEO:39.2751976;-74.5695462
X-APPLE-STRUCTURED-LOCATION;VALUE=URI;X-ADDRESS=Music Pier 825 Boardwalk Ocean City NJ 08226 United States;X-APPLE-RADIUS=500;X-TITLE=825 Boardwalk:geo:-74.5695462,39.2751976
END:VEVENT
END:VCALENDAR