BEGIN:VCALENDAR
VERSION:2.0
PRODID:-//Ocean City NJ - ECPv6.15.14//NONSGML v1.0//EN
CALSCALE:GREGORIAN
METHOD:PUBLISH
X-WR-CALNAME:Ocean City NJ
X-ORIGINAL-URL:https://oceancityvacation.com
X-WR-CALDESC:Events for Ocean City NJ
REFRESH-INTERVAL;VALUE=DURATION:PT1H
X-Robots-Tag:noindex
X-PUBLISHED-TTL:PT1H
BEGIN:VTIMEZONE
TZID:America/New_York
BEGIN:DAYLIGHT
TZOFFSETFROM:-0500
TZOFFSETTO:-0400
TZNAME:EDT
DTSTART:20240310T070000
END:DAYLIGHT
BEGIN:STANDARD
TZOFFSETFROM:-0400
TZOFFSETTO:-0500
TZNAME:EST
DTSTART:20241103T060000
END:STANDARD
BEGIN:DAYLIGHT
TZOFFSETFROM:-0500
TZOFFSETTO:-0400
TZNAME:EDT
DTSTART:20250309T070000
END:DAYLIGHT
BEGIN:STANDARD
TZOFFSETFROM:-0400
TZOFFSETTO:-0500
TZNAME:EST
DTSTART:20251102T060000
END:STANDARD
BEGIN:DAYLIGHT
TZOFFSETFROM:-0500
TZOFFSETTO:-0400
TZNAME:EDT
DTSTART:20260308T070000
END:DAYLIGHT
BEGIN:STANDARD
TZOFFSETFROM:-0400
TZOFFSETTO:-0500
TZNAME:EST
DTSTART:20261101T060000
END:STANDARD
END:VTIMEZONE
BEGIN:VEVENT
DTSTART;TZID=America/New_York:20250826T090000
DTEND;TZID=America/New_York:20250826T100000
DTSTAMP:20260420T083908
CREATED:20241031T152703Z
LAST-MODIFIED:20241031T152719Z
UID:10001121-1756198800-1756202400@oceancityvacation.com
SUMMARY:Beach Walks
DESCRIPTION:Beach Walks – 59th St. & Central Ave. (Entrance to Corson’s Park) Tuesdays- 9 a.m.
URL:https://oceancityvacation.com/events-calendar/beach-walks-3/2025-08-26/
LOCATION:59th Street Beach
CATEGORIES:Events Calendar
ATTACH;FMTTYPE=image/jpeg:https://oceancityvacation.com/wp-content/uploads/2023/01/1.4-ocean-city-beach-walkway-scaled.jpg
GEO:39.219781457795;-74.6394003595
END:VEVENT
BEGIN:VEVENT
DTSTART;TZID=America/New_York:20250826T100000
DTEND;TZID=America/New_York:20250826T130000
DTSTAMP:20260420T083908
CREATED:20241031T144619Z
LAST-MODIFIED:20241101T134928Z
UID:10001086-1756202400-1756213200@oceancityvacation.com
SUMMARY:Funtastic Tuesdays
DESCRIPTION:Funtastic Tuesdays 10 a.m. to 1 p.m. on Asbury Ave. entertainment\, face painters\, balloon sculptors.
URL:https://oceancityvacation.com/events-calendar/funtastic-tuesdays-2/2025-08-26/
LOCATION:Asbury Ave\, 901 Asbury Avenue\, Ocean City\, NJ\, 08226\, United States
CATEGORIES:Events Calendar
ATTACH;FMTTYPE=image/jpeg:https://oceancityvacation.com/wp-content/uploads/2023/01/funtastic.jpg
GEO:39.27853;-74.57623
X-APPLE-STRUCTURED-LOCATION;VALUE=URI;X-ADDRESS=Asbury Ave 901 Asbury Avenue Ocean City NJ 08226 United States;X-APPLE-RADIUS=500;X-TITLE=901 Asbury Avenue:geo:-74.57623,39.27853
END:VEVENT
BEGIN:VEVENT
DTSTART;TZID=America/New_York:20250826T190000
DTEND;TZID=America/New_York:20250826T210000
DTSTAMP:20260420T083908
CREATED:20241031T144750Z
LAST-MODIFIED:20241101T134900Z
UID:10001103-1756234800-1756242000@oceancityvacation.com
SUMMARY:Mummers Nights
DESCRIPTION:Mummers Nights – Strutting 7 p.m. to 9 p.m. on the boardwalk\, 6th Street – 14th Street
URL:https://oceancityvacation.com/events-calendar/mummers-nights/2025-08-26/
LOCATION:Ocean City Boardwalk\, 825 Boardwalk\, Ocean City\, NJ\, 08226\, United States
CATEGORIES:Events Calendar
ATTACH;FMTTYPE=image/jpeg:https://oceancityvacation.com/wp-content/uploads/2023/01/1.4-Ocean-City-Boardwalk-Family-Nights-Mummers.jpg
GEO:39.2751976;-74.5695462
X-APPLE-STRUCTURED-LOCATION;VALUE=URI;X-ADDRESS=Ocean City Boardwalk 825 Boardwalk Ocean City NJ 08226 United States;X-APPLE-RADIUS=500;X-TITLE=825 Boardwalk:geo:-74.5695462,39.2751976
END:VEVENT
BEGIN:VEVENT
DTSTART;TZID=America/New_York:20250826T193000
DTEND;TZID=America/New_York:20250826T213000
DTSTAMP:20260420T083908
CREATED:20250425T152736Z
LAST-MODIFIED:20250425T152736Z
UID:10001470-1756236600-1756243800@oceancityvacation.com
SUMMARY:Wayne Newtown Performing with the Ocean City POPs
DESCRIPTION:Wayne Newtown Performing with the Ocean City POPs Legend. Icon. World renowned\, record-setting performer. Actor. The Midnight Idol. Mr. Entertainment. USO Ambassador and passionate supporter of veterans and active duty service members.  No other name or person is so defining\, representative or synonymous with Las Vegas and the entertainment capital of the world than Mr. Las Vegas himself–Wayne Newton. Recognized and revered around the world\, entertainment superstar Wayne Newton is known for his iconic signature song\, “Danke Schoen” in addition to countless other top hit singles including\, “Daddy\, Don’t You Walk So Fast\,” “Red Roses for a Blue Lady\,” “At This Moment\,” “The Letter\,” “Summer Wind” and “Years.”. 7:30 p.m. at the Music Pier.  Tickets available at oceancityvacation.com/what-to-do/box-office/.
URL:https://oceancityvacation.com/events-calendar/wayne-newtown-performing-with-the-ocean-city-pops/
LOCATION:Music Pier\, 825 Boardwalk\, Ocean City\, NJ\, 08226\, United States
CATEGORIES:Events Calendar
ATTACH;FMTTYPE=image/jpeg:https://oceancityvacation.com/wp-content/uploads/2025/04/WayneNewton-ApprovedPhoto1.jpg
GEO:39.2751976;-74.5695462
X-APPLE-STRUCTURED-LOCATION;VALUE=URI;X-ADDRESS=Music Pier 825 Boardwalk Ocean City NJ 08226 United States;X-APPLE-RADIUS=500;X-TITLE=825 Boardwalk:geo:-74.5695462,39.2751976
END:VEVENT
END:VCALENDAR