BEGIN:VCALENDAR
VERSION:2.0
PRODID:-//Ocean City NJ - ECPv6.15.14//NONSGML v1.0//EN
CALSCALE:GREGORIAN
METHOD:PUBLISH
X-WR-CALNAME:Ocean City NJ
X-ORIGINAL-URL:https://oceancityvacation.com
X-WR-CALDESC:Events for Ocean City NJ
REFRESH-INTERVAL;VALUE=DURATION:PT1H
X-Robots-Tag:noindex
X-PUBLISHED-TTL:PT1H
BEGIN:VTIMEZONE
TZID:America/New_York
BEGIN:DAYLIGHT
TZOFFSETFROM:-0500
TZOFFSETTO:-0400
TZNAME:EDT
DTSTART:20240310T070000
END:DAYLIGHT
BEGIN:STANDARD
TZOFFSETFROM:-0400
TZOFFSETTO:-0500
TZNAME:EST
DTSTART:20241103T060000
END:STANDARD
BEGIN:DAYLIGHT
TZOFFSETFROM:-0500
TZOFFSETTO:-0400
TZNAME:EDT
DTSTART:20250309T070000
END:DAYLIGHT
BEGIN:STANDARD
TZOFFSETFROM:-0400
TZOFFSETTO:-0500
TZNAME:EST
DTSTART:20251102T060000
END:STANDARD
BEGIN:DAYLIGHT
TZOFFSETFROM:-0500
TZOFFSETTO:-0400
TZNAME:EDT
DTSTART:20260308T070000
END:DAYLIGHT
BEGIN:STANDARD
TZOFFSETFROM:-0400
TZOFFSETTO:-0500
TZNAME:EST
DTSTART:20261101T060000
END:STANDARD
END:VTIMEZONE
BEGIN:VEVENT
DTSTART;TZID=America/New_York:20250822T080000
DTEND;TZID=America/New_York:20250822T090000
DTSTAMP:20260420T083844
CREATED:20241031T153947Z
LAST-MODIFIED:20250318T150005Z
UID:10001224-1755849600-1755853200@oceancityvacation.com
SUMMARY:Beach Exercise (Low Impact)
DESCRIPTION:Beach Exercise (Low Impact) on 6th Street Beach Volleyball Courts.  8 a.m. to 9 a.m. Free! Bring a towel & a friend.  Hosted by the Ocean City Aquatic & Fitness Center.  For more information call (609) 398-6900.
URL:https://oceancityvacation.com/events-calendar/beach-exercise-low-impact-3/2025-08-22/
LOCATION:7th St. Beach\, 700 Boardwalk\, Ocean City\, NJ\, 08226\, United States
CATEGORIES:Events Calendar
ATTACH;FMTTYPE=image/jpeg:https://oceancityvacation.com/wp-content/uploads/2024/10/0705c308-be6b-4971-993a-1c195ca453bf.jpg
GEO:39.2770244;-74.566192
X-APPLE-STRUCTURED-LOCATION;VALUE=URI;X-ADDRESS=7th St. Beach 700 Boardwalk Ocean City NJ 08226 United States;X-APPLE-RADIUS=500;X-TITLE=700 Boardwalk:geo:-74.566192,39.2770244
END:VEVENT
BEGIN:VEVENT
DTSTART;TZID=America/New_York:20250822T080000
DTEND;TZID=America/New_York:20250822T100000
DTSTAMP:20260420T083844
CREATED:20250502T172353Z
LAST-MODIFIED:20250522T150629Z
UID:10001480-1755849600-1755856800@oceancityvacation.com
SUMMARY:Walking Club
DESCRIPTION:Walking Club People of all ages and fitness levels are encouraged to meet outside the Ocean City Music Pier at 8 a.m. (weather permitting) to walk the length of the Boardwalk.
URL:https://oceancityvacation.com/events-calendar/walking-club/2025-08-22/
LOCATION:Music Pier\, 825 Boardwalk\, Ocean City\, NJ\, 08226\, United States
CATEGORIES:Events Calendar
ATTACH;FMTTYPE=image/jpeg:https://oceancityvacation.com/wp-content/uploads/2024/10/chamber-logo.jpg
GEO:39.2751976;-74.5695462
X-APPLE-STRUCTURED-LOCATION;VALUE=URI;X-ADDRESS=Music Pier 825 Boardwalk Ocean City NJ 08226 United States;X-APPLE-RADIUS=500;X-TITLE=825 Boardwalk:geo:-74.5695462,39.2751976
END:VEVENT
BEGIN:VEVENT
DTSTART;TZID=America/New_York:20250822T090000
DTEND;TZID=America/New_York:20250822T130000
DTSTAMP:20260420T083844
CREATED:20241031T163403Z
LAST-MODIFIED:20241031T163403Z
UID:10001267-1755853200-1755867600@oceancityvacation.com
SUMMARY:Ocean City Green Fair
DESCRIPTION:Ocean City Green Fair 9 a.m. to 1 p.m. at the Music Pier. The community-wide event is designed to educate and encourage people of all ages to adopt a more environmentally friendly lifestyle. Sponsored by the Environmental Commission.
URL:https://oceancityvacation.com/events-calendar/ocean-city-green-fair-3/
LOCATION:Music Pier\, 825 Boardwalk\, Ocean City\, NJ\, 08226\, United States
CATEGORIES:Events Calendar
ATTACH;FMTTYPE=image/jpeg:https://oceancityvacation.com/wp-content/uploads/2023/11/green-fair-scaled.jpg
GEO:39.2751976;-74.5695462
X-APPLE-STRUCTURED-LOCATION;VALUE=URI;X-ADDRESS=Music Pier 825 Boardwalk Ocean City NJ 08226 United States;X-APPLE-RADIUS=500;X-TITLE=825 Boardwalk:geo:-74.5695462,39.2751976
END:VEVENT
BEGIN:VEVENT
DTSTART;TZID=America/New_York:20250822T193000
DTEND;TZID=America/New_York:20250822T210000
DTSTAMP:20260420T083844
CREATED:20250313T180013Z
LAST-MODIFIED:20250425T162222Z
UID:10001445-1755891000-1755896400@oceancityvacation.com
SUMMARY:The Spongebob Musical Youth Edition Presented by OCTC
DESCRIPTION: Plunge into this stunning all-singing\, all-dancing\, dynamic stage show! When the citizens of Bikini Bottom discover that a volcano will soon erupt and destroy their humble home\, SpongeBob and his friends must come together to save the fate of their undersea world. With lives hanging in the balance and all hope lost\, a most unexpected hero rises up. The power of optimism really can save the world! Featuring members of OCTC’s Middle School Junior Company. 7:30pm at the Music Pier. Tickets available at www.oceancitytheatrecompany.com
URL:https://oceancityvacation.com/events-calendar/the-spongebob-musical-youth-edition-presented-by-octc/2025-08-22/
LOCATION:Music Pier\, 825 Boardwalk\, Ocean City\, NJ\, 08226\, United States
CATEGORIES:Events Calendar
ATTACH;FMTTYPE=image/jpeg:https://oceancityvacation.com/wp-content/uploads/2025/03/spongebob-the-musical_orig.jpg
ORGANIZER;CN="The Greater Ocean City Theatre Company":MAILTO:Info@oceancitytheatrecompany.com
GEO:39.2751976;-74.5695462
X-APPLE-STRUCTURED-LOCATION;VALUE=URI;X-ADDRESS=Music Pier 825 Boardwalk Ocean City NJ 08226 United States;X-APPLE-RADIUS=500;X-TITLE=825 Boardwalk:geo:-74.5695462,39.2751976
END:VEVENT
END:VCALENDAR