BEGIN:VCALENDAR
VERSION:2.0
PRODID:-//Ocean City NJ - ECPv6.15.14//NONSGML v1.0//EN
CALSCALE:GREGORIAN
METHOD:PUBLISH
X-ORIGINAL-URL:https://oceancityvacation.com
X-WR-CALDESC:Events for Ocean City NJ
REFRESH-INTERVAL;VALUE=DURATION:PT1H
X-Robots-Tag:noindex
X-PUBLISHED-TTL:PT1H
BEGIN:VTIMEZONE
TZID:America/New_York
BEGIN:DAYLIGHT
TZOFFSETFROM:-0500
TZOFFSETTO:-0400
TZNAME:EDT
DTSTART:20240310T070000
END:DAYLIGHT
BEGIN:STANDARD
TZOFFSETFROM:-0400
TZOFFSETTO:-0500
TZNAME:EST
DTSTART:20241103T060000
END:STANDARD
BEGIN:DAYLIGHT
TZOFFSETFROM:-0500
TZOFFSETTO:-0400
TZNAME:EDT
DTSTART:20250309T070000
END:DAYLIGHT
BEGIN:STANDARD
TZOFFSETFROM:-0400
TZOFFSETTO:-0500
TZNAME:EST
DTSTART:20251102T060000
END:STANDARD
BEGIN:DAYLIGHT
TZOFFSETFROM:-0500
TZOFFSETTO:-0400
TZNAME:EDT
DTSTART:20260308T070000
END:DAYLIGHT
BEGIN:STANDARD
TZOFFSETFROM:-0400
TZOFFSETTO:-0500
TZNAME:EST
DTSTART:20261101T060000
END:STANDARD
END:VTIMEZONE
BEGIN:VEVENT
DTSTART;TZID=America/New_York:20250819T090000
DTEND;TZID=America/New_York:20250819T100000
DTSTAMP:20260420T084047
CREATED:20241031T152703Z
LAST-MODIFIED:20241031T152719Z
UID:10001120-1755594000-1755597600@oceancityvacation.com
SUMMARY:Beach Walks
DESCRIPTION:Beach Walks – 59th St. & Central Ave. (Entrance to Corson’s Park) Tuesdays- 9 a.m.
URL:https://oceancityvacation.com/events-calendar/beach-walks-3/2025-08-19/
LOCATION:59th Street Beach
CATEGORIES:Events Calendar
ATTACH;FMTTYPE=image/jpeg:https://oceancityvacation.com/wp-content/uploads/2023/01/1.4-ocean-city-beach-walkway-scaled.jpg
GEO:39.219781457795;-74.6394003595
END:VEVENT
BEGIN:VEVENT
DTSTART;TZID=America/New_York:20250819T100000
DTEND;TZID=America/New_York:20250819T130000
DTSTAMP:20260420T084047
CREATED:20241031T144619Z
LAST-MODIFIED:20241101T134928Z
UID:10001085-1755597600-1755608400@oceancityvacation.com
SUMMARY:Funtastic Tuesdays
DESCRIPTION:Funtastic Tuesdays 10 a.m. to 1 p.m. on Asbury Ave. entertainment\, face painters\, balloon sculptors.
URL:https://oceancityvacation.com/events-calendar/funtastic-tuesdays-2/2025-08-19/
LOCATION:Asbury Ave\, 901 Asbury Avenue\, Ocean City\, NJ\, 08226\, United States
CATEGORIES:Events Calendar
ATTACH;FMTTYPE=image/jpeg:https://oceancityvacation.com/wp-content/uploads/2023/01/funtastic.jpg
GEO:39.27853;-74.57623
X-APPLE-STRUCTURED-LOCATION;VALUE=URI;X-ADDRESS=Asbury Ave 901 Asbury Avenue Ocean City NJ 08226 United States;X-APPLE-RADIUS=500;X-TITLE=901 Asbury Avenue:geo:-74.57623,39.27853
END:VEVENT
BEGIN:VEVENT
DTSTART;TZID=America/New_York:20250819T190000
DTEND;TZID=America/New_York:20250819T210000
DTSTAMP:20260420T084047
CREATED:20241031T144750Z
LAST-MODIFIED:20241101T134900Z
UID:10001102-1755630000-1755637200@oceancityvacation.com
SUMMARY:Mummers Nights
DESCRIPTION:Mummers Nights – Strutting 7 p.m. to 9 p.m. on the boardwalk\, 6th Street – 14th Street
URL:https://oceancityvacation.com/events-calendar/mummers-nights/2025-08-19/
LOCATION:Ocean City Boardwalk\, 825 Boardwalk\, Ocean City\, NJ\, 08226\, United States
CATEGORIES:Events Calendar
ATTACH;FMTTYPE=image/jpeg:https://oceancityvacation.com/wp-content/uploads/2023/01/1.4-Ocean-City-Boardwalk-Family-Nights-Mummers.jpg
GEO:39.2751976;-74.5695462
X-APPLE-STRUCTURED-LOCATION;VALUE=URI;X-ADDRESS=Ocean City Boardwalk 825 Boardwalk Ocean City NJ 08226 United States;X-APPLE-RADIUS=500;X-TITLE=825 Boardwalk:geo:-74.5695462,39.2751976
END:VEVENT
BEGIN:VEVENT
DTSTART;TZID=America/New_York:20250819T190000
DTEND;TZID=America/New_York:20250819T210000
DTSTAMP:20260420T084047
CREATED:20250425T152256Z
LAST-MODIFIED:20250425T152256Z
UID:10001469-1755630000-1755637200@oceancityvacation.com
SUMMARY:“A Bronx Tale”: The Original one-man show starring Chazz Palminteri
DESCRIPTION:“A Bronx Tale”: The Original one-man show starring Chazz Palminteri The show begins at 7:00 p.m. at the Ocean City Music Pier. Tickets available at etix.com. Produced by BRE Presents.
URL:https://oceancityvacation.com/events-calendar/a-bronx-tale-the-original-one-man-show-starring-chazz-palminteri/
LOCATION:Music Pier\, 825 Boardwalk\, Ocean City\, NJ\, 08226\, United States
CATEGORIES:Events Calendar
ATTACH;FMTTYPE=image/webp:https://oceancityvacation.com/wp-content/uploads/2025/04/fb-bronx-tale-oc-2025___15130654358.webp
GEO:39.2751976;-74.5695462
X-APPLE-STRUCTURED-LOCATION;VALUE=URI;X-ADDRESS=Music Pier 825 Boardwalk Ocean City NJ 08226 United States;X-APPLE-RADIUS=500;X-TITLE=825 Boardwalk:geo:-74.5695462,39.2751976
END:VEVENT
END:VCALENDAR