BEGIN:VCALENDAR
VERSION:2.0
PRODID:-//Ocean City NJ - ECPv6.15.14//NONSGML v1.0//EN
CALSCALE:GREGORIAN
METHOD:PUBLISH
X-ORIGINAL-URL:https://oceancityvacation.com
X-WR-CALDESC:Events for Ocean City NJ
REFRESH-INTERVAL;VALUE=DURATION:PT1H
X-Robots-Tag:noindex
X-PUBLISHED-TTL:PT1H
BEGIN:VTIMEZONE
TZID:America/New_York
BEGIN:DAYLIGHT
TZOFFSETFROM:-0500
TZOFFSETTO:-0400
TZNAME:EDT
DTSTART:20240310T070000
END:DAYLIGHT
BEGIN:STANDARD
TZOFFSETFROM:-0400
TZOFFSETTO:-0500
TZNAME:EST
DTSTART:20241103T060000
END:STANDARD
BEGIN:DAYLIGHT
TZOFFSETFROM:-0500
TZOFFSETTO:-0400
TZNAME:EDT
DTSTART:20250309T070000
END:DAYLIGHT
BEGIN:STANDARD
TZOFFSETFROM:-0400
TZOFFSETTO:-0500
TZNAME:EST
DTSTART:20251102T060000
END:STANDARD
BEGIN:DAYLIGHT
TZOFFSETFROM:-0500
TZOFFSETTO:-0400
TZNAME:EDT
DTSTART:20260308T070000
END:DAYLIGHT
BEGIN:STANDARD
TZOFFSETFROM:-0400
TZOFFSETTO:-0500
TZNAME:EST
DTSTART:20261101T060000
END:STANDARD
END:VTIMEZONE
BEGIN:VEVENT
DTSTART;TZID=America/New_York:20250815T080000
DTEND;TZID=America/New_York:20250815T090000
DTSTAMP:20260420T084103
CREATED:20241031T153947Z
LAST-MODIFIED:20250318T150005Z
UID:10001223-1755244800-1755248400@oceancityvacation.com
SUMMARY:Beach Exercise (Low Impact)
DESCRIPTION:Beach Exercise (Low Impact) on 6th Street Beach Volleyball Courts.  8 a.m. to 9 a.m. Free! Bring a towel & a friend.  Hosted by the Ocean City Aquatic & Fitness Center.  For more information call (609) 398-6900.
URL:https://oceancityvacation.com/events-calendar/beach-exercise-low-impact-3/2025-08-15/
LOCATION:7th St. Beach\, 700 Boardwalk\, Ocean City\, NJ\, 08226\, United States
CATEGORIES:Events Calendar
ATTACH;FMTTYPE=image/jpeg:https://oceancityvacation.com/wp-content/uploads/2024/10/0705c308-be6b-4971-993a-1c195ca453bf.jpg
GEO:39.2770244;-74.566192
X-APPLE-STRUCTURED-LOCATION;VALUE=URI;X-ADDRESS=7th St. Beach 700 Boardwalk Ocean City NJ 08226 United States;X-APPLE-RADIUS=500;X-TITLE=700 Boardwalk:geo:-74.566192,39.2770244
END:VEVENT
BEGIN:VEVENT
DTSTART;TZID=America/New_York:20250815T080000
DTEND;TZID=America/New_York:20250815T100000
DTSTAMP:20260420T084103
CREATED:20250502T172353Z
LAST-MODIFIED:20250522T150629Z
UID:10001479-1755244800-1755252000@oceancityvacation.com
SUMMARY:Walking Club
DESCRIPTION:Walking Club People of all ages and fitness levels are encouraged to meet outside the Ocean City Music Pier at 8 a.m. (weather permitting) to walk the length of the Boardwalk.
URL:https://oceancityvacation.com/events-calendar/walking-club/2025-08-15/
LOCATION:Music Pier\, 825 Boardwalk\, Ocean City\, NJ\, 08226\, United States
CATEGORIES:Events Calendar
ATTACH;FMTTYPE=image/jpeg:https://oceancityvacation.com/wp-content/uploads/2024/10/chamber-logo.jpg
GEO:39.2751976;-74.5695462
X-APPLE-STRUCTURED-LOCATION;VALUE=URI;X-ADDRESS=Music Pier 825 Boardwalk Ocean City NJ 08226 United States;X-APPLE-RADIUS=500;X-TITLE=825 Boardwalk:geo:-74.5695462,39.2751976
END:VEVENT
BEGIN:VEVENT
DTSTART;TZID=America/New_York:20250815T190000
DTEND;TZID=America/New_York:20250815T200000
DTSTAMP:20260420T084103
CREATED:20241031T162709Z
LAST-MODIFIED:20241101T145441Z
UID:10001262-1755284400-1755288000@oceancityvacation.com
SUMMARY:Little Miss Ocean City
DESCRIPTION:Little Miss Ocean City 7:00 p.m. at the Music Pier. Scholarship pageant for girls ages 8 – 11. Little Miss Ocean City 2025 Taegan Vivarelli will be on hand to crown her successor.  For registration information call 609-525-9304.
URL:https://oceancityvacation.com/events-calendar/little-miss-ocean-city-3/
LOCATION:Music Pier\, 825 Boardwalk\, Ocean City\, NJ\, 08226\, United States
CATEGORIES:Events Calendar
ATTACH;FMTTYPE=image/jpeg:https://oceancityvacation.com/wp-content/uploads/2024/10/taegan-vivarelli.jpg
GEO:39.2751976;-74.5695462
X-APPLE-STRUCTURED-LOCATION;VALUE=URI;X-ADDRESS=Music Pier 825 Boardwalk Ocean City NJ 08226 United States;X-APPLE-RADIUS=500;X-TITLE=825 Boardwalk:geo:-74.5695462,39.2751976
END:VEVENT
END:VCALENDAR