BEGIN:VCALENDAR
VERSION:2.0
PRODID:-//Ocean City NJ - ECPv6.15.14//NONSGML v1.0//EN
CALSCALE:GREGORIAN
METHOD:PUBLISH
X-ORIGINAL-URL:https://oceancityvacation.com
X-WR-CALDESC:Events for Ocean City NJ
REFRESH-INTERVAL;VALUE=DURATION:PT1H
X-Robots-Tag:noindex
X-PUBLISHED-TTL:PT1H
BEGIN:VTIMEZONE
TZID:America/New_York
BEGIN:DAYLIGHT
TZOFFSETFROM:-0500
TZOFFSETTO:-0400
TZNAME:EDT
DTSTART:20240310T070000
END:DAYLIGHT
BEGIN:STANDARD
TZOFFSETFROM:-0400
TZOFFSETTO:-0500
TZNAME:EST
DTSTART:20241103T060000
END:STANDARD
BEGIN:DAYLIGHT
TZOFFSETFROM:-0500
TZOFFSETTO:-0400
TZNAME:EDT
DTSTART:20250309T070000
END:DAYLIGHT
BEGIN:STANDARD
TZOFFSETFROM:-0400
TZOFFSETTO:-0500
TZNAME:EST
DTSTART:20251102T060000
END:STANDARD
BEGIN:DAYLIGHT
TZOFFSETFROM:-0500
TZOFFSETTO:-0400
TZNAME:EDT
DTSTART:20260308T070000
END:DAYLIGHT
BEGIN:STANDARD
TZOFFSETFROM:-0400
TZOFFSETTO:-0500
TZNAME:EST
DTSTART:20261101T060000
END:STANDARD
END:VTIMEZONE
BEGIN:VEVENT
DTSTART;TZID=America/New_York:20250814T100000
DTEND;TZID=America/New_York:20250814T130000
DTSTAMP:20260420T084047
CREATED:20241031T153648Z
LAST-MODIFIED:20241101T135036Z
UID:10001188-1755165600-1755176400@oceancityvacation.com
SUMMARY:Market Days
DESCRIPTION:Market Days 10 a.m. to 1 p.m. – Asbury Avenue. Entertainment\, face painters\, balloon sculptors.
URL:https://oceancityvacation.com/events-calendar/market-days-3/2025-08-14/
LOCATION:Asbury Ave\, 901 Asbury Avenue\, Ocean City\, NJ\, 08226\, United States
CATEGORIES:Events Calendar
ATTACH;FMTTYPE=image/jpeg:https://oceancityvacation.com/wp-content/uploads/2023/01/market-day.jpg
GEO:39.27853;-74.57623
X-APPLE-STRUCTURED-LOCATION;VALUE=URI;X-ADDRESS=Asbury Ave 901 Asbury Avenue Ocean City NJ 08226 United States;X-APPLE-RADIUS=500;X-TITLE=901 Asbury Avenue:geo:-74.57623,39.27853
END:VEVENT
BEGIN:VEVENT
DTSTART;TZID=America/New_York:20250814T103000
DTEND;TZID=America/New_York:20250814T120000
DTSTAMP:20260420T084047
CREATED:20241031T162556Z
LAST-MODIFIED:20241101T145757Z
UID:10001261-1755167400-1755172800@oceancityvacation.com
SUMMARY:115th Annual Baby Parade
DESCRIPTION:115th Annual Baby Parade One of the oldest baby parades in the country. On the Boardwalk\, 10:30 a.m. Registration begins June 2025. For more information\, visit ocnj.us/babyparade  
URL:https://oceancityvacation.com/events-calendar/115th-annual-baby-parade/
LOCATION:Ocean City Boardwalk\, 825 Boardwalk\, Ocean City\, NJ\, 08226\, United States
CATEGORIES:Events Calendar
ATTACH;FMTTYPE=image/jpeg:https://oceancityvacation.com/wp-content/uploads/2023/11/baby-parade-3-scaled.jpg
GEO:39.2751976;-74.5695462
X-APPLE-STRUCTURED-LOCATION;VALUE=URI;X-ADDRESS=Ocean City Boardwalk 825 Boardwalk Ocean City NJ 08226 United States;X-APPLE-RADIUS=500;X-TITLE=825 Boardwalk:geo:-74.5695462,39.2751976
END:VEVENT
BEGIN:VEVENT
DTSTART;TZID=America/New_York:20250814T103000
DTEND;TZID=America/New_York:20250814T120000
DTSTAMP:20260420T084047
CREATED:20250613T135121Z
LAST-MODIFIED:20250613T135121Z
UID:10001546-1755167400-1755172800@oceancityvacation.com
SUMMARY:115th Annual Baby Parade
DESCRIPTION:115th Annual Baby Parade One of the oldest baby parades in the country. On the Boardwalk\, 10:30 a.m. Registration is open now. For more information\, visit ocnj.us/babyparade  
URL:https://oceancityvacation.com/events-calendar/115th-annual-baby-parade-2/
LOCATION:Ocean City Boardwalk\, 825 Boardwalk\, Ocean City\, NJ\, 08226\, United States
CATEGORIES:Events Calendar
ATTACH;FMTTYPE=image/jpeg:https://oceancityvacation.com/wp-content/uploads/2023/01/Y1A4333-scaled.jpg
GEO:39.2751976;-74.5695462
X-APPLE-STRUCTURED-LOCATION;VALUE=URI;X-ADDRESS=Ocean City Boardwalk 825 Boardwalk Ocean City NJ 08226 United States;X-APPLE-RADIUS=500;X-TITLE=825 Boardwalk:geo:-74.5695462,39.2751976
END:VEVENT
BEGIN:VEVENT
DTSTART;TZID=America/New_York:20250814T140000
DTEND;TZID=America/New_York:20250814T153000
DTSTAMP:20260420T084047
CREATED:20250313T174944Z
LAST-MODIFIED:20250425T161300Z
UID:10001442-1755180000-1755185400@oceancityvacation.com
SUMMARY: Footloose Presented By The OC POPs and OCTC
DESCRIPTION:The iconic movie meets Broadway! When Ren and his mother move from Chicago to a small farming town\, he is prepared for the inevitable adjustment period at his new high school. But he’s not prepared for the rigorous local edicts\, including a ban on dancing instituted by the local preacher\, who is determined to exercise control over the town’s youth. When the reverend’s rebellious daughter sets her sights on Ren\, her roughneck boyfriend tries to sabotage Ren’s reputation\, with many of the locals eager to believe the worst about the new kid. To the rockin’ rhythm of its Oscar and Tony-nominated Top 40 score\, augmented with dynamic new songs\, Footloose celebrates the wisdom of listening to young people while guiding them with a warm heart and open mind. August 5th\, 6th\, 8th\, 12th\, 13th\, and 14 at 7:30; August 7 and 14 at 2:00pm at the Hughes Performing Arts Center. Tickets available at www.ocnj.us/boxoffice.
URL:https://oceancityvacation.com/events-calendar/footloose-presented-by-the-oc-pops-and-octc/2025-08-14/
LOCATION:Hughes Performing Arts Center\, 501 Atlantic Avenue\, Ocean City\, NJ\, 08226\, United States
CATEGORIES:Events Calendar
ATTACH;FMTTYPE=image/jpeg:https://oceancityvacation.com/wp-content/uploads/2025/04/Footloose-Logo-2025.jpeg
GEO:39.2798001;-74.5673819
X-APPLE-STRUCTURED-LOCATION;VALUE=URI;X-ADDRESS=Hughes Performing Arts Center 501 Atlantic Avenue Ocean City NJ 08226 United States;X-APPLE-RADIUS=500;X-TITLE=501 Atlantic Avenue:geo:-74.5673819,39.2798001
END:VEVENT
BEGIN:VEVENT
DTSTART;TZID=America/New_York:20250814T190000
DTEND;TZID=America/New_York:20250814T210000
DTSTAMP:20260420T084047
CREATED:20241101T133118Z
LAST-MODIFIED:20250318T145301Z
UID:10001384-1755198000-1755205200@oceancityvacation.com
SUMMARY:Mummers Nights
DESCRIPTION:Mummers Nights – Strutting 7 p.m. to 9 p.m. on the boardwalk\, 6th Street – 14th Street
URL:https://oceancityvacation.com/events-calendar/mummers-nights-2/2025-08-14/
LOCATION:Ocean City Boardwalk\, 825 Boardwalk\, Ocean City\, NJ\, 08226\, United States
CATEGORIES:Events Calendar
ATTACH;FMTTYPE=image/jpeg:https://oceancityvacation.com/wp-content/uploads/2024/11/MUMMER.jpg
GEO:39.2751976;-74.5695462
X-APPLE-STRUCTURED-LOCATION;VALUE=URI;X-ADDRESS=Ocean City Boardwalk 825 Boardwalk Ocean City NJ 08226 United States;X-APPLE-RADIUS=500;X-TITLE=825 Boardwalk:geo:-74.5695462,39.2751976
END:VEVENT
END:VCALENDAR