BEGIN:VCALENDAR
VERSION:2.0
PRODID:-//Ocean City NJ - ECPv6.15.14//NONSGML v1.0//EN
CALSCALE:GREGORIAN
METHOD:PUBLISH
X-WR-CALNAME:Ocean City NJ
X-ORIGINAL-URL:https://oceancityvacation.com
X-WR-CALDESC:Events for Ocean City NJ
REFRESH-INTERVAL;VALUE=DURATION:PT1H
X-Robots-Tag:noindex
X-PUBLISHED-TTL:PT1H
BEGIN:VTIMEZONE
TZID:America/New_York
BEGIN:DAYLIGHT
TZOFFSETFROM:-0500
TZOFFSETTO:-0400
TZNAME:EDT
DTSTART:20240310T070000
END:DAYLIGHT
BEGIN:STANDARD
TZOFFSETFROM:-0400
TZOFFSETTO:-0500
TZNAME:EST
DTSTART:20241103T060000
END:STANDARD
BEGIN:DAYLIGHT
TZOFFSETFROM:-0500
TZOFFSETTO:-0400
TZNAME:EDT
DTSTART:20250309T070000
END:DAYLIGHT
BEGIN:STANDARD
TZOFFSETFROM:-0400
TZOFFSETTO:-0500
TZNAME:EST
DTSTART:20251102T060000
END:STANDARD
BEGIN:DAYLIGHT
TZOFFSETFROM:-0500
TZOFFSETTO:-0400
TZNAME:EDT
DTSTART:20260308T070000
END:DAYLIGHT
BEGIN:STANDARD
TZOFFSETFROM:-0400
TZOFFSETTO:-0500
TZNAME:EST
DTSTART:20261101T060000
END:STANDARD
END:VTIMEZONE
BEGIN:VEVENT
DTSTART;TZID=America/New_York:20250813T080000
DTEND;TZID=America/New_York:20250813T090000
DTSTAMP:20260420T083909
CREATED:20241031T153053Z
LAST-MODIFIED:20250318T150037Z
UID:10001154-1755072000-1755075600@oceancityvacation.com
SUMMARY:Beach Exercise (Pilates)
DESCRIPTION:Beach Exercise (Pilates) on 6th Street Beach Volleyball Courts. 8 a.m. to 9 a.m. Free! Bring a towel & a friend.  Hosted by the Ocean City Aquatic & Fitness Center.  For more information call (609) 398-6900.
URL:https://oceancityvacation.com/events-calendar/beach-exercise-pilates-3/2025-08-13/
LOCATION:7th St. Beach\, 700 Boardwalk\, Ocean City\, NJ\, 08226\, United States
CATEGORIES:Events Calendar
ATTACH;FMTTYPE=image/jpeg:https://oceancityvacation.com/wp-content/uploads/2024/10/0705c308-be6b-4971-993a-1c195ca453bf.jpg
ORGANIZER;CN="Ocean City Aquatic & Fitness Center":MAILTO:anf@ocnj.us
GEO:39.2770244;-74.566192
X-APPLE-STRUCTURED-LOCATION;VALUE=URI;X-ADDRESS=7th St. Beach 700 Boardwalk Ocean City NJ 08226 United States;X-APPLE-RADIUS=500;X-TITLE=700 Boardwalk:geo:-74.566192,39.2770244
END:VEVENT
BEGIN:VEVENT
DTSTART;TZID=America/New_York:20250813T080000
DTEND;TZID=America/New_York:20250813T120000
DTSTAMP:20260420T083909
CREATED:20241031T142558Z
LAST-MODIFIED:20241101T135114Z
UID:10001026-1755072000-1755086400@oceancityvacation.com
SUMMARY:Farmers Market
DESCRIPTION: Tabernacle Grounds 8 a.m. to 12 p.m. Crafters in the street at 6th & Asbury Ave.
URL:https://oceancityvacation.com/events-calendar/farmers-market-4/2025-08-13/
LOCATION:Ocean City Tabernacle\, 6th & Asbury Ave.\, Ocean City\, NJ
CATEGORIES:Chamber Event,Events Calendar
ATTACH;FMTTYPE=image/jpeg:https://oceancityvacation.com/wp-content/uploads/2023/01/1.4-farmers-market-daily-scaled.jpg
ORGANIZER;CN="Ocean City Regional Chamber of Commerce":MAILTO:info@oceancityvacation.com
GEO:39.256744;-74.605108
X-APPLE-STRUCTURED-LOCATION;VALUE=URI;X-ADDRESS=Ocean City Tabernacle 6th & Asbury Ave. Ocean City NJ;X-APPLE-RADIUS=500;X-TITLE=6th & Asbury Ave.:geo:-74.605108,39.256744
END:VEVENT
BEGIN:VEVENT
DTSTART;TZID=America/New_York:20250813T103000
DTEND;TZID=America/New_York:20250813T113000
DTSTAMP:20260420T083909
CREATED:20241031T162428Z
LAST-MODIFIED:20250425T161725Z
UID:10001260-1755081000-1755084600@oceancityvacation.com
SUMMARY:Wacky Wednesday- (Donut Sculpting)
DESCRIPTION:Wacky Wednesday – (Donut Sculpting) Use your creativity to shape and sculpt a warm and fresh boardwalk donut into your very own unique masterpiece. Contest is free. Limited to 150 participants. Takes place at the Music Pier and must be present at 10:30 a.m. start time to participate. Sponsored by Bob’s Grill\, Brown’s and Oves.
URL:https://oceancityvacation.com/events-calendar/wacky-wednesday-donut-sculpting/
LOCATION:Music Pier\, 825 Boardwalk\, Ocean City\, NJ\, 08226\, United States
CATEGORIES:Events Calendar
ATTACH;FMTTYPE=image/jpeg:https://oceancityvacation.com/wp-content/uploads/2024/10/chamber-logo.jpg
GEO:39.2751976;-74.5695462
X-APPLE-STRUCTURED-LOCATION;VALUE=URI;X-ADDRESS=Music Pier 825 Boardwalk Ocean City NJ 08226 United States;X-APPLE-RADIUS=500;X-TITLE=825 Boardwalk:geo:-74.5695462,39.2751976
END:VEVENT
BEGIN:VEVENT
DTSTART;TZID=America/New_York:20250813T183000
DTEND;TZID=America/New_York:20250813T193000
DTSTAMP:20260420T083909
CREATED:20241031T152833Z
LAST-MODIFIED:20241101T134722Z
UID:10001137-1755109800-1755113400@oceancityvacation.com
SUMMARY:Beach Walks
DESCRIPTION:Beach Walks – 59th St. & Central Ave. (Entrance to Corson’s Park) Wednesdays- 6:30 p.m. 
URL:https://oceancityvacation.com/events-calendar/beach-walks-4/2025-08-13/
LOCATION:59th Street Beach
CATEGORIES:Events Calendar
ATTACH;FMTTYPE=image/jpeg:https://oceancityvacation.com/wp-content/uploads/2023/01/1.4-ocean-city-beach-walkway-scaled.jpg
GEO:39.219781457795;-74.6394003595
END:VEVENT
BEGIN:VEVENT
DTSTART;TZID=America/New_York:20250813T190000
DTEND;TZID=America/New_York:20250813T210000
DTSTAMP:20260420T083909
CREATED:20241031T153248Z
LAST-MODIFIED:20241101T134614Z
UID:10001171-1755111600-1755118800@oceancityvacation.com
SUMMARY:Family Nights
DESCRIPTION:Family Nights Entertainment including jugglers\, music\, characters and more on the boardwalk 7:00 p.m. to 9:00 p.m. between 6th Street – 14th Street.
URL:https://oceancityvacation.com/events-calendar/family-nights-7/2025-08-13/
LOCATION:Ocean City Boardwalk\, 825 Boardwalk\, Ocean City\, NJ\, 08226\, United States
CATEGORIES:Events Calendar
ATTACH;FMTTYPE=image/jpeg:https://oceancityvacation.com/wp-content/uploads/2024/04/princesses-on-boardwalk-scaled.jpg
GEO:39.2751976;-74.5695462
X-APPLE-STRUCTURED-LOCATION;VALUE=URI;X-ADDRESS=Ocean City Boardwalk 825 Boardwalk Ocean City NJ 08226 United States;X-APPLE-RADIUS=500;X-TITLE=825 Boardwalk:geo:-74.5695462,39.2751976
END:VEVENT
BEGIN:VEVENT
DTSTART;TZID=America/New_York:20250813T193000
DTEND;TZID=America/New_York:20250813T210000
DTSTAMP:20260420T083909
CREATED:20250313T174944Z
LAST-MODIFIED:20250425T161300Z
UID:10001440-1755113400-1755118800@oceancityvacation.com
SUMMARY: Footloose Presented By The OC POPs and OCTC
DESCRIPTION:The iconic movie meets Broadway! When Ren and his mother move from Chicago to a small farming town\, he is prepared for the inevitable adjustment period at his new high school. But he’s not prepared for the rigorous local edicts\, including a ban on dancing instituted by the local preacher\, who is determined to exercise control over the town’s youth. When the reverend’s rebellious daughter sets her sights on Ren\, her roughneck boyfriend tries to sabotage Ren’s reputation\, with many of the locals eager to believe the worst about the new kid. To the rockin’ rhythm of its Oscar and Tony-nominated Top 40 score\, augmented with dynamic new songs\, Footloose celebrates the wisdom of listening to young people while guiding them with a warm heart and open mind. August 5th\, 6th\, 8th\, 12th\, 13th\, and 14 at 7:30; August 7 and 14 at 2:00pm at the Hughes Performing Arts Center. Tickets available at www.ocnj.us/boxoffice.
URL:https://oceancityvacation.com/events-calendar/footloose-presented-by-the-oc-pops-and-octc/2025-08-13/
LOCATION:Hughes Performing Arts Center\, 501 Atlantic Avenue\, Ocean City\, NJ\, 08226\, United States
CATEGORIES:Events Calendar
ATTACH;FMTTYPE=image/jpeg:https://oceancityvacation.com/wp-content/uploads/2025/04/Footloose-Logo-2025.jpeg
GEO:39.2798001;-74.5673819
X-APPLE-STRUCTURED-LOCATION;VALUE=URI;X-ADDRESS=Hughes Performing Arts Center 501 Atlantic Avenue Ocean City NJ 08226 United States;X-APPLE-RADIUS=500;X-TITLE=501 Atlantic Avenue:geo:-74.5673819,39.2798001
END:VEVENT
END:VCALENDAR