BEGIN:VCALENDAR
VERSION:2.0
PRODID:-//Ocean City NJ - ECPv6.15.14//NONSGML v1.0//EN
CALSCALE:GREGORIAN
METHOD:PUBLISH
X-ORIGINAL-URL:https://oceancityvacation.com
X-WR-CALDESC:Events for Ocean City NJ
REFRESH-INTERVAL;VALUE=DURATION:PT1H
X-Robots-Tag:noindex
X-PUBLISHED-TTL:PT1H
BEGIN:VTIMEZONE
TZID:America/New_York
BEGIN:DAYLIGHT
TZOFFSETFROM:-0500
TZOFFSETTO:-0400
TZNAME:EDT
DTSTART:20240310T070000
END:DAYLIGHT
BEGIN:STANDARD
TZOFFSETFROM:-0400
TZOFFSETTO:-0500
TZNAME:EST
DTSTART:20241103T060000
END:STANDARD
BEGIN:DAYLIGHT
TZOFFSETFROM:-0500
TZOFFSETTO:-0400
TZNAME:EDT
DTSTART:20250309T070000
END:DAYLIGHT
BEGIN:STANDARD
TZOFFSETFROM:-0400
TZOFFSETTO:-0500
TZNAME:EST
DTSTART:20251102T060000
END:STANDARD
BEGIN:DAYLIGHT
TZOFFSETFROM:-0500
TZOFFSETTO:-0400
TZNAME:EDT
DTSTART:20260308T070000
END:DAYLIGHT
BEGIN:STANDARD
TZOFFSETFROM:-0400
TZOFFSETTO:-0500
TZNAME:EST
DTSTART:20261101T060000
END:STANDARD
END:VTIMEZONE
BEGIN:VEVENT
DTSTART;TZID=America/New_York:20250809T090000
DTEND;TZID=America/New_York:20250809T130000
DTSTAMP:20260420T100937
CREATED:20241031T162011Z
LAST-MODIFIED:20241104T200120Z
UID:10001257-1754730000-1754744400@oceancityvacation.com
SUMMARY:Boys and Girls Fishing Tournament
DESCRIPTION:Boys and Girls Fishing Tournament Free entry for all ages 8-16.  All participants receive a prize.  North-End beach by the Longport Bridge.  Sign-ups begin at 9:00 AM and parent signature needed that day.  Sponsored by Ocean City Fishing Club and City of Ocean City.
URL:https://oceancityvacation.com/events-calendar/boys-and-girls-fishing-tournament-4/
LOCATION:North End Beach at OC\, 1210 Gardens Parkway\, Ocean City\, NJ\, 08226\, United States
CATEGORIES:Events Calendar
ATTACH;FMTTYPE=image/jpeg:https://oceancityvacation.com/wp-content/uploads/2023/11/fishing-contest.jpeg
GEO:39.2972404;-74.5567867
X-APPLE-STRUCTURED-LOCATION;VALUE=URI;X-ADDRESS=North End Beach at OC 1210 Gardens Parkway Ocean City NJ 08226 United States;X-APPLE-RADIUS=500;X-TITLE=1210 Gardens Parkway:geo:-74.5567867,39.2972404
END:VEVENT
BEGIN:VEVENT
DTSTART;TZID=America/New_York:20250809T190000
DTEND;TZID=America/New_York:20250809T210000
DTSTAMP:20260420T100937
CREATED:20241031T162142Z
LAST-MODIFIED:20241101T145249Z
UID:10001258-1754766000-1754773200@oceancityvacation.com
SUMMARY:Miss Ocean City Pageant
DESCRIPTION:Miss Ocean City Pageant 7:00 p.m. at the Music Pier. Miss Ocean City 2025 Taylor Mulford will be on hand as contestants compete in interview\, talent\, swimsuit\, evening gown and onstage question. 
URL:https://oceancityvacation.com/events-calendar/miss-ocean-city-pageant-3/
LOCATION:Music Pier\, 825 Boardwalk\, Ocean City\, NJ\, 08226\, United States
CATEGORIES:Events Calendar
ATTACH;FMTTYPE=image/jpeg:https://oceancityvacation.com/wp-content/uploads/2024/10/taylor-mulford.jpg
GEO:39.2751976;-74.5695462
X-APPLE-STRUCTURED-LOCATION;VALUE=URI;X-ADDRESS=Music Pier 825 Boardwalk Ocean City NJ 08226 United States;X-APPLE-RADIUS=500;X-TITLE=825 Boardwalk:geo:-74.5695462,39.2751976
END:VEVENT
END:VCALENDAR