BEGIN:VCALENDAR
VERSION:2.0
PRODID:-//Ocean City NJ - ECPv6.15.14//NONSGML v1.0//EN
CALSCALE:GREGORIAN
METHOD:PUBLISH
X-ORIGINAL-URL:https://oceancityvacation.com
X-WR-CALDESC:Events for Ocean City NJ
REFRESH-INTERVAL;VALUE=DURATION:PT1H
X-Robots-Tag:noindex
X-PUBLISHED-TTL:PT1H
BEGIN:VTIMEZONE
TZID:America/New_York
BEGIN:DAYLIGHT
TZOFFSETFROM:-0500
TZOFFSETTO:-0400
TZNAME:EDT
DTSTART:20240310T070000
END:DAYLIGHT
BEGIN:STANDARD
TZOFFSETFROM:-0400
TZOFFSETTO:-0500
TZNAME:EST
DTSTART:20241103T060000
END:STANDARD
BEGIN:DAYLIGHT
TZOFFSETFROM:-0500
TZOFFSETTO:-0400
TZNAME:EDT
DTSTART:20250309T070000
END:DAYLIGHT
BEGIN:STANDARD
TZOFFSETFROM:-0400
TZOFFSETTO:-0500
TZNAME:EST
DTSTART:20251102T060000
END:STANDARD
BEGIN:DAYLIGHT
TZOFFSETFROM:-0500
TZOFFSETTO:-0400
TZNAME:EDT
DTSTART:20260308T070000
END:DAYLIGHT
BEGIN:STANDARD
TZOFFSETFROM:-0400
TZOFFSETTO:-0500
TZNAME:EST
DTSTART:20261101T060000
END:STANDARD
END:VTIMEZONE
BEGIN:VEVENT
DTSTART;TZID=America/New_York:20250807T090000
DTEND;TZID=America/New_York:20250807T113000
DTSTAMP:20260420T084048
CREATED:20241031T154338Z
LAST-MODIFIED:20241031T154354Z
UID:10001231-1754557200-1754566200@oceancityvacation.com
SUMMARY:Sand Sculpting Contest
DESCRIPTION:Sand Sculpting Contest Open to kids\, teens\, adults and families! Registration is free and begins at 9 a.m. at the 6th St. Beach. Judging takes place by 11 a.m.
URL:https://oceancityvacation.com/events-calendar/sand-sculpting-contest-3/2025-08-07/
LOCATION:7th St. Beach\, 700 Boardwalk\, Ocean City\, NJ\, 08226\, United States
CATEGORIES:Events Calendar
ATTACH;FMTTYPE=image/jpeg:https://oceancityvacation.com/wp-content/uploads/2023/01/sandsculpting-scaled.jpg
GEO:39.2770244;-74.566192
X-APPLE-STRUCTURED-LOCATION;VALUE=URI;X-ADDRESS=7th St. Beach 700 Boardwalk Ocean City NJ 08226 United States;X-APPLE-RADIUS=500;X-TITLE=700 Boardwalk:geo:-74.566192,39.2770244
END:VEVENT
BEGIN:VEVENT
DTSTART;TZID=America/New_York:20250807T100000
DTEND;TZID=America/New_York:20250807T130000
DTSTAMP:20260420T084048
CREATED:20241031T153648Z
LAST-MODIFIED:20241101T135036Z
UID:10001187-1754560800-1754571600@oceancityvacation.com
SUMMARY:Market Days
DESCRIPTION:Market Days 10 a.m. to 1 p.m. – Asbury Avenue. Entertainment\, face painters\, balloon sculptors.
URL:https://oceancityvacation.com/events-calendar/market-days-3/2025-08-07/
LOCATION:Asbury Ave\, 901 Asbury Avenue\, Ocean City\, NJ\, 08226\, United States
CATEGORIES:Events Calendar
ATTACH;FMTTYPE=image/jpeg:https://oceancityvacation.com/wp-content/uploads/2023/01/market-day.jpg
GEO:39.27853;-74.57623
X-APPLE-STRUCTURED-LOCATION;VALUE=URI;X-ADDRESS=Asbury Ave 901 Asbury Avenue Ocean City NJ 08226 United States;X-APPLE-RADIUS=500;X-TITLE=901 Asbury Avenue:geo:-74.57623,39.27853
END:VEVENT
BEGIN:VEVENT
DTSTART;TZID=America/New_York:20250807T140000
DTEND;TZID=America/New_York:20250807T153000
DTSTAMP:20260420T084048
CREATED:20250313T174944Z
LAST-MODIFIED:20250425T161300Z
UID:10001441-1754575200-1754580600@oceancityvacation.com
SUMMARY: Footloose Presented By The OC POPs and OCTC
DESCRIPTION:The iconic movie meets Broadway! When Ren and his mother move from Chicago to a small farming town\, he is prepared for the inevitable adjustment period at his new high school. But he’s not prepared for the rigorous local edicts\, including a ban on dancing instituted by the local preacher\, who is determined to exercise control over the town’s youth. When the reverend’s rebellious daughter sets her sights on Ren\, her roughneck boyfriend tries to sabotage Ren’s reputation\, with many of the locals eager to believe the worst about the new kid. To the rockin’ rhythm of its Oscar and Tony-nominated Top 40 score\, augmented with dynamic new songs\, Footloose celebrates the wisdom of listening to young people while guiding them with a warm heart and open mind. August 5th\, 6th\, 8th\, 12th\, 13th\, and 14 at 7:30; August 7 and 14 at 2:00pm at the Hughes Performing Arts Center. Tickets available at www.ocnj.us/boxoffice.
URL:https://oceancityvacation.com/events-calendar/footloose-presented-by-the-oc-pops-and-octc/2025-08-07/
LOCATION:Hughes Performing Arts Center\, 501 Atlantic Avenue\, Ocean City\, NJ\, 08226\, United States
CATEGORIES:Events Calendar
ATTACH;FMTTYPE=image/jpeg:https://oceancityvacation.com/wp-content/uploads/2025/04/Footloose-Logo-2025.jpeg
GEO:39.2798001;-74.5673819
X-APPLE-STRUCTURED-LOCATION;VALUE=URI;X-ADDRESS=Hughes Performing Arts Center 501 Atlantic Avenue Ocean City NJ 08226 United States;X-APPLE-RADIUS=500;X-TITLE=501 Atlantic Avenue:geo:-74.5673819,39.2798001
END:VEVENT
BEGIN:VEVENT
DTSTART;TZID=America/New_York:20250807T180000
DTEND;TZID=America/New_York:20250807T200000
DTSTAMP:20260420T084048
CREATED:20250326T154016Z
LAST-MODIFIED:20250326T154016Z
UID:10001458-1754589600-1754596800@oceancityvacation.com
SUMMARY:Ocean City Fishing Pier Open House
DESCRIPTION:Ocean City Fishing Pier Open House – 6:00pm – 8:00pm. The Ocean City Fishing Club is inviting shutterbugs and other visitors to tour its pier and clubhouse at 14th St. & Boardwalk. Visitors will also be able to make an optional monetary donation or canned goods donation to support the Ocean City Food Cupboard. This is one of two days a year when the Pier is open to non-members\, weather permitting. Rain date August 8th.
URL:https://oceancityvacation.com/events-calendar/ocean-city-fishing-pier-open-house-6/
LOCATION:Ocean City Boardwalk\, 825 Boardwalk\, Ocean City\, NJ\, 08226\, United States
CATEGORIES:Events Calendar
ATTACH;FMTTYPE=image/jpeg:https://oceancityvacation.com/wp-content/uploads/2023/04/1.4-Fishing-Pier-Exterior-scaled.jpg
GEO:39.2751976;-74.5695462
X-APPLE-STRUCTURED-LOCATION;VALUE=URI;X-ADDRESS=Ocean City Boardwalk 825 Boardwalk Ocean City NJ 08226 United States;X-APPLE-RADIUS=500;X-TITLE=825 Boardwalk:geo:-74.5695462,39.2751976
END:VEVENT
BEGIN:VEVENT
DTSTART;TZID=America/New_York:20250807T190000
DTEND;TZID=America/New_York:20250807T210000
DTSTAMP:20260420T084048
CREATED:20241101T133118Z
LAST-MODIFIED:20250318T145301Z
UID:10001383-1754593200-1754600400@oceancityvacation.com
SUMMARY:Mummers Nights
DESCRIPTION:Mummers Nights – Strutting 7 p.m. to 9 p.m. on the boardwalk\, 6th Street – 14th Street
URL:https://oceancityvacation.com/events-calendar/mummers-nights-2/2025-08-07/
LOCATION:Ocean City Boardwalk\, 825 Boardwalk\, Ocean City\, NJ\, 08226\, United States
CATEGORIES:Events Calendar
ATTACH;FMTTYPE=image/jpeg:https://oceancityvacation.com/wp-content/uploads/2024/11/MUMMER.jpg
GEO:39.2751976;-74.5695462
X-APPLE-STRUCTURED-LOCATION;VALUE=URI;X-ADDRESS=Ocean City Boardwalk 825 Boardwalk Ocean City NJ 08226 United States;X-APPLE-RADIUS=500;X-TITLE=825 Boardwalk:geo:-74.5695462,39.2751976
END:VEVENT
END:VCALENDAR