BEGIN:VCALENDAR
VERSION:2.0
PRODID:-//Ocean City NJ - ECPv6.15.14//NONSGML v1.0//EN
CALSCALE:GREGORIAN
METHOD:PUBLISH
X-ORIGINAL-URL:https://oceancityvacation.com
X-WR-CALDESC:Events for Ocean City NJ
REFRESH-INTERVAL;VALUE=DURATION:PT1H
X-Robots-Tag:noindex
X-PUBLISHED-TTL:PT1H
BEGIN:VTIMEZONE
TZID:America/New_York
BEGIN:DAYLIGHT
TZOFFSETFROM:-0500
TZOFFSETTO:-0400
TZNAME:EDT
DTSTART:20240310T070000
END:DAYLIGHT
BEGIN:STANDARD
TZOFFSETFROM:-0400
TZOFFSETTO:-0500
TZNAME:EST
DTSTART:20241103T060000
END:STANDARD
BEGIN:DAYLIGHT
TZOFFSETFROM:-0500
TZOFFSETTO:-0400
TZNAME:EDT
DTSTART:20250309T070000
END:DAYLIGHT
BEGIN:STANDARD
TZOFFSETFROM:-0400
TZOFFSETTO:-0500
TZNAME:EST
DTSTART:20251102T060000
END:STANDARD
BEGIN:DAYLIGHT
TZOFFSETFROM:-0500
TZOFFSETTO:-0400
TZNAME:EDT
DTSTART:20260308T070000
END:DAYLIGHT
BEGIN:STANDARD
TZOFFSETFROM:-0400
TZOFFSETTO:-0500
TZNAME:EST
DTSTART:20261101T060000
END:STANDARD
END:VTIMEZONE
BEGIN:VEVENT
DTSTART;TZID=America/New_York:20250801T080000
DTEND;TZID=America/New_York:20250801T090000
DTSTAMP:20260420T084048
CREATED:20241031T153947Z
LAST-MODIFIED:20250318T150005Z
UID:10001221-1754035200-1754038800@oceancityvacation.com
SUMMARY:Beach Exercise (Low Impact)
DESCRIPTION:Beach Exercise (Low Impact) on 6th Street Beach Volleyball Courts.  8 a.m. to 9 a.m. Free! Bring a towel & a friend.  Hosted by the Ocean City Aquatic & Fitness Center.  For more information call (609) 398-6900.
URL:https://oceancityvacation.com/events-calendar/beach-exercise-low-impact-3/2025-08-01/
LOCATION:7th St. Beach\, 700 Boardwalk\, Ocean City\, NJ\, 08226\, United States
CATEGORIES:Events Calendar
ATTACH;FMTTYPE=image/jpeg:https://oceancityvacation.com/wp-content/uploads/2024/10/0705c308-be6b-4971-993a-1c195ca453bf.jpg
GEO:39.2770244;-74.566192
X-APPLE-STRUCTURED-LOCATION;VALUE=URI;X-ADDRESS=7th St. Beach 700 Boardwalk Ocean City NJ 08226 United States;X-APPLE-RADIUS=500;X-TITLE=700 Boardwalk:geo:-74.566192,39.2770244
END:VEVENT
BEGIN:VEVENT
DTSTART;TZID=America/New_York:20250801T080000
DTEND;TZID=America/New_York:20250801T100000
DTSTAMP:20260420T084048
CREATED:20250502T172353Z
LAST-MODIFIED:20250522T150629Z
UID:10001477-1754035200-1754042400@oceancityvacation.com
SUMMARY:Walking Club
DESCRIPTION:Walking Club People of all ages and fitness levels are encouraged to meet outside the Ocean City Music Pier at 8 a.m. (weather permitting) to walk the length of the Boardwalk.
URL:https://oceancityvacation.com/events-calendar/walking-club/2025-08-01/
LOCATION:Music Pier\, 825 Boardwalk\, Ocean City\, NJ\, 08226\, United States
CATEGORIES:Events Calendar
ATTACH;FMTTYPE=image/jpeg:https://oceancityvacation.com/wp-content/uploads/2024/10/chamber-logo.jpg
GEO:39.2751976;-74.5695462
X-APPLE-STRUCTURED-LOCATION;VALUE=URI;X-ADDRESS=Music Pier 825 Boardwalk Ocean City NJ 08226 United States;X-APPLE-RADIUS=500;X-TITLE=825 Boardwalk:geo:-74.5695462,39.2751976
END:VEVENT
BEGIN:VEVENT
DTSTART;TZID=America/New_York:20250801T100000
DTEND;TZID=America/New_York:20250801T200000
DTSTAMP:20260420T084048
CREATED:20241031T160501Z
LAST-MODIFIED:20250318T144023Z
UID:10001396-1754042400-1754078400@oceancityvacation.com
SUMMARY:The 24th Annual Art of Surfing
DESCRIPTION:The 24th Annual Art of Surfing at the Ocean City Music Pier. It is a free family event featuring original art from surfing’s biggest names\, live music\, and a chance to meet artists from across the country.
URL:https://oceancityvacation.com/events-calendar/the-24th-annual-art-of-surfing/2025-08-01/
LOCATION:Music Pier\, 825 Boardwalk\, Ocean City\, NJ\, 08226\, United States
CATEGORIES:Events Calendar
ATTACH;FMTTYPE=image/jpeg:https://oceancityvacation.com/wp-content/uploads/2023/01/art-of-surfing.jpg
GEO:39.2751976;-74.5695462
X-APPLE-STRUCTURED-LOCATION;VALUE=URI;X-ADDRESS=Music Pier 825 Boardwalk Ocean City NJ 08226 United States;X-APPLE-RADIUS=500;X-TITLE=825 Boardwalk:geo:-74.5695462,39.2751976
END:VEVENT
BEGIN:VEVENT
DTSTART;TZID=America/New_York:20250801T100000
DTEND;TZID=America/New_York:20250801T200000
DTSTAMP:20260420T084048
CREATED:20241031T161136Z
LAST-MODIFIED:20241101T144925Z
UID:10001252-1754042400-1754078400@oceancityvacation.com
SUMMARY:62nd Annual Boardwalk Art Show
DESCRIPTION:62nd Annual Boardwalk Art Show Leading artists from throughout the East Coast exhibit and sell their work. Friday & Saturday 10:00 a.m. to 8:00 p.m.\, Sunday 10:00 a.m. to 6:00 p.m.
URL:https://oceancityvacation.com/events-calendar/61st-annual-boardwalk-art-show-2/2025-08-01/
LOCATION:Ocean City Boardwalk\, 825 Boardwalk\, Ocean City\, NJ\, 08226\, United States
CATEGORIES:Events Calendar
ATTACH;FMTTYPE=image/jpeg:https://oceancityvacation.com/wp-content/uploads/2023/11/boardwalk-art-show-winner-rotated.jpg
GEO:39.2751976;-74.5695462
X-APPLE-STRUCTURED-LOCATION;VALUE=URI;X-ADDRESS=Ocean City Boardwalk 825 Boardwalk Ocean City NJ 08226 United States;X-APPLE-RADIUS=500;X-TITLE=825 Boardwalk:geo:-74.5695462,39.2751976
END:VEVENT
END:VCALENDAR