BEGIN:VCALENDAR
VERSION:2.0
PRODID:-//Ocean City NJ - ECPv6.15.14//NONSGML v1.0//EN
CALSCALE:GREGORIAN
METHOD:PUBLISH
X-WR-CALNAME:Ocean City NJ
X-ORIGINAL-URL:https://oceancityvacation.com
X-WR-CALDESC:Events for Ocean City NJ
REFRESH-INTERVAL;VALUE=DURATION:PT1H
X-Robots-Tag:noindex
X-PUBLISHED-TTL:PT1H
BEGIN:VTIMEZONE
TZID:America/New_York
BEGIN:DAYLIGHT
TZOFFSETFROM:-0500
TZOFFSETTO:-0400
TZNAME:EDT
DTSTART:20250309T070000
END:DAYLIGHT
BEGIN:STANDARD
TZOFFSETFROM:-0400
TZOFFSETTO:-0500
TZNAME:EST
DTSTART:20251102T060000
END:STANDARD
BEGIN:DAYLIGHT
TZOFFSETFROM:-0500
TZOFFSETTO:-0400
TZNAME:EDT
DTSTART:20260308T070000
END:DAYLIGHT
BEGIN:STANDARD
TZOFFSETFROM:-0400
TZOFFSETTO:-0500
TZNAME:EST
DTSTART:20261101T060000
END:STANDARD
BEGIN:DAYLIGHT
TZOFFSETFROM:-0500
TZOFFSETTO:-0400
TZNAME:EDT
DTSTART:20270314T070000
END:DAYLIGHT
BEGIN:STANDARD
TZOFFSETFROM:-0400
TZOFFSETTO:-0500
TZNAME:EST
DTSTART:20271107T060000
END:STANDARD
END:VTIMEZONE
BEGIN:VEVENT
DTSTART;TZID=America/New_York:20260610T080000
DTEND;TZID=America/New_York:20260610T120000
DTSTAMP:20260421T014821
CREATED:20251030T184116Z
LAST-MODIFIED:20260116T193628Z
UID:10001608-1781078400-1781092800@oceancityvacation.com
SUMMARY:Farmers Market
DESCRIPTION:Farmers Market – Tabernacle Grounds 8:00 a.m. to 12:00 p.m. Crafters in the street at 5th & Asbury Ave.
URL:https://oceancityvacation.com/events-calendar/farmers-market-5/2026-06-10/
LOCATION:Ocean City Tabernacle\, 6th & Asbury Ave.\, Ocean City\, NJ
CATEGORIES:Chamber Event,Events Calendar
ATTACH;FMTTYPE=image/jpeg:https://oceancityvacation.com/wp-content/uploads/2023/06/Farmers-Market-2-scaled.jpg
ORGANIZER;CN="Ocean City Regional Chamber of Commerce":MAILTO:info@oceancityvacation.com
GEO:39.256744;-74.605108
X-APPLE-STRUCTURED-LOCATION;VALUE=URI;X-ADDRESS=Ocean City Tabernacle 6th & Asbury Ave. Ocean City NJ;X-APPLE-RADIUS=500;X-TITLE=6th & Asbury Ave.:geo:-74.605108,39.256744
END:VEVENT
BEGIN:VEVENT
DTSTART;TZID=America/New_York:20260617T080000
DTEND;TZID=America/New_York:20260617T120000
DTSTAMP:20260421T014821
CREATED:20251030T184116Z
LAST-MODIFIED:20260116T193628Z
UID:10001609-1781683200-1781697600@oceancityvacation.com
SUMMARY:Farmers Market
DESCRIPTION:Farmers Market – Tabernacle Grounds 8:00 a.m. to 12:00 p.m. Crafters in the street at 5th & Asbury Ave.
URL:https://oceancityvacation.com/events-calendar/farmers-market-5/2026-06-17/
LOCATION:Ocean City Tabernacle\, 6th & Asbury Ave.\, Ocean City\, NJ
CATEGORIES:Chamber Event,Events Calendar
ATTACH;FMTTYPE=image/jpeg:https://oceancityvacation.com/wp-content/uploads/2023/06/Farmers-Market-2-scaled.jpg
ORGANIZER;CN="Ocean City Regional Chamber of Commerce":MAILTO:info@oceancityvacation.com
GEO:39.256744;-74.605108
X-APPLE-STRUCTURED-LOCATION;VALUE=URI;X-ADDRESS=Ocean City Tabernacle 6th & Asbury Ave. Ocean City NJ;X-APPLE-RADIUS=500;X-TITLE=6th & Asbury Ave.:geo:-74.605108,39.256744
END:VEVENT
BEGIN:VEVENT
DTSTART;TZID=America/New_York:20260624T080000
DTEND;TZID=America/New_York:20260624T120000
DTSTAMP:20260421T014821
CREATED:20251030T184116Z
LAST-MODIFIED:20260116T193628Z
UID:10001610-1782288000-1782302400@oceancityvacation.com
SUMMARY:Farmers Market
DESCRIPTION:Farmers Market – Tabernacle Grounds 8:00 a.m. to 12:00 p.m. Crafters in the street at 5th & Asbury Ave.
URL:https://oceancityvacation.com/events-calendar/farmers-market-5/2026-06-24/
LOCATION:Ocean City Tabernacle\, 6th & Asbury Ave.\, Ocean City\, NJ
CATEGORIES:Chamber Event,Events Calendar
ATTACH;FMTTYPE=image/jpeg:https://oceancityvacation.com/wp-content/uploads/2023/06/Farmers-Market-2-scaled.jpg
ORGANIZER;CN="Ocean City Regional Chamber of Commerce":MAILTO:info@oceancityvacation.com
GEO:39.256744;-74.605108
X-APPLE-STRUCTURED-LOCATION;VALUE=URI;X-ADDRESS=Ocean City Tabernacle 6th & Asbury Ave. Ocean City NJ;X-APPLE-RADIUS=500;X-TITLE=6th & Asbury Ave.:geo:-74.605108,39.256744
END:VEVENT
BEGIN:VEVENT
DTSTART;TZID=America/New_York:20260701T080000
DTEND;TZID=America/New_York:20260701T120000
DTSTAMP:20260421T014821
CREATED:20251030T184116Z
LAST-MODIFIED:20260116T193628Z
UID:10001611-1782892800-1782907200@oceancityvacation.com
SUMMARY:Farmers Market
DESCRIPTION:Farmers Market – Tabernacle Grounds 8:00 a.m. to 12:00 p.m. Crafters in the street at 5th & Asbury Ave.
URL:https://oceancityvacation.com/events-calendar/farmers-market-5/2026-07-01/
LOCATION:Ocean City Tabernacle\, 6th & Asbury Ave.\, Ocean City\, NJ
CATEGORIES:Chamber Event,Events Calendar
ATTACH;FMTTYPE=image/jpeg:https://oceancityvacation.com/wp-content/uploads/2023/06/Farmers-Market-2-scaled.jpg
ORGANIZER;CN="Ocean City Regional Chamber of Commerce":MAILTO:info@oceancityvacation.com
GEO:39.256744;-74.605108
X-APPLE-STRUCTURED-LOCATION;VALUE=URI;X-ADDRESS=Ocean City Tabernacle 6th & Asbury Ave. Ocean City NJ;X-APPLE-RADIUS=500;X-TITLE=6th & Asbury Ave.:geo:-74.605108,39.256744
END:VEVENT
BEGIN:VEVENT
DTSTART;TZID=America/New_York:20260708T080000
DTEND;TZID=America/New_York:20260708T120000
DTSTAMP:20260421T014821
CREATED:20251030T184116Z
LAST-MODIFIED:20260116T193628Z
UID:10001612-1783497600-1783512000@oceancityvacation.com
SUMMARY:Farmers Market
DESCRIPTION:Farmers Market – Tabernacle Grounds 8:00 a.m. to 12:00 p.m. Crafters in the street at 5th & Asbury Ave.
URL:https://oceancityvacation.com/events-calendar/farmers-market-5/2026-07-08/
LOCATION:Ocean City Tabernacle\, 6th & Asbury Ave.\, Ocean City\, NJ
CATEGORIES:Chamber Event,Events Calendar
ATTACH;FMTTYPE=image/jpeg:https://oceancityvacation.com/wp-content/uploads/2023/06/Farmers-Market-2-scaled.jpg
ORGANIZER;CN="Ocean City Regional Chamber of Commerce":MAILTO:info@oceancityvacation.com
GEO:39.256744;-74.605108
X-APPLE-STRUCTURED-LOCATION;VALUE=URI;X-ADDRESS=Ocean City Tabernacle 6th & Asbury Ave. Ocean City NJ;X-APPLE-RADIUS=500;X-TITLE=6th & Asbury Ave.:geo:-74.605108,39.256744
END:VEVENT
BEGIN:VEVENT
DTSTART;TZID=America/New_York:20260715T080000
DTEND;TZID=America/New_York:20260715T120000
DTSTAMP:20260421T014821
CREATED:20251030T184116Z
LAST-MODIFIED:20260116T193628Z
UID:10001613-1784102400-1784116800@oceancityvacation.com
SUMMARY:Farmers Market
DESCRIPTION:Farmers Market – Tabernacle Grounds 8:00 a.m. to 12:00 p.m. Crafters in the street at 5th & Asbury Ave.
URL:https://oceancityvacation.com/events-calendar/farmers-market-5/2026-07-15/
LOCATION:Ocean City Tabernacle\, 6th & Asbury Ave.\, Ocean City\, NJ
CATEGORIES:Chamber Event,Events Calendar
ATTACH;FMTTYPE=image/jpeg:https://oceancityvacation.com/wp-content/uploads/2023/06/Farmers-Market-2-scaled.jpg
ORGANIZER;CN="Ocean City Regional Chamber of Commerce":MAILTO:info@oceancityvacation.com
GEO:39.256744;-74.605108
X-APPLE-STRUCTURED-LOCATION;VALUE=URI;X-ADDRESS=Ocean City Tabernacle 6th & Asbury Ave. Ocean City NJ;X-APPLE-RADIUS=500;X-TITLE=6th & Asbury Ave.:geo:-74.605108,39.256744
END:VEVENT
BEGIN:VEVENT
DTSTART;TZID=America/New_York:20260722T080000
DTEND;TZID=America/New_York:20260722T120000
DTSTAMP:20260421T014821
CREATED:20251030T184116Z
LAST-MODIFIED:20260116T193628Z
UID:10001614-1784707200-1784721600@oceancityvacation.com
SUMMARY:Farmers Market
DESCRIPTION:Farmers Market – Tabernacle Grounds 8:00 a.m. to 12:00 p.m. Crafters in the street at 5th & Asbury Ave.
URL:https://oceancityvacation.com/events-calendar/farmers-market-5/2026-07-22/
LOCATION:Ocean City Tabernacle\, 6th & Asbury Ave.\, Ocean City\, NJ
CATEGORIES:Chamber Event,Events Calendar
ATTACH;FMTTYPE=image/jpeg:https://oceancityvacation.com/wp-content/uploads/2023/06/Farmers-Market-2-scaled.jpg
ORGANIZER;CN="Ocean City Regional Chamber of Commerce":MAILTO:info@oceancityvacation.com
GEO:39.256744;-74.605108
X-APPLE-STRUCTURED-LOCATION;VALUE=URI;X-ADDRESS=Ocean City Tabernacle 6th & Asbury Ave. Ocean City NJ;X-APPLE-RADIUS=500;X-TITLE=6th & Asbury Ave.:geo:-74.605108,39.256744
END:VEVENT
BEGIN:VEVENT
DTSTART;TZID=America/New_York:20260729T080000
DTEND;TZID=America/New_York:20260729T120000
DTSTAMP:20260421T014821
CREATED:20251030T184116Z
LAST-MODIFIED:20260116T193628Z
UID:10001615-1785312000-1785326400@oceancityvacation.com
SUMMARY:Farmers Market
DESCRIPTION:Farmers Market – Tabernacle Grounds 8:00 a.m. to 12:00 p.m. Crafters in the street at 5th & Asbury Ave.
URL:https://oceancityvacation.com/events-calendar/farmers-market-5/2026-07-29/
LOCATION:Ocean City Tabernacle\, 6th & Asbury Ave.\, Ocean City\, NJ
CATEGORIES:Chamber Event,Events Calendar
ATTACH;FMTTYPE=image/jpeg:https://oceancityvacation.com/wp-content/uploads/2023/06/Farmers-Market-2-scaled.jpg
ORGANIZER;CN="Ocean City Regional Chamber of Commerce":MAILTO:info@oceancityvacation.com
GEO:39.256744;-74.605108
X-APPLE-STRUCTURED-LOCATION;VALUE=URI;X-ADDRESS=Ocean City Tabernacle 6th & Asbury Ave. Ocean City NJ;X-APPLE-RADIUS=500;X-TITLE=6th & Asbury Ave.:geo:-74.605108,39.256744
END:VEVENT
BEGIN:VEVENT
DTSTART;TZID=America/New_York:20260805T080000
DTEND;TZID=America/New_York:20260805T120000
DTSTAMP:20260421T014821
CREATED:20251030T184116Z
LAST-MODIFIED:20260116T193628Z
UID:10001616-1785916800-1785931200@oceancityvacation.com
SUMMARY:Farmers Market
DESCRIPTION:Farmers Market – Tabernacle Grounds 8:00 a.m. to 12:00 p.m. Crafters in the street at 5th & Asbury Ave.
URL:https://oceancityvacation.com/events-calendar/farmers-market-5/2026-08-05/
LOCATION:Ocean City Tabernacle\, 6th & Asbury Ave.\, Ocean City\, NJ
CATEGORIES:Chamber Event,Events Calendar
ATTACH;FMTTYPE=image/jpeg:https://oceancityvacation.com/wp-content/uploads/2023/06/Farmers-Market-2-scaled.jpg
ORGANIZER;CN="Ocean City Regional Chamber of Commerce":MAILTO:info@oceancityvacation.com
GEO:39.256744;-74.605108
X-APPLE-STRUCTURED-LOCATION;VALUE=URI;X-ADDRESS=Ocean City Tabernacle 6th & Asbury Ave. Ocean City NJ;X-APPLE-RADIUS=500;X-TITLE=6th & Asbury Ave.:geo:-74.605108,39.256744
END:VEVENT
BEGIN:VEVENT
DTSTART;TZID=America/New_York:20260812T080000
DTEND;TZID=America/New_York:20260812T120000
DTSTAMP:20260421T014821
CREATED:20251030T184116Z
LAST-MODIFIED:20260116T193628Z
UID:10001617-1786521600-1786536000@oceancityvacation.com
SUMMARY:Farmers Market
DESCRIPTION:Farmers Market – Tabernacle Grounds 8:00 a.m. to 12:00 p.m. Crafters in the street at 5th & Asbury Ave.
URL:https://oceancityvacation.com/events-calendar/farmers-market-5/2026-08-12/
LOCATION:Ocean City Tabernacle\, 6th & Asbury Ave.\, Ocean City\, NJ
CATEGORIES:Chamber Event,Events Calendar
ATTACH;FMTTYPE=image/jpeg:https://oceancityvacation.com/wp-content/uploads/2023/06/Farmers-Market-2-scaled.jpg
ORGANIZER;CN="Ocean City Regional Chamber of Commerce":MAILTO:info@oceancityvacation.com
GEO:39.256744;-74.605108
X-APPLE-STRUCTURED-LOCATION;VALUE=URI;X-ADDRESS=Ocean City Tabernacle 6th & Asbury Ave. Ocean City NJ;X-APPLE-RADIUS=500;X-TITLE=6th & Asbury Ave.:geo:-74.605108,39.256744
END:VEVENT
BEGIN:VEVENT
DTSTART;TZID=America/New_York:20260819T080000
DTEND;TZID=America/New_York:20260819T120000
DTSTAMP:20260421T014821
CREATED:20251030T184116Z
LAST-MODIFIED:20260116T193628Z
UID:10001618-1787126400-1787140800@oceancityvacation.com
SUMMARY:Farmers Market
DESCRIPTION:Farmers Market – Tabernacle Grounds 8:00 a.m. to 12:00 p.m. Crafters in the street at 5th & Asbury Ave.
URL:https://oceancityvacation.com/events-calendar/farmers-market-5/2026-08-19/
LOCATION:Ocean City Tabernacle\, 6th & Asbury Ave.\, Ocean City\, NJ
CATEGORIES:Chamber Event,Events Calendar
ATTACH;FMTTYPE=image/jpeg:https://oceancityvacation.com/wp-content/uploads/2023/06/Farmers-Market-2-scaled.jpg
ORGANIZER;CN="Ocean City Regional Chamber of Commerce":MAILTO:info@oceancityvacation.com
GEO:39.256744;-74.605108
X-APPLE-STRUCTURED-LOCATION;VALUE=URI;X-ADDRESS=Ocean City Tabernacle 6th & Asbury Ave. Ocean City NJ;X-APPLE-RADIUS=500;X-TITLE=6th & Asbury Ave.:geo:-74.605108,39.256744
END:VEVENT
BEGIN:VEVENT
DTSTART;TZID=America/New_York:20260826T080000
DTEND;TZID=America/New_York:20260826T120000
DTSTAMP:20260421T014821
CREATED:20251030T184116Z
LAST-MODIFIED:20260116T193628Z
UID:10001619-1787731200-1787745600@oceancityvacation.com
SUMMARY:Farmers Market
DESCRIPTION:Farmers Market – Tabernacle Grounds 8:00 a.m. to 12:00 p.m. Crafters in the street at 5th & Asbury Ave.
URL:https://oceancityvacation.com/events-calendar/farmers-market-5/2026-08-26/
LOCATION:Ocean City Tabernacle\, 6th & Asbury Ave.\, Ocean City\, NJ
CATEGORIES:Chamber Event,Events Calendar
ATTACH;FMTTYPE=image/jpeg:https://oceancityvacation.com/wp-content/uploads/2023/06/Farmers-Market-2-scaled.jpg
ORGANIZER;CN="Ocean City Regional Chamber of Commerce":MAILTO:info@oceancityvacation.com
GEO:39.256744;-74.605108
X-APPLE-STRUCTURED-LOCATION;VALUE=URI;X-ADDRESS=Ocean City Tabernacle 6th & Asbury Ave. Ocean City NJ;X-APPLE-RADIUS=500;X-TITLE=6th & Asbury Ave.:geo:-74.605108,39.256744
END:VEVENT
BEGIN:VEVENT
DTSTART;TZID=America/New_York:20260902T080000
DTEND;TZID=America/New_York:20260902T120000
DTSTAMP:20260421T014821
CREATED:20251030T184116Z
LAST-MODIFIED:20260116T193628Z
UID:10001620-1788336000-1788350400@oceancityvacation.com
SUMMARY:Farmers Market
DESCRIPTION:Farmers Market – Tabernacle Grounds 8:00 a.m. to 12:00 p.m. Crafters in the street at 5th & Asbury Ave.
URL:https://oceancityvacation.com/events-calendar/farmers-market-5/2026-09-02/
LOCATION:Ocean City Tabernacle\, 6th & Asbury Ave.\, Ocean City\, NJ
CATEGORIES:Chamber Event,Events Calendar
ATTACH;FMTTYPE=image/jpeg:https://oceancityvacation.com/wp-content/uploads/2023/06/Farmers-Market-2-scaled.jpg
ORGANIZER;CN="Ocean City Regional Chamber of Commerce":MAILTO:info@oceancityvacation.com
GEO:39.256744;-74.605108
X-APPLE-STRUCTURED-LOCATION;VALUE=URI;X-ADDRESS=Ocean City Tabernacle 6th & Asbury Ave. Ocean City NJ;X-APPLE-RADIUS=500;X-TITLE=6th & Asbury Ave.:geo:-74.605108,39.256744
END:VEVENT
BEGIN:VEVENT
DTSTART;TZID=America/New_York:20260909T080000
DTEND;TZID=America/New_York:20260909T120000
DTSTAMP:20260421T014821
CREATED:20251030T184116Z
LAST-MODIFIED:20260116T193628Z
UID:10001621-1788940800-1788955200@oceancityvacation.com
SUMMARY:Farmers Market
DESCRIPTION:Farmers Market – Tabernacle Grounds 8:00 a.m. to 12:00 p.m. Crafters in the street at 5th & Asbury Ave.
URL:https://oceancityvacation.com/events-calendar/farmers-market-5/2026-09-09/
LOCATION:Ocean City Tabernacle\, 6th & Asbury Ave.\, Ocean City\, NJ
CATEGORIES:Chamber Event,Events Calendar
ATTACH;FMTTYPE=image/jpeg:https://oceancityvacation.com/wp-content/uploads/2023/06/Farmers-Market-2-scaled.jpg
ORGANIZER;CN="Ocean City Regional Chamber of Commerce":MAILTO:info@oceancityvacation.com
GEO:39.256744;-74.605108
X-APPLE-STRUCTURED-LOCATION;VALUE=URI;X-ADDRESS=Ocean City Tabernacle 6th & Asbury Ave. Ocean City NJ;X-APPLE-RADIUS=500;X-TITLE=6th & Asbury Ave.:geo:-74.605108,39.256744
END:VEVENT
BEGIN:VEVENT
DTSTART;TZID=America/New_York:20260916T080000
DTEND;TZID=America/New_York:20260916T120000
DTSTAMP:20260421T014821
CREATED:20251030T184116Z
LAST-MODIFIED:20260116T193628Z
UID:10001622-1789545600-1789560000@oceancityvacation.com
SUMMARY:Farmers Market
DESCRIPTION:Farmers Market – Tabernacle Grounds 8:00 a.m. to 12:00 p.m. Crafters in the street at 5th & Asbury Ave.
URL:https://oceancityvacation.com/events-calendar/farmers-market-5/2026-09-16/
LOCATION:Ocean City Tabernacle\, 6th & Asbury Ave.\, Ocean City\, NJ
CATEGORIES:Chamber Event,Events Calendar
ATTACH;FMTTYPE=image/jpeg:https://oceancityvacation.com/wp-content/uploads/2023/06/Farmers-Market-2-scaled.jpg
ORGANIZER;CN="Ocean City Regional Chamber of Commerce":MAILTO:info@oceancityvacation.com
GEO:39.256744;-74.605108
X-APPLE-STRUCTURED-LOCATION;VALUE=URI;X-ADDRESS=Ocean City Tabernacle 6th & Asbury Ave. Ocean City NJ;X-APPLE-RADIUS=500;X-TITLE=6th & Asbury Ave.:geo:-74.605108,39.256744
END:VEVENT
BEGIN:VEVENT
DTSTART;TZID=America/New_York:20261010T090000
DTEND;TZID=America/New_York:20261010T170000
DTSTAMP:20260421T014821
CREATED:20260116T201300Z
LAST-MODIFIED:20260116T201300Z
UID:10001937-1791622800-1791651600@oceancityvacation.com
SUMMARY:Fall Block Party
DESCRIPTION:Fall Block Party 9:00 a.m. to 5:00 p.m. from 5th – 14th Streets on Asbury Ave. Over 400 crafters\, food vendors\, music and more.
URL:https://oceancityvacation.com/events-calendar/fall-block-party-4/
LOCATION:Downtown Asbury Avenue\, 901 Asbury Avenue\, Ocean City\, NJ\, 08226\, United States
CATEGORIES:Chamber Event,Events Calendar
ATTACH;FMTTYPE=image/jpeg:https://oceancityvacation.com/wp-content/uploads/2025/09/FallBlockParty.jpg
ORGANIZER;CN="Ocean City Regional Chamber of Commerce":MAILTO:info@oceancityvacation.com
GEO:39.27853;-74.57623
X-APPLE-STRUCTURED-LOCATION;VALUE=URI;X-ADDRESS=Downtown Asbury Avenue 901 Asbury Avenue Ocean City NJ 08226 United States;X-APPLE-RADIUS=500;X-TITLE=901 Asbury Avenue:geo:-74.57623,39.27853
END:VEVENT
BEGIN:VEVENT
DTSTART;TZID=America/New_York:20261114T090000
DTEND;TZID=America/New_York:20261114T150000
DTSTAMP:20260421T014821
CREATED:20251107T185132Z
LAST-MODIFIED:20260213T155433Z
UID:10001888-1794646800-1794668400@oceancityvacation.com
SUMMARY:Winterfest by the Sea
DESCRIPTION:Winterfest by the Sea The Chamber of Commerce presents their sixth Annual Winterfest By The Sea Holiday Shopping Extravaganza.  The event takes place inside the Civic Center.  Craft vendors\, food vendors and strolling Santa will be present.  Shopping hours are 9:00 a.m. to 3:00 p.m.
URL:https://oceancityvacation.com/events-calendar/winterfest-by-the-sea-4/
LOCATION:Sports & Civic Center\, 6th & Boardwalk\, 804 E. 6th Street\, Ocean City\, NJ\, 08226\, United States
CATEGORIES:Chamber Event,Events Calendar
ATTACH;FMTTYPE=image/png:https://oceancityvacation.com/wp-content/uploads/2025/11/Untitled-design-39.png
ORGANIZER;CN="Ocean City Regional Chamber of Commerce":MAILTO:info@oceancityvacation.com
GEO:39.2794501;-74.568899
X-APPLE-STRUCTURED-LOCATION;VALUE=URI;X-ADDRESS=Sports & Civic Center 6th & Boardwalk 804 E. 6th Street Ocean City NJ 08226 United States;X-APPLE-RADIUS=500;X-TITLE=804 E. 6th Street:geo:-74.568899,39.2794501
END:VEVENT
END:VCALENDAR