BEGIN:VCALENDAR
VERSION:2.0
PRODID:-//Ocean City NJ - ECPv6.15.14//NONSGML v1.0//EN
CALSCALE:GREGORIAN
METHOD:PUBLISH
X-WR-CALNAME:Ocean City NJ
X-ORIGINAL-URL:https://oceancityvacation.com
X-WR-CALDESC:Events for Ocean City NJ
REFRESH-INTERVAL;VALUE=DURATION:PT1H
X-Robots-Tag:noindex
X-PUBLISHED-TTL:PT1H
BEGIN:VTIMEZONE
TZID:America/New_York
BEGIN:DAYLIGHT
TZOFFSETFROM:-0500
TZOFFSETTO:-0400
TZNAME:EDT
DTSTART:20210314T070000
END:DAYLIGHT
BEGIN:STANDARD
TZOFFSETFROM:-0400
TZOFFSETTO:-0500
TZNAME:EST
DTSTART:20211107T060000
END:STANDARD
BEGIN:DAYLIGHT
TZOFFSETFROM:-0500
TZOFFSETTO:-0400
TZNAME:EDT
DTSTART:20220313T070000
END:DAYLIGHT
BEGIN:STANDARD
TZOFFSETFROM:-0400
TZOFFSETTO:-0500
TZNAME:EST
DTSTART:20221106T060000
END:STANDARD
BEGIN:DAYLIGHT
TZOFFSETFROM:-0500
TZOFFSETTO:-0400
TZNAME:EDT
DTSTART:20230312T070000
END:DAYLIGHT
BEGIN:STANDARD
TZOFFSETFROM:-0400
TZOFFSETTO:-0500
TZNAME:EST
DTSTART:20231105T060000
END:STANDARD
BEGIN:DAYLIGHT
TZOFFSETFROM:-0500
TZOFFSETTO:-0400
TZNAME:EDT
DTSTART:20240310T070000
END:DAYLIGHT
BEGIN:STANDARD
TZOFFSETFROM:-0400
TZOFFSETTO:-0500
TZNAME:EST
DTSTART:20241103T060000
END:STANDARD
BEGIN:DAYLIGHT
TZOFFSETFROM:-0500
TZOFFSETTO:-0400
TZNAME:EDT
DTSTART:20250309T070000
END:DAYLIGHT
BEGIN:STANDARD
TZOFFSETFROM:-0400
TZOFFSETTO:-0500
TZNAME:EST
DTSTART:20251102T060000
END:STANDARD
BEGIN:DAYLIGHT
TZOFFSETFROM:-0500
TZOFFSETTO:-0400
TZNAME:EDT
DTSTART:20260308T070000
END:DAYLIGHT
BEGIN:STANDARD
TZOFFSETFROM:-0400
TZOFFSETTO:-0500
TZNAME:EST
DTSTART:20261101T060000
END:STANDARD
END:VTIMEZONE
BEGIN:VEVENT
DTSTART;VALUE=DATE:20221130
DTEND;VALUE=DATE:20221201
DTSTAMP:20260422T185616
CREATED:20231213T143302Z
LAST-MODIFIED:20231213T143302Z
UID:10000736-1669766400-1669852799@oceancityvacation.com
SUMMARY:OC Christmas Parade Returns on Friday Evening
DESCRIPTION:
URL:https://oceancityvacation.com/events-calendar/oc-christmas-parade-returns-on-friday-evening/
LOCATION:NJ
CATEGORIES:Chamber Event
END:VEVENT
BEGIN:VEVENT
DTSTART;VALUE=DATE:20221207
DTEND;VALUE=DATE:20221208
DTSTAMP:20260422T185616
CREATED:20231213T143225Z
LAST-MODIFIED:20231213T143225Z
UID:10000735-1670371200-1670457599@oceancityvacation.com
SUMMARY:OC Theatre Company Stages “Holiday Spectacular”
DESCRIPTION:
URL:https://oceancityvacation.com/events-calendar/oc-theatre-company-stages-holiday-spectacular-2/
LOCATION:NJ
CATEGORIES:Chamber Event
END:VEVENT
BEGIN:VEVENT
DTSTART;VALUE=DATE:20221214
DTEND;VALUE=DATE:20221215
DTSTAMP:20260422T185616
CREATED:20231213T143048Z
LAST-MODIFIED:20231213T143048Z
UID:10000734-1670976000-1671062399@oceancityvacation.com
SUMMARY:OC Theatre Company Stages ‘Holiday Spectacular’
DESCRIPTION:
URL:https://oceancityvacation.com/events-calendar/oc-theatre-company-stages-holiday-spectacular/
LOCATION:NJ
CATEGORIES:Chamber Event
END:VEVENT
BEGIN:VEVENT
DTSTART;VALUE=DATE:20221221
DTEND;VALUE=DATE:20221222
DTSTAMP:20260422T185616
CREATED:20231213T100033Z
LAST-MODIFIED:20231213T100033Z
UID:10000733-1671580800-1671667199@oceancityvacation.com
SUMMARY:Celebrate New Year’s Eve and New Year’s Day in Ocean City
DESCRIPTION:
URL:https://oceancityvacation.com/events-calendar/celebrate-new-years-eve-and-new-years-day-in-ocean-city/
LOCATION:NJ
CATEGORIES:Chamber Event
END:VEVENT
BEGIN:VEVENT
DTSTART;VALUE=DATE:20221228
DTEND;VALUE=DATE:20221229
DTSTAMP:20260422T185616
CREATED:20231213T091911Z
LAST-MODIFIED:20231213T092021Z
UID:10000732-1672185600-1672271999@oceancityvacation.com
SUMMARY:Celebrate New Year’s Eve and New Year’s Day in Ocean City\, NJ
DESCRIPTION:
URL:https://oceancityvacation.com/events-calendar/celebrate-new-years-eve-and-new-years-day-in-ocean-city-nj/
LOCATION:NJ
CATEGORIES:Chamber Event
END:VEVENT
BEGIN:VEVENT
DTSTART;TZID=America/New_York:20240118T080000
DTEND;TZID=America/New_York:20240118T100000
DTSTAMP:20260422T185616
CREATED:20231213T152708Z
LAST-MODIFIED:20240105T170412Z
UID:10000783-1705564800-1705572000@oceancityvacation.com
SUMMARY:Economic Forecast Breakfast Presented by Sturdy Savings Bank’s President and CEO\, Gregory M. Matuson\, January 18\, 8 AM at The Flanders Hotel.
DESCRIPTION:Economic Forecast Breakfast\, 8 AM at The Flanders Hotel. Presented by Sturdy Savings Bank’s\, President and CEO\, Gregory M. Matson
URL:https://oceancityvacation.com/events-calendar/economic-forecast-breakfast-presented-by-sturdy-savings-banks-president-and-ceo-gregory-m-matson-january-18-8-am-at-the-flanders-hotel/
LOCATION:The Flanders Hotel\, 719 E 11th Street\, Ocean City\, NJ\, 08226\, United States
CATEGORIES:Chamber Event
GEO:39.2743838;-74.57595
X-APPLE-STRUCTURED-LOCATION;VALUE=URI;X-ADDRESS=The Flanders Hotel 719 E 11th Street Ocean City NJ 08226 United States;X-APPLE-RADIUS=500;X-TITLE=719 E 11th Street:geo:-74.57595,39.2743838
END:VEVENT
BEGIN:VEVENT
DTSTART;TZID=America/New_York:20240229T170000
DTEND;TZID=America/New_York:20240229T190000
DTSTAMP:20260422T185616
CREATED:20231213T152724Z
LAST-MODIFIED:20240105T190932Z
UID:10000784-1709226000-1709233200@oceancityvacation.com
SUMMARY:Installation Dinner
DESCRIPTION:
URL:https://oceancityvacation.com/events-calendar/installation-dinner/
LOCATION:Ocean City Yacht Club\, 100 Bay Rd\, Ocean City\, NJ\, 08226\, United States
CATEGORIES:Chamber Event
GEO:39.2929123;-74.5650504
X-APPLE-STRUCTURED-LOCATION;VALUE=URI;X-ADDRESS=Ocean City Yacht Club 100 Bay Rd Ocean City NJ 08226 United States;X-APPLE-RADIUS=500;X-TITLE=100 Bay Rd:geo:-74.5650504,39.2929123
END:VEVENT
BEGIN:VEVENT
DTSTART;VALUE=DATE:20240314
DTEND;VALUE=DATE:20240315
DTSTAMP:20260422T185616
CREATED:20231213T152747Z
LAST-MODIFIED:20231213T152747Z
UID:10000785-1710374400-1710460799@oceancityvacation.com
SUMMARY:Mayor’s Address
DESCRIPTION:
URL:https://oceancityvacation.com/events-calendar/mayors-address/
LOCATION:NJ
CATEGORIES:Chamber Event
END:VEVENT
BEGIN:VEVENT
DTSTART;VALUE=DATE:20240316
DTEND;VALUE=DATE:20240317
DTSTAMP:20260422T185616
CREATED:20240105T191059Z
LAST-MODIFIED:20240105T191059Z
UID:10000798-1710547200-1710633599@oceancityvacation.com
SUMMARY:Job Fair Ocean City Music Pier
DESCRIPTION:
URL:https://oceancityvacation.com/events-calendar/job-fair-ocean-city-music-pier/
LOCATION:Music Pier\, 825 Boardwalk\, Ocean City\, NJ\, 08226\, United States
CATEGORIES:Chamber Event
GEO:39.2751976;-74.5695462
X-APPLE-STRUCTURED-LOCATION;VALUE=URI;X-ADDRESS=Music Pier 825 Boardwalk Ocean City NJ 08226 United States;X-APPLE-RADIUS=500;X-TITLE=825 Boardwalk:geo:-74.5695462,39.2751976
END:VEVENT
BEGIN:VEVENT
DTSTART;TZID=America/New_York:20240424T120000
DTEND;TZID=America/New_York:20240424T133000
DTSTAMP:20260422T185616
CREATED:20231213T152809Z
LAST-MODIFIED:20240416T200635Z
UID:10000786-1713960000-1713965400@oceancityvacation.com
SUMMARY:Salute to Working Women
DESCRIPTION:Salute to Working Women Luncheon Honoring Melissa Brown and Detective Jennifer Elias Ocean City Police Department. 
URL:https://oceancityvacation.com/events-calendar/salute-to-working-women/
LOCATION:Ocean City Yacht Club\, 100 Bay Rd\, Ocean City\, NJ\, 08226\, United States
CATEGORIES:Chamber Event
ORGANIZER;CN="Ocean City Regional Chamber of Commerce":MAILTO:info@oceancityvacation.com
GEO:39.2929123;-74.5650504
X-APPLE-STRUCTURED-LOCATION;VALUE=URI;X-ADDRESS=Ocean City Yacht Club 100 Bay Rd Ocean City NJ 08226 United States;X-APPLE-RADIUS=500;X-TITLE=100 Bay Rd:geo:-74.5650504,39.2929123
END:VEVENT
BEGIN:VEVENT
DTSTART;TZID=America/New_York:20240504T090000
DTEND;TZID=America/New_York:20240504T170000
DTSTAMP:20260422T185616
CREATED:20231213T152850Z
LAST-MODIFIED:20240105T170943Z
UID:10000787-1714813200-1714842000@oceancityvacation.com
SUMMARY:Spring Block Party
DESCRIPTION:Spring Block Party 9 a.m. to 5 p.m. from 5th Street to 14th Street on Asbury Ave. Over 350 crafters\, food vendors\, music and more.  For more information\, call 1-800-BeachNJ
URL:https://oceancityvacation.com/events-calendar/spring-block-party-3/
LOCATION:Asbury Ave\, 901 Asbury Avenue\, Ocean City\, NJ\, 08226\, United States
CATEGORIES:Chamber Event
GEO:39.27853;-74.57623
X-APPLE-STRUCTURED-LOCATION;VALUE=URI;X-ADDRESS=Asbury Ave 901 Asbury Avenue Ocean City NJ 08226 United States;X-APPLE-RADIUS=500;X-TITLE=901 Asbury Avenue:geo:-74.57623,39.27853
END:VEVENT
BEGIN:VEVENT
DTSTART;VALUE=DATE:20240606
DTEND;VALUE=DATE:20240607
DTSTAMP:20260422T185616
CREATED:20231213T152935Z
LAST-MODIFIED:20231213T152935Z
UID:10000789-1717632000-1717718399@oceancityvacation.com
SUMMARY:Summer Kickoff Mixer
DESCRIPTION:
URL:https://oceancityvacation.com/events-calendar/summer-kickoff-mixer/
LOCATION:NJ
CATEGORIES:Chamber Event
END:VEVENT
BEGIN:VEVENT
DTSTART;VALUE=DATE:20240827
DTEND;VALUE=DATE:20240828
DTSTAMP:20260422T185616
CREATED:20231213T153000Z
LAST-MODIFIED:20240819T185656Z
UID:10000790-1724716800-1724803199@oceancityvacation.com
SUMMARY:End of Summer Mixer
DESCRIPTION:
URL:https://oceancityvacation.com/events-calendar/end-of-summer-mixer/
LOCATION:NJ
CATEGORIES:Chamber Event
END:VEVENT
BEGIN:VEVENT
DTSTART;VALUE=DATE:20240914
DTEND;VALUE=DATE:20240915
DTSTAMP:20260422T185616
CREATED:20231213T153027Z
LAST-MODIFIED:20231213T153027Z
UID:10000791-1726272000-1726358399@oceancityvacation.com
SUMMARY:Airshow
DESCRIPTION:
URL:https://oceancityvacation.com/events-calendar/airshow/
LOCATION:NJ
CATEGORIES:Chamber Event
END:VEVENT
BEGIN:VEVENT
DTSTART;VALUE=DATE:20241017
DTEND;VALUE=DATE:20241018
DTSTAMP:20260422T185616
CREATED:20231213T153110Z
LAST-MODIFIED:20231213T153110Z
UID:10000793-1729123200-1729209599@oceancityvacation.com
SUMMARY:Legislative Update
DESCRIPTION:
URL:https://oceancityvacation.com/events-calendar/legislative-update/
LOCATION:NJ
CATEGORIES:Chamber Event
END:VEVENT
BEGIN:VEVENT
DTSTART;VALUE=DATE:20241121
DTEND;VALUE=DATE:20241122
DTSTAMP:20260422T185616
CREATED:20231213T153303Z
LAST-MODIFIED:20241018T155408Z
UID:10000796-1732147200-1732233599@oceancityvacation.com
SUMMARY:Annual Citizen of the Year and Business Beautification Awards Dinner
DESCRIPTION:For more information or to purchase tickets click here: https://conta.cc/3NsSDzr \nBill McGinnity is Ocean City’s Citizen of the Year \nBill McGinnity has spent years helping others in the Ocean City community. It has not gone unnoticed. The chef and owner of Cousin’s Restaurant in Ocean City and Nobil Catering and Food Services\, has been selected as the 2024 Citizen of the Year\, the Ocean City Regional Chamber of Commerce announced Thursday. \nHe will be honored at the Chamber’s 2024 Citizen of the Year Award and Outstanding Business and Beautification Awards dinner on Thursday\, November 21 at 6 p.m. at the Ocean City Yacht Club\, 100 Bay Road. \nBill\, a graduate of Ocean City High School\, has dedicated 30 years to the restaurant business and as many years to helping others. \nOne of his favorite ways to give back is to help veterans. He works with Ocean City’s American Legion Post 524 and VFW Post 6650 to provide meal deliveries to veterans\, shut-ins\, and others in need. \nHe has been a part of the Right Notes fundraiser for the MS Foundation for a decade\, the Renee Parker Monihan Foundation for two years and the Tara Miller Melanoma Foundation fundraiser for seven years. \nIn 2022\, the City of Ocean City honored Bill with a Martin Luther King Jr. Community Service Award for helping the community during the COVID-19 pandemic. \nDuring the pandemic\, Bill volunteered his time and cooking talents\, while partnering with OCNJ CARE\, a non-profit organization created to help those in need from the community. Bill made holiday meals\, which were distributed at various locations in the community. \nHe also worked closely with the Ocean City High School administration to orchestrate the first-ever outdoor prom on the football field. \nBill is also active on boards and organizations. He is a member of the Ocean City Tourism Development Commission\, Ocean City Regional Chamber of Commerce\, president of the Ocean City Restaurant Association and a board member of the Epicurean Society.  \nFor dinner reservations or to congratulate the winners in the 2024 Program Book\, please contact the Ocean City Regional Chamber of Commerce at 609-399-1412 or email info@oceancitychamber.com. \nMedia Contact: Maddy Vitale\, Ocean City Regional Chamber of Commerce\, email maddy@oceancitychamber.com or (609) 287-9203.
URL:https://oceancityvacation.com/events-calendar/annual-citizen-of-the-year-and-business-beautification-awards-dinner-2/
LOCATION:NJ
CATEGORIES:Chamber Event
END:VEVENT
BEGIN:VEVENT
DTSTART;VALUE=DATE:20241206
DTEND;VALUE=DATE:20241207
DTSTAMP:20260422T185616
CREATED:20231213T153336Z
LAST-MODIFIED:20240105T171719Z
UID:10000797-1733443200-1733529599@oceancityvacation.com
SUMMARY:Christmas Mixer
DESCRIPTION:
URL:https://oceancityvacation.com/events-calendar/christmas-party/
LOCATION:NJ
CATEGORIES:Chamber Event
END:VEVENT
BEGIN:VEVENT
DTSTART;TZID=America/New_York:20250417T120000
DTEND;TZID=America/New_York:20250417T140000
DTSTAMP:20260422T185616
CREATED:20250326T155354Z
LAST-MODIFIED:20250331T191100Z
UID:10001460-1744891200-1744898400@oceancityvacation.com
SUMMARY:Salute to Working Women
DESCRIPTION:The Chamber’s Annual Celebration Luncheon will be held on Thursday\, April 17\, 2025 at Ocean City Yacht Club at 12:00 pm.
URL:https://oceancityvacation.com/events-calendar/salute-to-working-women-2/
LOCATION:Ocean City Yacht Club\, 100 Bay Rd\, Ocean City\, NJ\, 08226\, United States
CATEGORIES:Chamber Event
ORGANIZER;CN="Ocean City Regional Chamber of Commerce":MAILTO:info@oceancityvacation.com
GEO:39.2929123;-74.5650504
X-APPLE-STRUCTURED-LOCATION;VALUE=URI;X-ADDRESS=Ocean City Yacht Club 100 Bay Rd Ocean City NJ 08226 United States;X-APPLE-RADIUS=500;X-TITLE=100 Bay Rd:geo:-74.5650504,39.2929123
END:VEVENT
BEGIN:VEVENT
DTSTART;TZID=America/New_York:20250503T090000
DTEND;TZID=America/New_York:20250503T170000
DTSTAMP:20260422T185616
CREATED:20241031T140501Z
LAST-MODIFIED:20250425T153702Z
UID:10000994-1746262800-1746291600@oceancityvacation.com
SUMMARY:Spring Block Party
DESCRIPTION:Spring Block Party 9 a.m. to 5 p.m. from 5th Street to 14th Street on Asbury Ave. Over 350 crafters\, food vendors\, music and more.  For more information\, call 1-800-BeachNJ
URL:https://oceancityvacation.com/events-calendar/spring-block-party-4/
LOCATION:Asbury Ave\, 901 Asbury Avenue\, Ocean City\, NJ\, 08226\, United States
CATEGORIES:Chamber Event,Events Calendar
ATTACH;FMTTYPE=image/jpeg:https://oceancityvacation.com/wp-content/uploads/2023/10/BlockPartyAerial.jpg
ORGANIZER;CN="Ocean City Regional Chamber of Commerce":MAILTO:info@oceancityvacation.com
GEO:39.27853;-74.57623
X-APPLE-STRUCTURED-LOCATION;VALUE=URI;X-ADDRESS=Asbury Ave 901 Asbury Avenue Ocean City NJ 08226 United States;X-APPLE-RADIUS=500;X-TITLE=901 Asbury Avenue:geo:-74.57623,39.27853
END:VEVENT
BEGIN:VEVENT
DTSTART;TZID=America/New_York:20250604T080000
DTEND;TZID=America/New_York:20250604T120000
DTSTAMP:20260422T185616
CREATED:20241031T142558Z
LAST-MODIFIED:20241101T135114Z
UID:10001016-1749024000-1749038400@oceancityvacation.com
SUMMARY:Farmers Market
DESCRIPTION: Tabernacle Grounds 8 a.m. to 12 p.m. Crafters in the street at 6th & Asbury Ave.
URL:https://oceancityvacation.com/events-calendar/farmers-market-4/2025-06-04/
LOCATION:Ocean City Tabernacle\, 6th & Asbury Ave.\, Ocean City\, NJ
CATEGORIES:Chamber Event,Events Calendar
ATTACH;FMTTYPE=image/jpeg:https://oceancityvacation.com/wp-content/uploads/2023/01/1.4-farmers-market-daily-scaled.jpg
ORGANIZER;CN="Ocean City Regional Chamber of Commerce":MAILTO:info@oceancityvacation.com
GEO:39.256744;-74.605108
X-APPLE-STRUCTURED-LOCATION;VALUE=URI;X-ADDRESS=Ocean City Tabernacle 6th & Asbury Ave. Ocean City NJ;X-APPLE-RADIUS=500;X-TITLE=6th & Asbury Ave.:geo:-74.605108,39.256744
END:VEVENT
BEGIN:VEVENT
DTSTART;TZID=America/New_York:20250611T080000
DTEND;TZID=America/New_York:20250611T120000
DTSTAMP:20260422T185616
CREATED:20241031T142558Z
LAST-MODIFIED:20241101T135114Z
UID:10001017-1749628800-1749643200@oceancityvacation.com
SUMMARY:Farmers Market
DESCRIPTION: Tabernacle Grounds 8 a.m. to 12 p.m. Crafters in the street at 6th & Asbury Ave.
URL:https://oceancityvacation.com/events-calendar/farmers-market-4/2025-06-11/
LOCATION:Ocean City Tabernacle\, 6th & Asbury Ave.\, Ocean City\, NJ
CATEGORIES:Chamber Event,Events Calendar
ATTACH;FMTTYPE=image/jpeg:https://oceancityvacation.com/wp-content/uploads/2023/01/1.4-farmers-market-daily-scaled.jpg
ORGANIZER;CN="Ocean City Regional Chamber of Commerce":MAILTO:info@oceancityvacation.com
GEO:39.256744;-74.605108
X-APPLE-STRUCTURED-LOCATION;VALUE=URI;X-ADDRESS=Ocean City Tabernacle 6th & Asbury Ave. Ocean City NJ;X-APPLE-RADIUS=500;X-TITLE=6th & Asbury Ave.:geo:-74.605108,39.256744
END:VEVENT
BEGIN:VEVENT
DTSTART;TZID=America/New_York:20250618T080000
DTEND;TZID=America/New_York:20250618T120000
DTSTAMP:20260422T185616
CREATED:20241031T142558Z
LAST-MODIFIED:20241101T135114Z
UID:10001018-1750233600-1750248000@oceancityvacation.com
SUMMARY:Farmers Market
DESCRIPTION: Tabernacle Grounds 8 a.m. to 12 p.m. Crafters in the street at 6th & Asbury Ave.
URL:https://oceancityvacation.com/events-calendar/farmers-market-4/2025-06-18/
LOCATION:Ocean City Tabernacle\, 6th & Asbury Ave.\, Ocean City\, NJ
CATEGORIES:Chamber Event,Events Calendar
ATTACH;FMTTYPE=image/jpeg:https://oceancityvacation.com/wp-content/uploads/2023/01/1.4-farmers-market-daily-scaled.jpg
ORGANIZER;CN="Ocean City Regional Chamber of Commerce":MAILTO:info@oceancityvacation.com
GEO:39.256744;-74.605108
X-APPLE-STRUCTURED-LOCATION;VALUE=URI;X-ADDRESS=Ocean City Tabernacle 6th & Asbury Ave. Ocean City NJ;X-APPLE-RADIUS=500;X-TITLE=6th & Asbury Ave.:geo:-74.605108,39.256744
END:VEVENT
BEGIN:VEVENT
DTSTART;TZID=America/New_York:20250625T080000
DTEND;TZID=America/New_York:20250625T120000
DTSTAMP:20260422T185616
CREATED:20241031T142558Z
LAST-MODIFIED:20241101T135114Z
UID:10001019-1750838400-1750852800@oceancityvacation.com
SUMMARY:Farmers Market
DESCRIPTION: Tabernacle Grounds 8 a.m. to 12 p.m. Crafters in the street at 6th & Asbury Ave.
URL:https://oceancityvacation.com/events-calendar/farmers-market-4/2025-06-25/
LOCATION:Ocean City Tabernacle\, 6th & Asbury Ave.\, Ocean City\, NJ
CATEGORIES:Chamber Event,Events Calendar
ATTACH;FMTTYPE=image/jpeg:https://oceancityvacation.com/wp-content/uploads/2023/01/1.4-farmers-market-daily-scaled.jpg
ORGANIZER;CN="Ocean City Regional Chamber of Commerce":MAILTO:info@oceancityvacation.com
GEO:39.256744;-74.605108
X-APPLE-STRUCTURED-LOCATION;VALUE=URI;X-ADDRESS=Ocean City Tabernacle 6th & Asbury Ave. Ocean City NJ;X-APPLE-RADIUS=500;X-TITLE=6th & Asbury Ave.:geo:-74.605108,39.256744
END:VEVENT
BEGIN:VEVENT
DTSTART;TZID=America/New_York:20250702T080000
DTEND;TZID=America/New_York:20250702T120000
DTSTAMP:20260422T185616
CREATED:20241031T142558Z
LAST-MODIFIED:20241101T135114Z
UID:10001020-1751443200-1751457600@oceancityvacation.com
SUMMARY:Farmers Market
DESCRIPTION: Tabernacle Grounds 8 a.m. to 12 p.m. Crafters in the street at 6th & Asbury Ave.
URL:https://oceancityvacation.com/events-calendar/farmers-market-4/2025-07-02/
LOCATION:Ocean City Tabernacle\, 6th & Asbury Ave.\, Ocean City\, NJ
CATEGORIES:Chamber Event,Events Calendar
ATTACH;FMTTYPE=image/jpeg:https://oceancityvacation.com/wp-content/uploads/2023/01/1.4-farmers-market-daily-scaled.jpg
ORGANIZER;CN="Ocean City Regional Chamber of Commerce":MAILTO:info@oceancityvacation.com
GEO:39.256744;-74.605108
X-APPLE-STRUCTURED-LOCATION;VALUE=URI;X-ADDRESS=Ocean City Tabernacle 6th & Asbury Ave. Ocean City NJ;X-APPLE-RADIUS=500;X-TITLE=6th & Asbury Ave.:geo:-74.605108,39.256744
END:VEVENT
BEGIN:VEVENT
DTSTART;TZID=America/New_York:20250709T080000
DTEND;TZID=America/New_York:20250709T120000
DTSTAMP:20260422T185616
CREATED:20241031T142558Z
LAST-MODIFIED:20241101T135114Z
UID:10001021-1752048000-1752062400@oceancityvacation.com
SUMMARY:Farmers Market
DESCRIPTION: Tabernacle Grounds 8 a.m. to 12 p.m. Crafters in the street at 6th & Asbury Ave.
URL:https://oceancityvacation.com/events-calendar/farmers-market-4/2025-07-09/
LOCATION:Ocean City Tabernacle\, 6th & Asbury Ave.\, Ocean City\, NJ
CATEGORIES:Chamber Event,Events Calendar
ATTACH;FMTTYPE=image/jpeg:https://oceancityvacation.com/wp-content/uploads/2023/01/1.4-farmers-market-daily-scaled.jpg
ORGANIZER;CN="Ocean City Regional Chamber of Commerce":MAILTO:info@oceancityvacation.com
GEO:39.256744;-74.605108
X-APPLE-STRUCTURED-LOCATION;VALUE=URI;X-ADDRESS=Ocean City Tabernacle 6th & Asbury Ave. Ocean City NJ;X-APPLE-RADIUS=500;X-TITLE=6th & Asbury Ave.:geo:-74.605108,39.256744
END:VEVENT
BEGIN:VEVENT
DTSTART;TZID=America/New_York:20250716T080000
DTEND;TZID=America/New_York:20250716T120000
DTSTAMP:20260422T185616
CREATED:20241031T142558Z
LAST-MODIFIED:20241101T135114Z
UID:10001022-1752652800-1752667200@oceancityvacation.com
SUMMARY:Farmers Market
DESCRIPTION: Tabernacle Grounds 8 a.m. to 12 p.m. Crafters in the street at 6th & Asbury Ave.
URL:https://oceancityvacation.com/events-calendar/farmers-market-4/2025-07-16/
LOCATION:Ocean City Tabernacle\, 6th & Asbury Ave.\, Ocean City\, NJ
CATEGORIES:Chamber Event,Events Calendar
ATTACH;FMTTYPE=image/jpeg:https://oceancityvacation.com/wp-content/uploads/2023/01/1.4-farmers-market-daily-scaled.jpg
ORGANIZER;CN="Ocean City Regional Chamber of Commerce":MAILTO:info@oceancityvacation.com
GEO:39.256744;-74.605108
X-APPLE-STRUCTURED-LOCATION;VALUE=URI;X-ADDRESS=Ocean City Tabernacle 6th & Asbury Ave. Ocean City NJ;X-APPLE-RADIUS=500;X-TITLE=6th & Asbury Ave.:geo:-74.605108,39.256744
END:VEVENT
BEGIN:VEVENT
DTSTART;TZID=America/New_York:20250723T080000
DTEND;TZID=America/New_York:20250723T120000
DTSTAMP:20260422T185616
CREATED:20241031T142558Z
LAST-MODIFIED:20241101T135114Z
UID:10001023-1753257600-1753272000@oceancityvacation.com
SUMMARY:Farmers Market
DESCRIPTION: Tabernacle Grounds 8 a.m. to 12 p.m. Crafters in the street at 6th & Asbury Ave.
URL:https://oceancityvacation.com/events-calendar/farmers-market-4/2025-07-23/
LOCATION:Ocean City Tabernacle\, 6th & Asbury Ave.\, Ocean City\, NJ
CATEGORIES:Chamber Event,Events Calendar
ATTACH;FMTTYPE=image/jpeg:https://oceancityvacation.com/wp-content/uploads/2023/01/1.4-farmers-market-daily-scaled.jpg
ORGANIZER;CN="Ocean City Regional Chamber of Commerce":MAILTO:info@oceancityvacation.com
GEO:39.256744;-74.605108
X-APPLE-STRUCTURED-LOCATION;VALUE=URI;X-ADDRESS=Ocean City Tabernacle 6th & Asbury Ave. Ocean City NJ;X-APPLE-RADIUS=500;X-TITLE=6th & Asbury Ave.:geo:-74.605108,39.256744
END:VEVENT
BEGIN:VEVENT
DTSTART;TZID=America/New_York:20250730T080000
DTEND;TZID=America/New_York:20250730T120000
DTSTAMP:20260422T185616
CREATED:20241031T142558Z
LAST-MODIFIED:20241101T135114Z
UID:10001024-1753862400-1753876800@oceancityvacation.com
SUMMARY:Farmers Market
DESCRIPTION: Tabernacle Grounds 8 a.m. to 12 p.m. Crafters in the street at 6th & Asbury Ave.
URL:https://oceancityvacation.com/events-calendar/farmers-market-4/2025-07-30/
LOCATION:Ocean City Tabernacle\, 6th & Asbury Ave.\, Ocean City\, NJ
CATEGORIES:Chamber Event,Events Calendar
ATTACH;FMTTYPE=image/jpeg:https://oceancityvacation.com/wp-content/uploads/2023/01/1.4-farmers-market-daily-scaled.jpg
ORGANIZER;CN="Ocean City Regional Chamber of Commerce":MAILTO:info@oceancityvacation.com
GEO:39.256744;-74.605108
X-APPLE-STRUCTURED-LOCATION;VALUE=URI;X-ADDRESS=Ocean City Tabernacle 6th & Asbury Ave. Ocean City NJ;X-APPLE-RADIUS=500;X-TITLE=6th & Asbury Ave.:geo:-74.605108,39.256744
END:VEVENT
BEGIN:VEVENT
DTSTART;TZID=America/New_York:20250806T080000
DTEND;TZID=America/New_York:20250806T120000
DTSTAMP:20260422T185616
CREATED:20241031T142558Z
LAST-MODIFIED:20241101T135114Z
UID:10001025-1754467200-1754481600@oceancityvacation.com
SUMMARY:Farmers Market
DESCRIPTION: Tabernacle Grounds 8 a.m. to 12 p.m. Crafters in the street at 6th & Asbury Ave.
URL:https://oceancityvacation.com/events-calendar/farmers-market-4/2025-08-06/
LOCATION:Ocean City Tabernacle\, 6th & Asbury Ave.\, Ocean City\, NJ
CATEGORIES:Chamber Event,Events Calendar
ATTACH;FMTTYPE=image/jpeg:https://oceancityvacation.com/wp-content/uploads/2023/01/1.4-farmers-market-daily-scaled.jpg
ORGANIZER;CN="Ocean City Regional Chamber of Commerce":MAILTO:info@oceancityvacation.com
GEO:39.256744;-74.605108
X-APPLE-STRUCTURED-LOCATION;VALUE=URI;X-ADDRESS=Ocean City Tabernacle 6th & Asbury Ave. Ocean City NJ;X-APPLE-RADIUS=500;X-TITLE=6th & Asbury Ave.:geo:-74.605108,39.256744
END:VEVENT
BEGIN:VEVENT
DTSTART;TZID=America/New_York:20250813T080000
DTEND;TZID=America/New_York:20250813T120000
DTSTAMP:20260422T185616
CREATED:20241031T142558Z
LAST-MODIFIED:20241101T135114Z
UID:10001026-1755072000-1755086400@oceancityvacation.com
SUMMARY:Farmers Market
DESCRIPTION: Tabernacle Grounds 8 a.m. to 12 p.m. Crafters in the street at 6th & Asbury Ave.
URL:https://oceancityvacation.com/events-calendar/farmers-market-4/2025-08-13/
LOCATION:Ocean City Tabernacle\, 6th & Asbury Ave.\, Ocean City\, NJ
CATEGORIES:Chamber Event,Events Calendar
ATTACH;FMTTYPE=image/jpeg:https://oceancityvacation.com/wp-content/uploads/2023/01/1.4-farmers-market-daily-scaled.jpg
ORGANIZER;CN="Ocean City Regional Chamber of Commerce":MAILTO:info@oceancityvacation.com
GEO:39.256744;-74.605108
X-APPLE-STRUCTURED-LOCATION;VALUE=URI;X-ADDRESS=Ocean City Tabernacle 6th & Asbury Ave. Ocean City NJ;X-APPLE-RADIUS=500;X-TITLE=6th & Asbury Ave.:geo:-74.605108,39.256744
END:VEVENT
END:VCALENDAR