BEGIN:VCALENDAR
VERSION:2.0
PRODID:-//Ocean City NJ - ECPv6.15.14//NONSGML v1.0//EN
CALSCALE:GREGORIAN
METHOD:PUBLISH
X-WR-CALNAME:Ocean City NJ
X-ORIGINAL-URL:https://oceancityvacation.com
X-WR-CALDESC:Events for Ocean City NJ
REFRESH-INTERVAL;VALUE=DURATION:PT1H
X-Robots-Tag:noindex
X-PUBLISHED-TTL:PT1H
BEGIN:VTIMEZONE
TZID:America/New_York
BEGIN:DAYLIGHT
TZOFFSETFROM:-0500
TZOFFSETTO:-0400
TZNAME:EDT
DTSTART:20210314T070000
END:DAYLIGHT
BEGIN:STANDARD
TZOFFSETFROM:-0400
TZOFFSETTO:-0500
TZNAME:EST
DTSTART:20211107T060000
END:STANDARD
BEGIN:DAYLIGHT
TZOFFSETFROM:-0500
TZOFFSETTO:-0400
TZNAME:EDT
DTSTART:20220313T070000
END:DAYLIGHT
BEGIN:STANDARD
TZOFFSETFROM:-0400
TZOFFSETTO:-0500
TZNAME:EST
DTSTART:20221106T060000
END:STANDARD
BEGIN:DAYLIGHT
TZOFFSETFROM:-0500
TZOFFSETTO:-0400
TZNAME:EDT
DTSTART:20230312T070000
END:DAYLIGHT
BEGIN:STANDARD
TZOFFSETFROM:-0400
TZOFFSETTO:-0500
TZNAME:EST
DTSTART:20231105T060000
END:STANDARD
END:VTIMEZONE
BEGIN:VEVENT
DTSTART;VALUE=DATE:20220330
DTEND;VALUE=DATE:20220331
DTSTAMP:20260423T072810
CREATED:20231213T150719Z
LAST-MODIFIED:20231213T150719Z
UID:10000769-1648598400-1648684799@oceancityvacation.com
SUMMARY:Girls Weekend and OC-CON Return to Ocean City
DESCRIPTION:
URL:https://oceancityvacation.com/events-calendar/girls-weekend-and-oc-con-return-to-ocean-city/
LOCATION:NJ
CATEGORIES:Chamber Event
END:VEVENT
BEGIN:VEVENT
DTSTART;VALUE=DATE:20220406
DTEND;VALUE=DATE:20220407
DTSTAMP:20260423T072810
CREATED:20231213T150646Z
LAST-MODIFIED:20231213T150646Z
UID:10000768-1649203200-1649289599@oceancityvacation.com
SUMMARY:Doo Dah Parade and Great Egg Hunt on Saturday in Ocean City
DESCRIPTION:
URL:https://oceancityvacation.com/events-calendar/doo-dah-parade-and-great-egg-hunt-on-saturday-in-ocean-city/
LOCATION:NJ
CATEGORIES:Chamber Event
END:VEVENT
BEGIN:VEVENT
DTSTART;VALUE=DATE:20220413
DTEND;VALUE=DATE:20220414
DTSTAMP:20260423T072810
CREATED:20231213T150533Z
LAST-MODIFIED:20231213T150533Z
UID:10000767-1649808000-1649894399@oceancityvacation.com
SUMMARY:Ocean City Celebrates Easter With Annual Egg Hunt\, Sunrise Service and Fashion Stroll
DESCRIPTION:
URL:https://oceancityvacation.com/events-calendar/ocean-city-celebrates-easter-with-annual-egg-hunt-sunrise-service-and-fashion-stroll/
LOCATION:NJ
CATEGORIES:Chamber Event
END:VEVENT
BEGIN:VEVENT
DTSTART;VALUE=DATE:20220427
DTEND;VALUE=DATE:20220428
DTSTAMP:20260423T072810
CREATED:20231213T150425Z
LAST-MODIFIED:20231213T150425Z
UID:10000766-1651017600-1651103999@oceancityvacation.com
SUMMARY:Sports Memorabilia Show Features Charlie Manuel and Seth Joyner
DESCRIPTION:
URL:https://oceancityvacation.com/events-calendar/sports-memorabilia-show-features-charlie-manuel-and-seth-joyner/
LOCATION:NJ
CATEGORIES:Chamber Event
END:VEVENT
BEGIN:VEVENT
DTSTART;VALUE=DATE:20220504
DTEND;VALUE=DATE:20220505
DTSTAMP:20260423T072810
CREATED:20231213T145755Z
LAST-MODIFIED:20231213T145755Z
UID:10000765-1651622400-1651708799@oceancityvacation.com
SUMMARY:Weekend Features Martin Z. Mollusk Day\, Janis Ian Concert and Modern Muscle Car Invasion
DESCRIPTION:
URL:https://oceancityvacation.com/events-calendar/weekend-features-martin-z-mollusk-day-janis-ian-concert-and-modern-muscle-car-invasion/
LOCATION:NJ
CATEGORIES:Chamber Event
END:VEVENT
BEGIN:VEVENT
DTSTART;VALUE=DATE:20220511
DTEND;VALUE=DATE:20220512
DTSTAMP:20260423T072810
CREATED:20231213T145716Z
LAST-MODIFIED:20231213T145716Z
UID:10000764-1652227200-1652313599@oceancityvacation.com
SUMMARY:Spring Block Party Set for Saturday in Ocean City
DESCRIPTION:
URL:https://oceancityvacation.com/events-calendar/spring-block-party-set-for-saturday-in-ocean-city/
LOCATION:NJ
CATEGORIES:Chamber Event
END:VEVENT
BEGIN:VEVENT
DTSTART;VALUE=DATE:20220516
DTEND;VALUE=DATE:20220517
DTSTAMP:20260423T072810
CREATED:20231213T145651Z
LAST-MODIFIED:20231213T145651Z
UID:10000763-1652659200-1652745599@oceancityvacation.com
SUMMARY:Bacon Brothers to Join 2022 Summer Concert Series
DESCRIPTION:
URL:https://oceancityvacation.com/events-calendar/bacon-brothers-to-join-2022-summer-concert-series/
LOCATION:NJ
CATEGORIES:Chamber Event
END:VEVENT
BEGIN:VEVENT
DTSTART;VALUE=DATE:20220525
DTEND;VALUE=DATE:20220526
DTSTAMP:20260423T072810
CREATED:20231213T145615Z
LAST-MODIFIED:20231213T145615Z
UID:10000762-1653436800-1653523199@oceancityvacation.com
SUMMARY:Ocean City to ‘Unlock the Ocean’ and Take a Plunge 5/25/22
DESCRIPTION:
URL:https://oceancityvacation.com/events-calendar/ocean-city-to-unlock-the-ocean-and-take-a-plunge-5-25-22/
LOCATION:NJ
CATEGORIES:Chamber Event
END:VEVENT
BEGIN:VEVENT
DTSTART;VALUE=DATE:20220601
DTEND;VALUE=DATE:20220602
DTSTAMP:20260423T072810
CREATED:20231213T145544Z
LAST-MODIFIED:20231213T145544Z
UID:10000761-1654041600-1654127999@oceancityvacation.com
SUMMARY:Ocean City Flower Show Returns to Music Pier
DESCRIPTION:
URL:https://oceancityvacation.com/events-calendar/ocean-city-flower-show-returns-to-music-pier/
LOCATION:NJ
CATEGORIES:Chamber Event
END:VEVENT
BEGIN:VEVENT
DTSTART;VALUE=DATE:20220608
DTEND;VALUE=DATE:20220609
DTSTAMP:20260423T072810
CREATED:20231213T145452Z
LAST-MODIFIED:20231213T145452Z
UID:10000760-1654646400-1654732799@oceancityvacation.com
SUMMARY:Night in Venice to Celebrate 67th Anniversary on July 23
DESCRIPTION:
URL:https://oceancityvacation.com/events-calendar/night-in-venice-to-celebrate-67th-anniversary-on-july-23/
LOCATION:NJ
CATEGORIES:Chamber Event
END:VEVENT
BEGIN:VEVENT
DTSTART;VALUE=DATE:20220615
DTEND;VALUE=DATE:20220616
DTSTAMP:20260423T072810
CREATED:20231213T145405Z
LAST-MODIFIED:20231213T145417Z
UID:10000759-1655251200-1655337599@oceancityvacation.com
SUMMARY:Health & Wellness Expo and Unity Concert Highlight Weekend 6/15/22
DESCRIPTION:
URL:https://oceancityvacation.com/events-calendar/health-wellness-expo-and-unity-concert-highlight-weekend-6-15-22/
LOCATION:NJ
CATEGORIES:Chamber Event
END:VEVENT
BEGIN:VEVENT
DTSTART;VALUE=DATE:20220622
DTEND;VALUE=DATE:20220623
DTSTAMP:20260423T072810
CREATED:20231213T145329Z
LAST-MODIFIED:20231213T145329Z
UID:10000758-1655856000-1655942399@oceancityvacation.com
SUMMARY:Legendary Swing Band to Join Ocean City Pops for Season Opener
DESCRIPTION:
URL:https://oceancityvacation.com/events-calendar/legendary-swing-band-to-join-ocean-city-pops-for-season-opener/
LOCATION:NJ
CATEGORIES:Chamber Event
END:VEVENT
BEGIN:VEVENT
DTSTART;VALUE=DATE:20220629
DTEND;VALUE=DATE:20220630
DTSTAMP:20260423T072810
CREATED:20231213T145258Z
LAST-MODIFIED:20231213T145258Z
UID:10000757-1656460800-1656547199@oceancityvacation.com
SUMMARY:Fourth of July Events in Ocean City 2022
DESCRIPTION:
URL:https://oceancityvacation.com/events-calendar/fourth-of-july-events-in-ocean-city-2022/
LOCATION:NJ
CATEGORIES:Chamber Event
END:VEVENT
BEGIN:VEVENT
DTSTART;VALUE=DATE:20220706
DTEND;VALUE=DATE:20220707
DTSTAMP:20260423T072810
CREATED:20231213T145212Z
LAST-MODIFIED:20231213T145212Z
UID:10000756-1657065600-1657151999@oceancityvacation.com
SUMMARY:Contests and Concerts Highlight Week of Family Fun
DESCRIPTION:
URL:https://oceancityvacation.com/events-calendar/contests-and-concerts-highlight-week-of-family-fun/
LOCATION:NJ
CATEGORIES:Chamber Event
END:VEVENT
BEGIN:VEVENT
DTSTART;VALUE=DATE:20220713
DTEND;VALUE=DATE:20220714
DTSTAMP:20260423T072810
CREATED:20231213T145052Z
LAST-MODIFIED:20231213T145052Z
UID:10000755-1657670400-1657756799@oceancityvacation.com
SUMMARY:Contests & Concerts Highlight Another Week of Family Fun
DESCRIPTION:
URL:https://oceancityvacation.com/events-calendar/contests-concerts-highlight-another-week-of-family-fun/
LOCATION:NJ
CATEGORIES:Chamber Event
END:VEVENT
BEGIN:VEVENT
DTSTART;VALUE=DATE:20220720
DTEND;VALUE=DATE:20220721
DTSTAMP:20260423T072810
CREATED:20231213T145002Z
LAST-MODIFIED:20231213T145002Z
UID:10000754-1658275200-1658361599@oceancityvacation.com
SUMMARY:Guide to Ocean City’s Night in Venice
DESCRIPTION:
URL:https://oceancityvacation.com/events-calendar/guide-to-ocean-citys-night-in-venice/
LOCATION:NJ
CATEGORIES:Chamber Event
END:VEVENT
BEGIN:VEVENT
DTSTART;VALUE=DATE:20220727
DTEND;VALUE=DATE:20220728
DTSTAMP:20260423T072810
CREATED:20231213T144846Z
LAST-MODIFIED:20231213T144846Z
UID:10000753-1658880000-1658966399@oceancityvacation.com
SUMMARY:The Ocean City Music Pier Features Six Shows in Five Days
DESCRIPTION:
URL:https://oceancityvacation.com/events-calendar/the-ocean-city-music-pier-features-six-shows-in-five-days/
LOCATION:NJ
CATEGORIES:Chamber Event
END:VEVENT
BEGIN:VEVENT
DTSTART;VALUE=DATE:20220803
DTEND;VALUE=DATE:20220804
DTSTAMP:20260423T072810
CREATED:20231213T144806Z
LAST-MODIFIED:20231213T144806Z
UID:10000752-1659484800-1659571199@oceancityvacation.com
SUMMARY:Art Shows Return to Ocean City Boardwalk
DESCRIPTION:
URL:https://oceancityvacation.com/events-calendar/art-shows-return-to-ocean-city-boardwalk/
LOCATION:NJ
CATEGORIES:Chamber Event
END:VEVENT
BEGIN:VEVENT
DTSTART;VALUE=DATE:20220810
DTEND;VALUE=DATE:20220811
DTSTAMP:20260423T072810
CREATED:20231213T144449Z
LAST-MODIFIED:20231213T144449Z
UID:10000751-1660089600-1660175999@oceancityvacation.com
SUMMARY:Baby Parade Rolls Down Boardwalk for 112th Time on Thursday
DESCRIPTION:
URL:https://oceancityvacation.com/events-calendar/baby-parade-rolls-down-boardwalk-for-112th-time-on-thursday/
LOCATION:NJ
CATEGORIES:Chamber Event
END:VEVENT
BEGIN:VEVENT
DTSTART;VALUE=DATE:20220817
DTEND;VALUE=DATE:20220818
DTSTAMP:20260423T072810
CREATED:20231213T144347Z
LAST-MODIFIED:20231213T144347Z
UID:10000750-1660694400-1660780799@oceancityvacation.com
SUMMARY:It’s a Pageant Week in Ocean City…for Humans and Hermit Crabs!
DESCRIPTION:
URL:https://oceancityvacation.com/events-calendar/its-a-pageant-week-in-ocean-cityfor-humans-and-hermit-crabs/
LOCATION:NJ
CATEGORIES:Chamber Event
END:VEVENT
BEGIN:VEVENT
DTSTART;VALUE=DATE:20220824
DTEND;VALUE=DATE:20220825
DTSTAMP:20260423T072810
CREATED:20231213T144306Z
LAST-MODIFIED:20231213T144306Z
UID:10000749-1661299200-1661385599@oceancityvacation.com
SUMMARY:Tickets on Sale for Lee Greenwood With the Ocean City Pops
DESCRIPTION:
URL:https://oceancityvacation.com/events-calendar/tickets-on-sale-for-lee-greenwood-with-the-ocean-city-pops/
LOCATION:NJ
CATEGORIES:Chamber Event
END:VEVENT
BEGIN:VEVENT
DTSTART;VALUE=DATE:20220831
DTEND;VALUE=DATE:20220901
DTSTAMP:20260423T072810
CREATED:20231213T144233Z
LAST-MODIFIED:20231213T144233Z
UID:10000748-1661904000-1661990399@oceancityvacation.com
SUMMARY:Holiday Weekend Features Lee Greenwood Concert and Labor Day Run
DESCRIPTION:
URL:https://oceancityvacation.com/events-calendar/holiday-weekend-features-lee-greenwood-concert-and-labor-day-run/
LOCATION:NJ
CATEGORIES:Chamber Event
END:VEVENT
BEGIN:VEVENT
DTSTART;VALUE=DATE:20220904
DTEND;VALUE=DATE:20220905
DTSTAMP:20260423T072810
CREATED:20231213T144159Z
LAST-MODIFIED:20231213T144159Z
UID:10000747-1662249600-1662335999@oceancityvacation.com
SUMMARY:Ocean City Air Shows Fly Into Town This Weekend
DESCRIPTION:
URL:https://oceancityvacation.com/events-calendar/ocean-city-air-shows-fly-into-town-this-weekend/
LOCATION:NJ
CATEGORIES:Chamber Event
END:VEVENT
BEGIN:VEVENT
DTSTART;VALUE=DATE:20220907
DTEND;VALUE=DATE:20220908
DTSTAMP:20260423T072810
CREATED:20231213T144112Z
LAST-MODIFIED:20231213T144112Z
UID:10000746-1662508800-1662595199@oceancityvacation.com
SUMMARY:Car Shows and Pops Concert Highlight Ocean City Weekend
DESCRIPTION:
URL:https://oceancityvacation.com/events-calendar/car-shows-and-pops-concert-highlight-ocean-city-weekend/
LOCATION:NJ
CATEGORIES:Chamber Event
END:VEVENT
BEGIN:VEVENT
DTSTART;VALUE=DATE:20220928
DTEND;VALUE=DATE:20220929
DTSTAMP:20260423T072810
CREATED:20231213T143856Z
LAST-MODIFIED:20231213T143910Z
UID:10000744-1664323200-1664409599@oceancityvacation.com
SUMMARY:Jeep Invasion & OC Half Marathon Set for the Weekend
DESCRIPTION:
URL:https://oceancityvacation.com/events-calendar/jeep-invasion-oc-half-marathon-set-for-the-weekend/
LOCATION:NJ
CATEGORIES:Chamber Event
END:VEVENT
BEGIN:VEVENT
DTSTART;VALUE=DATE:20221005
DTEND;VALUE=DATE:20221006
DTSTAMP:20260423T072810
CREATED:20231213T143818Z
LAST-MODIFIED:20231213T143818Z
UID:10000743-1664928000-1665014399@oceancityvacation.com
SUMMARY:2022 Fall Block Party and Fireworks Set for Saturday
DESCRIPTION:
URL:https://oceancityvacation.com/events-calendar/2022-fall-block-party-and-fireworks-set-for-saturday/
LOCATION:NJ
CATEGORIES:Chamber Event
END:VEVENT
BEGIN:VEVENT
DTSTART;VALUE=DATE:20221019
DTEND;VALUE=DATE:20221020
DTSTAMP:20260423T072810
CREATED:20231213T143749Z
LAST-MODIFIED:20231213T143749Z
UID:10000742-1666137600-1666223999@oceancityvacation.com
SUMMARY:Howl-O-Ween Parade and Dog Day Return to Boardwalk on Saturday
DESCRIPTION:
URL:https://oceancityvacation.com/events-calendar/howl-o-ween-parade-and-dog-day-return-to-boardwalk-on-saturday/
LOCATION:NJ
CATEGORIES:Chamber Event
END:VEVENT
BEGIN:VEVENT
DTSTART;VALUE=DATE:20221021
DTEND;VALUE=DATE:20221022
DTSTAMP:20260423T072810
CREATED:20231213T144025Z
LAST-MODIFIED:20231213T144025Z
UID:10000745-1666310400-1666396799@oceancityvacation.com
SUMMARY:MS City to Shore Ride Set for the Weekend
DESCRIPTION:
URL:https://oceancityvacation.com/events-calendar/ms-city-to-shore-ride-set-for-the-weekend/
LOCATION:NJ
CATEGORIES:Chamber Event
END:VEVENT
BEGIN:VEVENT
DTSTART;VALUE=DATE:20221026
DTEND;VALUE=DATE:20221027
DTSTAMP:20260423T072810
CREATED:20231213T143704Z
LAST-MODIFIED:20231213T143704Z
UID:10000741-1666742400-1666828799@oceancityvacation.com
SUMMARY:Parade\, Trick-or-Treating and More Halloween Events in Ocean City
DESCRIPTION:
URL:https://oceancityvacation.com/events-calendar/parade-trick-or-treating-and-more-halloween-events-in-ocean-city/
LOCATION:NJ
CATEGORIES:Chamber Event
END:VEVENT
BEGIN:VEVENT
DTSTART;VALUE=DATE:20221102
DTEND;VALUE=DATE:20221103
DTSTAMP:20260423T072810
CREATED:20231213T143624Z
LAST-MODIFIED:20231213T143624Z
UID:10000740-1667347200-1667433599@oceancityvacation.com
SUMMARY:Trail of Two Cities 5K and ‘Zombie Prom’ Coming Up
DESCRIPTION:
URL:https://oceancityvacation.com/events-calendar/trail-of-two-cities-5k-and-zombie-prom-coming-up/
LOCATION:NJ
CATEGORIES:Chamber Event
END:VEVENT
END:VCALENDAR