BEGIN:VCALENDAR
VERSION:2.0
PRODID:-//Ocean City NJ - ECPv6.15.14//NONSGML v1.0//EN
CALSCALE:GREGORIAN
METHOD:PUBLISH
X-ORIGINAL-URL:https://oceancityvacation.com
X-WR-CALDESC:Events for Ocean City NJ
REFRESH-INTERVAL;VALUE=DURATION:PT1H
X-Robots-Tag:noindex
X-PUBLISHED-TTL:PT1H
BEGIN:VTIMEZONE
TZID:America/New_York
BEGIN:DAYLIGHT
TZOFFSETFROM:-0500
TZOFFSETTO:-0400
TZNAME:EDT
DTSTART:20210314T070000
END:DAYLIGHT
BEGIN:STANDARD
TZOFFSETFROM:-0400
TZOFFSETTO:-0500
TZNAME:EST
DTSTART:20211107T060000
END:STANDARD
BEGIN:DAYLIGHT
TZOFFSETFROM:-0500
TZOFFSETTO:-0400
TZNAME:EDT
DTSTART:20220313T070000
END:DAYLIGHT
BEGIN:STANDARD
TZOFFSETFROM:-0400
TZOFFSETTO:-0500
TZNAME:EST
DTSTART:20221106T060000
END:STANDARD
BEGIN:DAYLIGHT
TZOFFSETFROM:-0500
TZOFFSETTO:-0400
TZNAME:EDT
DTSTART:20230312T070000
END:DAYLIGHT
BEGIN:STANDARD
TZOFFSETFROM:-0400
TZOFFSETTO:-0500
TZNAME:EST
DTSTART:20231105T060000
END:STANDARD
END:VTIMEZONE
BEGIN:VEVENT
DTSTART;VALUE=DATE:20221102
DTEND;VALUE=DATE:20221103
DTSTAMP:20260422T071657
CREATED:20231213T143624Z
LAST-MODIFIED:20231213T143624Z
UID:10000740-1667347200-1667433599@oceancityvacation.com
SUMMARY:Trail of Two Cities 5K and ‘Zombie Prom’ Coming Up
DESCRIPTION:
URL:https://oceancityvacation.com/events-calendar/trail-of-two-cities-5k-and-zombie-prom-coming-up/
LOCATION:NJ
CATEGORIES:Chamber Event
END:VEVENT
BEGIN:VEVENT
DTSTART;VALUE=DATE:20221109
DTEND;VALUE=DATE:20221110
DTSTAMP:20260422T071657
CREATED:20231213T143557Z
LAST-MODIFIED:20231213T143557Z
UID:10000739-1667952000-1668038399@oceancityvacation.com
SUMMARY:‘Winterfest by the Sea’ Kicks Off Holiday Season in Ocean City
DESCRIPTION:
URL:https://oceancityvacation.com/events-calendar/winterfest-by-the-sea-kicks-off-holiday-season-in-ocean-city/
LOCATION:NJ
CATEGORIES:Chamber Event
END:VEVENT
BEGIN:VEVENT
DTSTART;VALUE=DATE:20221116
DTEND;VALUE=DATE:20221117
DTSTAMP:20260422T071657
CREATED:20231213T143430Z
LAST-MODIFIED:20231213T143430Z
UID:10000738-1668556800-1668643199@oceancityvacation.com
SUMMARY:Downtown ‘Earlier Than the Bird’ Celebration Set for Saturday
DESCRIPTION:
URL:https://oceancityvacation.com/events-calendar/downtown-earlier-than-the-bird-celebration-set-for-saturday/
LOCATION:NJ
CATEGORIES:Chamber Event
END:VEVENT
BEGIN:VEVENT
DTSTART;VALUE=DATE:20221123
DTEND;VALUE=DATE:20221124
DTSTAMP:20260422T071657
CREATED:20231213T143338Z
LAST-MODIFIED:20231213T143338Z
UID:10000737-1669161600-1669247999@oceancityvacation.com
SUMMARY:Celebrate an Old-Fashioned Family Christmas on Black Friday
DESCRIPTION:
URL:https://oceancityvacation.com/events-calendar/celebrate-an-old-fashioned-family-christmas-on-black-friday/
LOCATION:NJ
CATEGORIES:Chamber Event
END:VEVENT
BEGIN:VEVENT
DTSTART;VALUE=DATE:20221130
DTEND;VALUE=DATE:20221201
DTSTAMP:20260422T071657
CREATED:20231213T143302Z
LAST-MODIFIED:20231213T143302Z
UID:10000736-1669766400-1669852799@oceancityvacation.com
SUMMARY:OC Christmas Parade Returns on Friday Evening
DESCRIPTION:
URL:https://oceancityvacation.com/events-calendar/oc-christmas-parade-returns-on-friday-evening/
LOCATION:NJ
CATEGORIES:Chamber Event
END:VEVENT
END:VCALENDAR