BEGIN:VCALENDAR
VERSION:2.0
PRODID:-//Ocean City NJ - ECPv6.15.14//NONSGML v1.0//EN
CALSCALE:GREGORIAN
METHOD:PUBLISH
X-WR-CALNAME:Ocean City NJ
X-ORIGINAL-URL:https://oceancityvacation.com
X-WR-CALDESC:Events for Ocean City NJ
REFRESH-INTERVAL;VALUE=DURATION:PT1H
X-Robots-Tag:noindex
X-PUBLISHED-TTL:PT1H
BEGIN:VTIMEZONE
TZID:America/New_York
BEGIN:DAYLIGHT
TZOFFSETFROM:-0500
TZOFFSETTO:-0400
TZNAME:EDT
DTSTART:20240310T070000
END:DAYLIGHT
BEGIN:STANDARD
TZOFFSETFROM:-0400
TZOFFSETTO:-0500
TZNAME:EST
DTSTART:20241103T060000
END:STANDARD
BEGIN:DAYLIGHT
TZOFFSETFROM:-0500
TZOFFSETTO:-0400
TZNAME:EDT
DTSTART:20250309T070000
END:DAYLIGHT
BEGIN:STANDARD
TZOFFSETFROM:-0400
TZOFFSETTO:-0500
TZNAME:EST
DTSTART:20251102T060000
END:STANDARD
BEGIN:DAYLIGHT
TZOFFSETFROM:-0500
TZOFFSETTO:-0400
TZNAME:EDT
DTSTART:20260308T070000
END:DAYLIGHT
BEGIN:STANDARD
TZOFFSETFROM:-0400
TZOFFSETTO:-0500
TZNAME:EST
DTSTART:20261101T060000
END:STANDARD
END:VTIMEZONE
BEGIN:VEVENT
DTSTART;TZID=America/New_York:20250703T090000
DTEND;TZID=America/New_York:20250703T113000
DTSTAMP:20260420T082743
CREATED:20241031T154338Z
LAST-MODIFIED:20241031T154354Z
UID:10001230-1751533200-1751542200@oceancityvacation.com
SUMMARY:Sand Sculpting Contest
DESCRIPTION:Sand Sculpting Contest Open to kids\, teens\, adults and families! Registration is free and begins at 9 a.m. at the 6th St. Beach. Judging takes place by 11 a.m.
URL:https://oceancityvacation.com/events-calendar/sand-sculpting-contest-3/2025-07-03/
LOCATION:7th St. Beach\, 700 Boardwalk\, Ocean City\, NJ\, 08226\, United States
CATEGORIES:Events Calendar
ATTACH;FMTTYPE=image/jpeg:https://oceancityvacation.com/wp-content/uploads/2023/01/sandsculpting-scaled.jpg
GEO:39.2770244;-74.566192
X-APPLE-STRUCTURED-LOCATION;VALUE=URI;X-ADDRESS=7th St. Beach 700 Boardwalk Ocean City NJ 08226 United States;X-APPLE-RADIUS=500;X-TITLE=700 Boardwalk:geo:-74.566192,39.2770244
END:VEVENT
BEGIN:VEVENT
DTSTART;TZID=America/New_York:20250703T100000
DTEND;TZID=America/New_York:20250703T130000
DTSTAMP:20260420T082743
CREATED:20241031T153648Z
LAST-MODIFIED:20241101T135036Z
UID:10001182-1751536800-1751547600@oceancityvacation.com
SUMMARY:Market Days
DESCRIPTION:Market Days 10 a.m. to 1 p.m. – Asbury Avenue. Entertainment\, face painters\, balloon sculptors.
URL:https://oceancityvacation.com/events-calendar/market-days-3/2025-07-03/
LOCATION:Asbury Ave\, 901 Asbury Avenue\, Ocean City\, NJ\, 08226\, United States
CATEGORIES:Events Calendar
ATTACH;FMTTYPE=image/jpeg:https://oceancityvacation.com/wp-content/uploads/2023/01/market-day.jpg
GEO:39.27853;-74.57623
X-APPLE-STRUCTURED-LOCATION;VALUE=URI;X-ADDRESS=Asbury Ave 901 Asbury Avenue Ocean City NJ 08226 United States;X-APPLE-RADIUS=500;X-TITLE=901 Asbury Avenue:geo:-74.57623,39.27853
END:VEVENT
BEGIN:VEVENT
DTSTART;TZID=America/New_York:20250703T190000
DTEND;TZID=America/New_York:20250703T210000
DTSTAMP:20260420T082743
CREATED:20241101T133118Z
LAST-MODIFIED:20250318T145301Z
UID:10001378-1751569200-1751576400@oceancityvacation.com
SUMMARY:Mummers Nights
DESCRIPTION:Mummers Nights – Strutting 7 p.m. to 9 p.m. on the boardwalk\, 6th Street – 14th Street
URL:https://oceancityvacation.com/events-calendar/mummers-nights-2/2025-07-03/
LOCATION:Ocean City Boardwalk\, 825 Boardwalk\, Ocean City\, NJ\, 08226\, United States
CATEGORIES:Events Calendar
ATTACH;FMTTYPE=image/jpeg:https://oceancityvacation.com/wp-content/uploads/2024/11/MUMMER.jpg
GEO:39.2751976;-74.5695462
X-APPLE-STRUCTURED-LOCATION;VALUE=URI;X-ADDRESS=Ocean City Boardwalk 825 Boardwalk Ocean City NJ 08226 United States;X-APPLE-RADIUS=500;X-TITLE=825 Boardwalk:geo:-74.5695462,39.2751976
END:VEVENT
BEGIN:VEVENT
DTSTART;TZID=America/New_York:20250703T200000
DTEND;TZID=America/New_York:20250703T213000
DTSTAMP:20260420T082743
CREATED:20241031T154529Z
LAST-MODIFIED:20241104T195429Z
UID:10001232-1751572800-1751578200@oceancityvacation.com
SUMMARY:Ocean City Pops FREE Outdoor Concert
DESCRIPTION:Ocean City Pops FREE Outdoor Concert The Ocean City Pops will perform a free outdoor concert at 8:00 p.m. July 3 and July 4 at Carey Stadium\, 6th & Boardwalk. Our legendary local orchestra will perform patriotic classics and audience favorites in honor of our nation’s birthday. Bring a beach chair or blanket to sit on the field\, and there will be seating available in the bleachers. 
URL:https://oceancityvacation.com/events-calendar/ocean-city-pops-free-outdoor-concert-4/2025-07-03/
LOCATION:Carey Stadium\, 500 Boardwalk\, Ocean City\, NJ\, 08226\, United States
CATEGORIES:Events Calendar
ATTACH;FMTTYPE=image/jpeg:https://oceancityvacation.com/wp-content/uploads/2023/01/1.4-Ocean-City-Pops-Holiday-Concert-scaled.jpg
GEO:39.2785411;-74.5652712
X-APPLE-STRUCTURED-LOCATION;VALUE=URI;X-ADDRESS=Carey Stadium 500 Boardwalk Ocean City NJ 08226 United States;X-APPLE-RADIUS=500;X-TITLE=500 Boardwalk:geo:-74.5652712,39.2785411
END:VEVENT
END:VCALENDAR