BEGIN:VCALENDAR
VERSION:2.0
PRODID:-//Ocean City NJ - ECPv6.15.14//NONSGML v1.0//EN
CALSCALE:GREGORIAN
METHOD:PUBLISH
X-WR-CALNAME:Ocean City NJ
X-ORIGINAL-URL:https://oceancityvacation.com
X-WR-CALDESC:Events for Ocean City NJ
REFRESH-INTERVAL;VALUE=DURATION:PT1H
X-Robots-Tag:noindex
X-PUBLISHED-TTL:PT1H
BEGIN:VTIMEZONE
TZID:America/New_York
BEGIN:DAYLIGHT
TZOFFSETFROM:-0500
TZOFFSETTO:-0400
TZNAME:EDT
DTSTART:20220313T070000
END:DAYLIGHT
BEGIN:STANDARD
TZOFFSETFROM:-0400
TZOFFSETTO:-0500
TZNAME:EST
DTSTART:20221106T060000
END:STANDARD
BEGIN:DAYLIGHT
TZOFFSETFROM:-0500
TZOFFSETTO:-0400
TZNAME:EDT
DTSTART:20230312T070000
END:DAYLIGHT
BEGIN:STANDARD
TZOFFSETFROM:-0400
TZOFFSETTO:-0500
TZNAME:EST
DTSTART:20231105T060000
END:STANDARD
BEGIN:DAYLIGHT
TZOFFSETFROM:-0500
TZOFFSETTO:-0400
TZNAME:EDT
DTSTART:20240310T070000
END:DAYLIGHT
BEGIN:STANDARD
TZOFFSETFROM:-0400
TZOFFSETTO:-0500
TZNAME:EST
DTSTART:20241103T060000
END:STANDARD
END:VTIMEZONE
BEGIN:VEVENT
DTSTART;TZID=America/New_York:20230903T193000
DTEND;TZID=America/New_York:20230903T213000
DTSTAMP:20260424T195652
CREATED:20230825T142537Z
LAST-MODIFIED:20231213T142355Z
UID:10000337-1693769400-1693776600@oceancityvacation.com
SUMMARY:John Williams Strikes Back Presented by the OC Pops
DESCRIPTION:John Williams Strikes Back Presented by the OC Pops Features music from the legendary composer. Over a span of eight decades\, the movie music of John Williams has touched the lives of every living generation. Having worked with Williams\, Maestro Vince Lee has become one of the premier interpreters of his music and is thrilled to continue this annual celebration of his music. Expect to hear big hits (“Star Wars\,” “Indiana Jones”)\, family favorites (“Harry Potter\,” “ET”)\, along with the Ocean City debut of the stunning music from the movie “War Horse.” Ocean City Music Pier\, 7:30 p.m.  For tickets visit www.oceancityvacation.com/what-to-do/box-office/ 
URL:https://oceancityvacation.com/events-calendar/john-williams-strikes-back-presented-by-the-oc-pops/
LOCATION:Music Pier\, 825 Boardwalk\, Ocean City\, NJ\, 08226\, United States
CATEGORIES:Events Calendar
ATTACH;FMTTYPE=image/jpeg:https://oceancityvacation.com/wp-content/uploads/2023/08/9-3-John-Williams.jpg
GEO:39.2751976;-74.5695462
X-APPLE-STRUCTURED-LOCATION;VALUE=URI;X-ADDRESS=Music Pier 825 Boardwalk Ocean City NJ 08226 United States;X-APPLE-RADIUS=500;X-TITLE=825 Boardwalk:geo:-74.5695462,39.2751976
END:VEVENT
END:VCALENDAR