BEGIN:VCALENDAR
VERSION:2.0
PRODID:-//Ocean City NJ - ECPv6.15.14//NONSGML v1.0//EN
CALSCALE:GREGORIAN
METHOD:PUBLISH
X-WR-CALNAME:Ocean City NJ
X-ORIGINAL-URL:https://oceancityvacation.com
X-WR-CALDESC:Events for Ocean City NJ
REFRESH-INTERVAL;VALUE=DURATION:PT1H
X-Robots-Tag:noindex
X-PUBLISHED-TTL:PT1H
BEGIN:VTIMEZONE
TZID:America/New_York
BEGIN:DAYLIGHT
TZOFFSETFROM:-0500
TZOFFSETTO:-0400
TZNAME:EDT
DTSTART:20220313T070000
END:DAYLIGHT
BEGIN:STANDARD
TZOFFSETFROM:-0400
TZOFFSETTO:-0500
TZNAME:EST
DTSTART:20221106T060000
END:STANDARD
BEGIN:DAYLIGHT
TZOFFSETFROM:-0500
TZOFFSETTO:-0400
TZNAME:EDT
DTSTART:20230312T070000
END:DAYLIGHT
BEGIN:STANDARD
TZOFFSETFROM:-0400
TZOFFSETTO:-0500
TZNAME:EST
DTSTART:20231105T060000
END:STANDARD
BEGIN:DAYLIGHT
TZOFFSETFROM:-0500
TZOFFSETTO:-0400
TZNAME:EDT
DTSTART:20240310T070000
END:DAYLIGHT
BEGIN:STANDARD
TZOFFSETFROM:-0400
TZOFFSETTO:-0500
TZNAME:EST
DTSTART:20241103T060000
END:STANDARD
END:VTIMEZONE
BEGIN:VEVENT
DTSTART;TZID=America/New_York:20230831T100000
DTEND;TZID=America/New_York:20230831T130000
DTSTAMP:20260424T195553
CREATED:20230129T155346Z
LAST-MODIFIED:20231213T142458Z
UID:10000155-1693476000-1693486800@oceancityvacation.com
SUMMARY:Market Days
DESCRIPTION:Market Days 10 a.m. to 1 p.m. – Asbury Avenue. Entertainment\, face painters\, balloon sculptors.
URL:https://oceancityvacation.com/events-calendar/market-days/2023-08-31/
LOCATION:Asbury Ave\, 901 Asbury Avenue\, Ocean City\, NJ\, 08226\, United States
CATEGORIES:Events Calendar
ATTACH;FMTTYPE=image/jpeg:https://oceancityvacation.com/wp-content/uploads/2023/01/market-day.jpg
GEO:39.27853;-74.57623
X-APPLE-STRUCTURED-LOCATION;VALUE=URI;X-ADDRESS=Asbury Ave 901 Asbury Avenue Ocean City NJ 08226 United States;X-APPLE-RADIUS=500;X-TITLE=901 Asbury Avenue:geo:-74.57623,39.27853
END:VEVENT
BEGIN:VEVENT
DTSTART;TZID=America/New_York:20230831T190000
DTEND;TZID=America/New_York:20230831T210000
DTSTAMP:20260424T195553
CREATED:20230331T133346Z
LAST-MODIFIED:20231213T142355Z
UID:10000261-1693508400-1693515600@oceancityvacation.com
SUMMARY:The Wailers
DESCRIPTION:The concert begins at 7 p.m. at the Ocean City Music Pier. Tickets available at Ticketmaster. Produced by BRE Presents.
URL:https://oceancityvacation.com/events-calendar/the-wailers/
LOCATION:Music Pier\, 825 Boardwalk\, Ocean City\, NJ\, 08226\, United States
CATEGORIES:Events Calendar
ATTACH;FMTTYPE=image/jpeg:https://oceancityvacation.com/wp-content/uploads/2023/03/the-wailers-2023.jpg
GEO:39.2751976;-74.5695462
X-APPLE-STRUCTURED-LOCATION;VALUE=URI;X-ADDRESS=Music Pier 825 Boardwalk Ocean City NJ 08226 United States;X-APPLE-RADIUS=500;X-TITLE=825 Boardwalk:geo:-74.5695462,39.2751976
END:VEVENT
BEGIN:VEVENT
DTSTART;TZID=America/New_York:20230831T190000
DTEND;TZID=America/New_York:20230831T210000
DTSTAMP:20260424T195553
CREATED:20240624T184020Z
LAST-MODIFIED:20240624T184021Z
UID:10000164-1693508400-1693515600@oceancityvacation.com
SUMMARY:Family Nights
DESCRIPTION:Family Nights Entertainment on the boardwalk 7:00 p.m. to 9:00 p.m. between 8th Street – 12th Street.
URL:https://oceancityvacation.com/events-calendar/family-nights-5/
LOCATION:Ocean City Boardwalk\, 825 Boardwalk\, Ocean City\, NJ\, 08226\, United States
CATEGORIES:Events Calendar
ATTACH;FMTTYPE=image/jpeg:https://oceancityvacation.com/wp-content/uploads/2023/01/1.4-Ocean-City-Boardwalk-Family-Nights-Mummers.jpg
GEO:39.2751976;-74.5695462
X-APPLE-STRUCTURED-LOCATION;VALUE=URI;X-ADDRESS=Ocean City Boardwalk 825 Boardwalk Ocean City NJ 08226 United States;X-APPLE-RADIUS=500;X-TITLE=825 Boardwalk:geo:-74.5695462,39.2751976
END:VEVENT
END:VCALENDAR