BEGIN:VCALENDAR
VERSION:2.0
PRODID:-//Ocean City NJ - ECPv6.15.14//NONSGML v1.0//EN
CALSCALE:GREGORIAN
METHOD:PUBLISH
X-WR-CALNAME:Ocean City NJ
X-ORIGINAL-URL:https://oceancityvacation.com
X-WR-CALDESC:Events for Ocean City NJ
REFRESH-INTERVAL;VALUE=DURATION:PT1H
X-Robots-Tag:noindex
X-PUBLISHED-TTL:PT1H
BEGIN:VTIMEZONE
TZID:America/New_York
BEGIN:DAYLIGHT
TZOFFSETFROM:-0500
TZOFFSETTO:-0400
TZNAME:EDT
DTSTART:20220313T070000
END:DAYLIGHT
BEGIN:STANDARD
TZOFFSETFROM:-0400
TZOFFSETTO:-0500
TZNAME:EST
DTSTART:20221106T060000
END:STANDARD
BEGIN:DAYLIGHT
TZOFFSETFROM:-0500
TZOFFSETTO:-0400
TZNAME:EDT
DTSTART:20230312T070000
END:DAYLIGHT
BEGIN:STANDARD
TZOFFSETFROM:-0400
TZOFFSETTO:-0500
TZNAME:EST
DTSTART:20231105T060000
END:STANDARD
BEGIN:DAYLIGHT
TZOFFSETFROM:-0500
TZOFFSETTO:-0400
TZNAME:EDT
DTSTART:20240310T070000
END:DAYLIGHT
BEGIN:STANDARD
TZOFFSETFROM:-0400
TZOFFSETTO:-0500
TZNAME:EST
DTSTART:20241103T060000
END:STANDARD
END:VTIMEZONE
BEGIN:VEVENT
DTSTART;TZID=America/New_York:20230830T080000
DTEND;TZID=America/New_York:20230830T080000
DTSTAMP:20260424T195553
CREATED:20230129T065900Z
LAST-MODIFIED:20231213T142511Z
UID:10000322-1693382400-1693382400@oceancityvacation.com
SUMMARY:Farmers Market
DESCRIPTION:Farmers Market – Tabernacle Grounds 8 a.m. to 1 p.m. Crafters in the street at 6th & Asbury Ave.
URL:https://oceancityvacation.com/events-calendar/farmers-market-2023-09-13/2023-08-30/
LOCATION:Ocean City Tabernacle\, 6th & Asbury Ave.\, Ocean City\, NJ
CATEGORIES:Events Calendar
ATTACH;FMTTYPE=image/jpeg:https://oceancityvacation.com/wp-content/uploads/2023/01/1.4-farmers-market-daily-scaled.jpg
GEO:39.256744;-74.605108
X-APPLE-STRUCTURED-LOCATION;VALUE=URI;X-ADDRESS=Ocean City Tabernacle 6th & Asbury Ave. Ocean City NJ;X-APPLE-RADIUS=500;X-TITLE=6th & Asbury Ave.:geo:-74.605108,39.256744
END:VEVENT
BEGIN:VEVENT
DTSTART;TZID=America/New_York:20230830T080000
DTEND;TZID=America/New_York:20230830T080000
DTSTAMP:20260424T195553
CREATED:20231027T180305Z
LAST-MODIFIED:20231213T142253Z
UID:10000406-1693382400-1693382400@oceancityvacation.com
SUMMARY:Farmers Market
DESCRIPTION:Farmers Market – Tabernacle Grounds 8 a.m. to 1 p.m. Crafters in the street at 6th & Asbury Ave.
URL:https://oceancityvacation.com/events-calendar/farmers-market/2023-08-30/
LOCATION:Ocean City Tabernacle\, 6th & Asbury Ave.\, Ocean City\, NJ
CATEGORIES:Events Calendar
ATTACH;FMTTYPE=image/jpeg:https://oceancityvacation.com/wp-content/uploads/2023/01/1.4-farmers-market-daily-scaled.jpg
GEO:39.256744;-74.605108
X-APPLE-STRUCTURED-LOCATION;VALUE=URI;X-ADDRESS=Ocean City Tabernacle 6th & Asbury Ave. Ocean City NJ;X-APPLE-RADIUS=500;X-TITLE=6th & Asbury Ave.:geo:-74.605108,39.256744
END:VEVENT
BEGIN:VEVENT
DTSTART;TZID=America/New_York:20230830T080000
DTEND;TZID=America/New_York:20230830T090000
DTSTAMP:20260424T195553
CREATED:20230129T155346Z
LAST-MODIFIED:20231213T142501Z
UID:10000146-1693382400-1693386000@oceancityvacation.com
SUMMARY:Beach Exercise (Pilates)
DESCRIPTION:Beach Exercise (Pilates) on 6th Street Beach Volleyball Courts. 8 a.m. to 9 a.m. Free! Bring a towel & a friend.  Hosted by the Ocean City Aquatic & Fitness Center.  For more information call (609) 398-6900.
URL:https://oceancityvacation.com/events-calendar/beach-exercise-pilates/2023-08-30/
LOCATION:7th St. Beach\, 700 Boardwalk\, Ocean City\, NJ\, 08226\, United States
CATEGORIES:Events Calendar
ATTACH;FMTTYPE=image/jpeg:https://oceancityvacation.com/wp-content/uploads/2023/01/1.4-yoga-1.jpg
GEO:39.2770244;-74.566192
X-APPLE-STRUCTURED-LOCATION;VALUE=URI;X-ADDRESS=7th St. Beach 700 Boardwalk Ocean City NJ 08226 United States;X-APPLE-RADIUS=500;X-TITLE=700 Boardwalk:geo:-74.566192,39.2770244
END:VEVENT
BEGIN:VEVENT
DTSTART;TZID=America/New_York:20230830T183000
DTEND;TZID=America/New_York:20230830T193000
DTSTAMP:20260424T195553
CREATED:20230129T155346Z
LAST-MODIFIED:20251128T174020Z
UID:10000137-1693420200-1693423800@oceancityvacation.com
SUMMARY:Beach Walks
DESCRIPTION:Beach Walks – 59th St. & Central Ave. (Entrance to Corson’s Park) Wednesdays 6:30 p.m.
URL:https://oceancityvacation.com/events-calendar/beach-walks-wednesdays/2023-08-30/
LOCATION:59th Street Beach
CATEGORIES:Events Calendar
ATTACH;FMTTYPE=image/jpeg:https://oceancityvacation.com/wp-content/uploads/2023/01/1.4-ocean-city-beach-walkway-scaled.jpg
GEO:39.219781457795;-74.6394003595
END:VEVENT
BEGIN:VEVENT
DTSTART;TZID=America/New_York:20230830T193000
DTEND;TZID=America/New_York:20230830T213000
DTSTAMP:20260424T195553
CREATED:20230825T143254Z
LAST-MODIFIED:20231213T142355Z
UID:10000341-1693423800-1693431000@oceancityvacation.com
SUMMARY:The Great American Songbook Presented by the OC Pops
DESCRIPTION:The Great American Songbook Presented by the OC Pops Features Emily Margevich performing favorites from Cole Porter\, George Gershwin\, Irving Berlin and many more. Referred to as the “star of the 2022 Ocean City Pops season” by Maestro Vince Lee (due to her three separate appearances\, including one on short notice)\, Margevich returns as a headliner. She stunned audiences in 2022 with her remarkable versatility\, singing opera\, Broadway\, and popular tunes with equal vigor and expertise\, while also having everyone in stitches with her humor and panache. Ocean City Music Pier\, 7:30 p.m.  For tickets visit www.oceancityvacation.com/what-to-do/box-office/ 
URL:https://oceancityvacation.com/events-calendar/the-great-american-songbook-presented-by-the-oc-pops/
LOCATION:Music Pier\, 825 Boardwalk\, Ocean City\, NJ\, 08226\, United States
CATEGORIES:Events Calendar
ATTACH;FMTTYPE=image/jpeg:https://oceancityvacation.com/wp-content/uploads/2023/08/8-30-Great-American-Songbook.jpg
GEO:39.2751976;-74.5695462
X-APPLE-STRUCTURED-LOCATION;VALUE=URI;X-ADDRESS=Music Pier 825 Boardwalk Ocean City NJ 08226 United States;X-APPLE-RADIUS=500;X-TITLE=825 Boardwalk:geo:-74.5695462,39.2751976
END:VEVENT
END:VCALENDAR